{"text_format":"1","workbook":"xlsx","n_sheets":37,"sheets":["A. Erb","A. Morello","S. Kocher","P. Friedli","T. Abrecht","S. Wälti","H. Bürgi","D. Jenni","E .Rüfli","M. Rüfli","H.J. Schneider","H. Stuber","R. Eschmann","S. Morello","M. Käppeli","C. Erb","J. Zbinden","H. Wanner","R. Liechti","R. Friedelance","M. Huggler","P. Abrecht","O. Tellenbach","A. Stähli","A. Kunz","H. Lüthi","F. Brügger","R. Krähenbühl","Ch. Liechti","G. Steiner","D. Wyss","B. Gatschet","Zusammenstellung Daten","Rangliste Glück","Rangliste Auszahlung","Rangliste Sau","Gutschein"],"not_rendered":{"charts":0,"images":0,"macros":1,"external_links":0,"defined_names":23,"comments":0,"pivot_tables":0},"unopened":[],"bounds":{"document_bytes":16777216,"sheet_cells":100000,"rows_first":2000,"rows_last":500,"rows_between":2000,"halvings":0,"cell_chars":16384,"cell_head_chars":4096},"cells_cut":0,"cells_raw":0,"read":"whole","date_system":"1900"}

{"sheet":"A. Erb","index":0,"n_rows":56,"n_cols":18,"rows_kept":56,"cut":false,"hidden":false,"merged":[]}
["Name"]
["Erb Alex"]
["Gutschein","Migros"]
["Waffe",90]
[null,"Sau Stich",null,null,null,null,null,null,null,null,null,null,null,"Glück",null,null,"Auszahlung"]
[null,"Nr. Passe","1. Schuss","2. Schuss","Total","Rang",null,"Besten Passen",null,"Besten Einzel",null,"Total Passen und Einzel"]
[null,1,97,94,{"$f":"SUM($C7:$D7)","v":191},{"$f":"RANK(E7,$E$7:$E$56,0)","v":1},null,{"$f":"LARGE(E7:E56,1)","v":191},null,{"$f":"IF($B$4=90,LARGE(C10:D56,1),IF($B$4=\"St\",LARGE(C11:D56,1),IF($B$4=57,LARGE(C9:D56,1))))","v":91}]
[null,2,89,93,{"$f":"SUM($C8:$D8)","v":182},{"$f":"RANK(E8,$E$7:$E$56,0)","v":2},null,{"$f":"LARGE(E7:E56,2)","v":182},null,{"$f":"IF($B$4=90,LARGE(C10:D56,2),IF($B$4=\"St\",LARGE(C11:D56,2),IF($B$4=57,LARGE(C9:D56,2))))","v":90},null,{"$f":"IF($B$4=57,SUM(H7:H8,J7:J12),IF($B$4=90,SUM(H7:H9,J7:J10),IF($B$4=\"St\",SUM(H7:H10,J7:J8))))","v":914},null,"Ansage",253,null,"1. Schuss",10]
[null,3,88,93,{"$f":"SUM($C9:$D9)","v":181},{"$f":"RANK(E9,$E$7:$E$56,0)","v":3},null,{"$f":"LARGE(E7:E56,3)","v":181},null,{"$f":"IF($B$4=90,LARGE($C$10:$D$56,3),IF($B$4=\"St\",LARGE($C$11:$D$56,3),IF($B$4=57,LARGE($C$9:$D$56,3))))","v":90},null,null,null,"Geschossen",280,null,"2. Schuss",8]
[null,4,89,87,{"$f":"SUM($C10:$D10)","v":176},{"$f":"RANK(E10,$E$7:$E$56,0)","v":4},null,{"$f":"LARGE(E7:E56,4)","v":176},null,{"$f":"IF($B$4=90,LARGE(C10:D56,4),IF($B$4=\"St\",LARGE(C11:D56,4),IF($B$4=57,LARGE(C9:D56,4))))","v":89},null,null,null,"Differenz",{"$f":"IF(O8>0,IF(O8>O9,O8-O9,O9-O8),\"\")","v":27},null,"3. Schuss",10]
[null,5,87,87,{"$f":"SUM($C11:$D11)","v":174},{"$f":"RANK(E11,$E$7:$E$56,0)","v":5},null,null,null,{"$f":"IF($B$4=90,LARGE(C10:D56,5),IF($B$4=\"St\",LARGE(C11:D56,5),IF($B$4=57,LARGE(C9:D56,5))))","v":88},null,null,null,null,null,null,"4. Schuss",8]
[null,6,81,91,{"$f":"SUM($C12:$D12)","v":172},{"$f":"RANK(E12,$E$7:$E$56,0)","v":6},null,null,null,{"$f":"IF($B$4=90,LARGE(C10:D56,6),IF($B$4=\"St\",LARGE(C11:D56,6),IF($B$4=57,LARGE(C9:D56,6))))","v":88},null,null,null,null,null,null,"5. Schuss",8]
[null,7,81,88,{"$f":"SUM($C13:$D13)","v":169},{"$f":"RANK(E13,$E$7:$E$56,0)","v":7},null,null,null,{"$f":"IF($B$4=90,LARGE(C11:D57,7),IF($B$4=\"St\",LARGE(C12:D57,7),IF($B$4=57,LARGE(C10:D57,7))))","v":88},null,null,null,null,null,null,"6. Schuss",9]
[null,8,78,90,{"$f":"SUM($C14:$D14)","v":168},{"$f":"RANK(E14,$E$7:$E$56,0)","v":8},null,null,null,{"$f":"IF($B$4=90,LARGE(C12:D58,8),IF($B$4=\"St\",LARGE(C13:D58,8),IF($B$4=57,LARGE(C11:D58,8))))","v":87},null,null,null,null,null,null,"7. Schuss",9]
[null,9,82,82,{"$f":"SUM($C15:$D15)","v":164},{"$f":"RANK(E15,$E$7:$E$56,0)","v":9},null,null,null,{"$f":"IF($B$4=90,LARGE(C13:D59,9),IF($B$4=\"St\",LARGE(C14:D59,9),IF($B$4=57,LARGE(C12:D59,9))))","v":82},null,null,null,null,null,null,"8. Schuss",10]
[null,10,75,88,{"$f":"SUM($C16:$D16)","v":163},{"$f":"RANK(E16,$E$7:$E$56,0)","v":10},null,null,null,null,null,null,null,null,null,null,"9. Schuss",8]
[null,11,90,73,{"$f":"SUM($C17:$D17)","v":163},{"$f":"RANK(E17,$E$7:$E$56,0)","v":10},null,null,null,null,null,null,null,null,null,null,"10. Schuss",10]
[null,12,88,74,{"$f":"SUM($C18:$D18)","v":162},{"$f":"RANK(E18,$E$7:$E$56,0)","v":12},null,null,null,null,null,null,null,null,null,null,"Total",{"$f":"SUM(R8:R17)","v":90}]
[null,13,74,87,{"$f":"SUM($C19:$D19)","v":161},{"$f":"RANK(E19,$E$7:$E$56,0)","v":13}]
[null,14,88,70,{"$f":"SUM($C20:$D20)","v":158},{"$f":"RANK(E20,$E$7:$E$56,0)","v":14}]
[null,15,84,74,{"$f":"SUM($C21:$D21)","v":158},{"$f":"RANK(E21,$E$7:$E$56,0)","v":14}]
[null,16,73,82,{"$f":"SUM($C22:$D22)","v":155},{"$f":"RANK(E22,$E$7:$E$56,0)","v":16}]
[null,17,78,74,{"$f":"SUM($C23:$D23)","v":152},{"$f":"RANK(E23,$E$7:$E$56,0)","v":17}]
[null,18,76,72,{"$f":"SUM($C24:$D24)","v":148},{"$f":"RANK(E24,$E$7:$E$56,0)","v":18}]
[null,19,78,69,{"$f":"SUM($C25:$D25)","v":147},{"$f":"RANK(E25,$E$7:$E$56,0)","v":19}]
[null,20,65,69,{"$f":"SUM($C26:$D26)","v":134},{"$f":"RANK(E26,$E$7:$E$56,0)","v":20}]
[null,21,null,null,{"$f":"SUM($C27:$D27)","v":0},{"$f":"RANK(E27,$E$7:$E$56,0)","v":21}]
[null,22,null,null,{"$f":"SUM($C28:$D28)","v":0},{"$f":"RANK(E28,$E$7:$E$56,0)","v":21}]
[null,23,null,null,{"$f":"SUM($C29:$D29)","v":0},{"$f":"RANK(E29,$E$7:$E$56,0)","v":21}]
[null,24,null,null,{"$f":"SUM($C30:$D30)","v":0},{"$f":"RANK(E30,$E$7:$E$56,0)","v":21}]
[null,25,null,null,{"$f":"SUM($C31:$D31)","v":0},{"$f":"RANK(E31,$E$7:$E$56,0)","v":21}]
[null,26,null,null,{"$f":"SUM($C32:$D32)","v":0},{"$f":"RANK(E32,$E$7:$E$56,0)","v":21}]
[null,27,null,null,{"$f":"SUM($C33:$D33)","v":0},{"$f":"RANK(E33,$E$7:$E$56,0)","v":21}]
[null,28,null,null,{"$f":"SUM($C34:$D34)","v":0},{"$f":"RANK(E34,$E$7:$E$56,0)","v":21}]
[null,29,null,null,{"$f":"SUM($C35:$D35)","v":0},{"$f":"RANK(E35,$E$7:$E$56,0)","v":21}]
[null,30,null,null,{"$f":"SUM($C36:$D36)","v":0},{"$f":"RANK(E36,$E$7:$E$56,0)","v":21}]
[null,31,null,null,{"$f":"SUM($C37:$D37)","v":0},{"$f":"RANK(E37,$E$7:$E$56,0)","v":21}]
[null,32,null,null,{"$f":"SUM($C38:$D38)","v":0},{"$f":"RANK(E38,$E$7:$E$56,0)","v":21}]
[null,33,null,null,{"$f":"SUM($C39:$D39)","v":0},{"$f":"RANK(E39,$E$7:$E$56,0)","v":21}]
[null,34,null,null,{"$f":"SUM($C40:$D40)","v":0},{"$f":"RANK(E40,$E$7:$E$56,0)","v":21}]
[null,35,null,null,{"$f":"SUM($C41:$D41)","v":0},{"$f":"RANK(E41,$E$7:$E$56,0)","v":21}]
[null,36,null,null,{"$f":"SUM($C42:$D42)","v":0},{"$f":"RANK(E42,$E$7:$E$56,0)","v":21}]
[null,37,null,null,{"$f":"SUM($C43:$D43)","v":0},{"$f":"RANK(E43,$E$7:$E$56,0)","v":21}]
[null,38,null,null,{"$f":"SUM($C44:$D44)","v":0},{"$f":"RANK(E44,$E$7:$E$56,0)","v":21}]
[null,39,null,null,{"$f":"SUM($C45:$D45)","v":0},{"$f":"RANK(E45,$E$7:$E$56,0)","v":21}]
[null,40,null,null,{"$f":"SUM($C46:$D46)","v":0},{"$f":"RANK(E46,$E$7:$E$56,0)","v":21}]
[null,41,null,null,{"$f":"SUM($C47:$D47)","v":0},{"$f":"RANK(E47,$E$7:$E$56,0)","v":21}]
[null,42,null,null,{"$f":"SUM($C48:$D48)","v":0},{"$f":"RANK(E48,$E$7:$E$56,0)","v":21}]
[null,43,null,null,{"$f":"SUM($C49:$D49)","v":0},{"$f":"RANK(E49,$E$7:$E$56,0)","v":21}]
[null,44,null,null,{"$f":"SUM($C50:$D50)","v":0},{"$f":"RANK(E50,$E$7:$E$56,0)","v":21}]
[null,45,null,null,{"$f":"SUM($C51:$D51)","v":0},{"$f":"RANK(E51,$E$7:$E$56,0)","v":21}]
[null,46,null,null,{"$f":"SUM($C52:$D52)","v":0},{"$f":"RANK(E52,$E$7:$E$56,0)","v":21}]
[null,47,null,null,{"$f":"SUM($C53:$D53)","v":0},{"$f":"RANK(E53,$E$7:$E$56,0)","v":21}]
[null,48,null,null,{"$f":"SUM($C54:$D54)","v":0},{"$f":"RANK(E54,$E$7:$E$56,0)","v":21}]
[null,49,null,null,{"$f":"SUM($C55:$D55)","v":0},{"$f":"RANK(E55,$E$7:$E$56,0)","v":21}]
[null,50,null,null,{"$f":"SUM($C56:$D56)","v":0},{"$f":"RANK(E56,$E$7:$E$56,0)","v":21}]

{"sheet":"A. Morello","index":1,"n_rows":56,"n_cols":18,"rows_kept":56,"cut":false,"hidden":false,"merged":[]}
["Name"]
["Morello Adrian"]
["Gutschein"]
["Waffe",90]
[null,"Sau Stich",null,null,null,null,null,null,null,null,null,null,null,"Glück",null,null,"Auszahlung"]
[null,"Nr. Passe","1. Schuss","2. Schuss","Total","Rang",null,"Besten Passen",null,"Besten Einzel",null,"Total Passen und Einzel"]
[null,1,null,null,{"$f":"SUM($C7:$D7)","v":0},{"$f":"RANK(E7,$E$7:$E$56,0)","v":1},null,{"$f":"LARGE(E7:E56,1)","v":0},null,{"$f":"IF($B$4=90,LARGE(C10:D56,1),IF($B$4=\"St\",LARGE(C11:D56,1),IF($B$4=57,LARGE(C9:D56,1))))","v":{"$error":"#NUM!"}}]
[null,2,null,null,{"$f":"SUM($C8:$D8)","v":0},1,null,{"$f":"LARGE(E7:E56,2)","v":0},null,{"$f":"IF($B$4=90,LARGE(C10:D56,2),IF($B$4=\"St\",LARGE(C11:D56,2),IF($B$4=57,LARGE(C9:D56,2))))","v":{"$error":"#NUM!"}},null,{"$f":"IF($B$4=57,SUM(H7:H8,J7:J12),IF($B$4=90,SUM(H7:H9,J7:J10),IF($B$4=\"St\",SUM(H7:H10,J7:J8))))","v":{"$error":"#NUM!"}},null,"Ansage",null,null,"1. Schuss"]
[null,3,null,null,0,1,null,{"$f":"LARGE(E7:E56,3)","v":0},null,{"$f":"IF($B$4=90,LARGE($C$10:$D$56,3),IF($B$4=\"St\",LARGE($C$11:$D$56,3),IF($B$4=57,LARGE($C$9:$D$56,3))))","v":{"$error":"#NUM!"}},null,null,null,"Geschossen",null,null,"2. Schuss"]
[null,4,null,null,0,1,null,{"$f":"LARGE(E7:E56,4)","v":0},null,{"$f":"IF($B$4=90,LARGE(C10:D56,4),IF($B$4=\"St\",LARGE(C11:D56,4),IF($B$4=57,LARGE(C9:D56,4))))","v":{"$error":"#NUM!"}},null,null,null,"Differenz",null,null,"3. Schuss"]
[null,5,null,null,0,1,null,null,null,{"$f":"IF($B$4=90,LARGE(C10:D56,5),IF($B$4=\"St\",LARGE(C11:D56,5),IF($B$4=57,LARGE(C9:D56,5))))","v":{"$error":"#NUM!"}},null,null,null,null,null,null,"4. Schuss"]
[null,6,null,null,0,1,null,null,null,{"$f":"IF($B$4=90,LARGE(C10:D56,6),IF($B$4=\"St\",LARGE(C11:D56,6),IF($B$4=57,LARGE(C9:D56,6))))","v":{"$error":"#NUM!"}},null,null,null,null,null,null,"5. Schuss"]
[null,7,null,null,0,1,null,null,null,{"$f":"IF($B$4=90,LARGE(C11:D57,7),IF($B$4=\"St\",LARGE(C12:D57,7),IF($B$4=57,LARGE(C10:D57,7))))","v":{"$error":"#NUM!"}},null,null,null,null,null,null,"6. Schuss"]
[null,8,null,null,0,1,null,null,null,{"$f":"IF($B$4=90,LARGE(C12:D58,8),IF($B$4=\"St\",LARGE(C13:D58,8),IF($B$4=57,LARGE(C11:D58,8))))","v":{"$error":"#NUM!"}},null,null,null,null,null,null,"7. Schuss"]
[null,9,null,null,0,1,null,null,null,{"$f":"IF($B$4=90,LARGE(C13:D59,9),IF($B$4=\"St\",LARGE(C14:D59,9),IF($B$4=57,LARGE(C12:D59,9))))","v":{"$error":"#NUM!"}},null,null,null,null,null,null,"8. Schuss"]
[null,10,null,null,0,1,null,null,null,null,null,null,null,null,null,null,"9. Schuss"]
[null,11,null,null,0,1,null,null,null,null,null,null,null,null,null,null,"10. Schuss"]
[null,12,null,null,0,1,null,null,null,null,null,null,null,null,null,null,"Total",{"$f":"SUM(R8:R17)","v":0}]
[null,13,null,null,0,1]
[null,14,null,null,0,1]
[null,15,null,null,0,1]
[null,16,null,null,0,1]
[null,17,null,null,0,1]
[null,18,null,null,0,1]
[null,19,null,null,0,1]
[null,20,null,null,0,1]
[null,21,null,null,0,1]
[null,22,null,null,0,1]
[null,23,null,null,0,1]
[null,24,null,null,0,1]
[null,25,null,null,0,1]
[null,26,null,null,0,1]
[null,27,null,null,0,1]
[null,28,null,null,0,1]
[null,29,null,null,0,1]
[null,30,null,null,0,1]
[null,31,null,null,0,1]
[null,32,null,null,0,1]
[null,33,null,null,0,{"$f":"RANK(E39,$E$7:$E$56,0)","v":1}]
[null,34,null,null,0,1]
[null,35,null,null,0,1]
[null,36,null,null,0,1]
[null,37,null,null,0,1]
[null,38,null,null,0,1]
[null,39,null,null,0,1]
[null,40,null,null,0,1]
[null,41,null,null,0,1]
[null,42,null,null,0,1]
[null,43,null,null,0,1]
[null,44,null,null,0,1]
[null,45,null,null,0,1]
[null,46,null,null,0,1]
[null,47,null,null,0,1]
[null,48,null,null,0,1]
[null,49,null,null,0,1]
[null,50,null,null,0,1]

{"sheet":"S. Kocher","index":2,"n_rows":56,"n_cols":18,"rows_kept":56,"cut":false,"hidden":false,"merged":[]}
["Name"]
["Kocher Sascha"]
["Gutschein","Migros"]
["Waffe",57]
[null,"Sau Stich",null,null,null,null,null,null,null,null,null,null,null,"Glück",null,null,"Auszahlung"]
[null,"Nr. Passe","1. Schuss","2. Schuss","Total","Rang",null,"Besten Passen",null,"Besten Einzel",null,"Total Passen und Einzel"]
[null,1,88,100,{"$f":"SUM($C7:$D7)","v":188},{"$f":"RANK(E7,$E$7:$E$56,0)","v":1},null,{"$f":"LARGE(E7:E56,1)","v":188},null,{"$f":"IF($B$4=90,LARGE(C10:D56,1),IF($B$4=\"St\",LARGE(C11:D56,1),IF($B$4=57,LARGE(C9:D56,1))))","v":99}]
[null,2,98,89,{"$f":"SUM($C8:$D8)","v":187},{"$f":"RANK(E8,$E$7:$E$56,0)","v":2},null,{"$f":"LARGE(E7:E56,2)","v":187},null,{"$f":"IF($B$4=90,LARGE(C10:D56,2),IF($B$4=\"St\",LARGE(C11:D56,2),IF($B$4=57,LARGE(C9:D56,2))))","v":98},null,{"$f":"IF($B$4=57,SUM(H7:H8,J7:J12),IF($B$4=90,SUM(H7:H9,J7:J10),IF($B$4=\"St\",SUM(H7:H10,J7:J8))))","v":957},null,"Ansage",248,null,"1. Schuss",7]
[null,3,96,89,{"$f":"SUM($C9:$D9)","v":185},{"$f":"RANK(E9,$E$7:$E$56,0)","v":3},null,{"$f":"LARGE(E7:E56,3)","v":185},null,{"$f":"IF($B$4=90,LARGE($C$10:$D$56,3),IF($B$4=\"St\",LARGE($C$11:$D$56,3),IF($B$4=57,LARGE($C$9:$D$56,3))))","v":97},null,null,null,"Geschossen",215,null,"2. Schuss",10]
[null,4,96,89,{"$f":"SUM($C10:$D10)","v":185},{"$f":"RANK(E10,$E$7:$E$56,0)","v":3},null,{"$f":"LARGE(E7:E56,4)","v":185},null,{"$f":"IF($B$4=90,LARGE(C10:D56,4),IF($B$4=\"St\",LARGE(C11:D56,4),IF($B$4=57,LARGE(C9:D56,4))))","v":96},null,null,null,"Differenz",{"$f":"IF(O8>0,IF(O8>O9,O8-O9,O9-O8),\"\")","v":33},null,"3. Schuss",8]
[null,5,89,95,{"$f":"SUM($C11:$D11)","v":184},{"$f":"RANK(E11,$E$7:$E$56,0)","v":5},null,null,null,{"$f":"IF($B$4=90,LARGE(C10:D56,5),IF($B$4=\"St\",LARGE(C11:D56,5),IF($B$4=57,LARGE(C9:D56,5))))","v":96},null,null,null,null,null,null,"4. Schuss",9]
[null,6,92,86,{"$f":"SUM($C12:$D12)","v":178},{"$f":"RANK(E12,$E$7:$E$56,0)","v":6},null,null,null,{"$f":"IF($B$4=90,LARGE(C10:D56,6),IF($B$4=\"St\",LARGE(C11:D56,6),IF($B$4=57,LARGE(C9:D56,6))))","v":96},null,null,null,null,null,null,"5. Schuss",7]
[null,7,81,97,{"$f":"SUM($C13:$D13)","v":178},{"$f":"RANK(E13,$E$7:$E$56,0)","v":6},null,null,null,{"$f":"IF($B$4=90,LARGE(C11:D57,7),IF($B$4=\"St\",LARGE(C12:D57,7),IF($B$4=57,LARGE(C10:D57,7))))","v":94},null,null,null,null,null,null,"6. Schuss",10]
[null,8,80,94,{"$f":"SUM($C14:$D14)","v":174},{"$f":"RANK(E14,$E$7:$E$56,0)","v":8},null,null,null,{"$f":"IF($B$4=90,LARGE(C12:D58,8),IF($B$4=\"St\",LARGE(C13:D58,8),IF($B$4=57,LARGE(C11:D58,8))))","v":94},null,null,null,null,null,null,"7. Schuss",7]
[null,9,94,79,{"$f":"SUM($C15:$D15)","v":173},{"$f":"RANK(E15,$E$7:$E$56,0)","v":9},null,null,null,{"$f":"IF($B$4=90,LARGE(C13:D59,9),IF($B$4=\"St\",LARGE(C14:D59,9),IF($B$4=57,LARGE(C12:D59,9))))","v":93},null,null,null,null,null,null,"8. Schuss",9]
[null,10,79,93,{"$f":"SUM($C16:$D16)","v":172},{"$f":"RANK(E16,$E$7:$E$56,0)","v":10},null,null,null,null,null,null,null,null,null,null,"9. Schuss",9]
[null,11,89,82,{"$f":"SUM($C17:$D17)","v":171},{"$f":"RANK(E17,$E$7:$E$56,0)","v":11},null,null,null,null,null,null,null,null,null,null,"10. Schuss",7]
[null,12,81,90,{"$f":"SUM($C18:$D18)","v":171},{"$f":"RANK(E18,$E$7:$E$56,0)","v":11},null,null,null,null,null,null,null,null,null,null,"Total",{"$f":"SUM(R8:R17)","v":83}]
[null,13,93,77,{"$f":"SUM($C19:$D19)","v":170},{"$f":"RANK(E19,$E$7:$E$56,0)","v":13}]
[null,14,81,89,{"$f":"SUM($C20:$D20)","v":170},{"$f":"RANK(E20,$E$7:$E$56,0)","v":13}]
[null,15,72,94,{"$f":"SUM($C21:$D21)","v":166},{"$f":"RANK(E21,$E$7:$E$56,0)","v":15}]
[null,16,88,78,{"$f":"SUM($C22:$D22)","v":166},{"$f":"RANK(E22,$E$7:$E$56,0)","v":15}]
[null,17,78,88,{"$f":"SUM($C23:$D23)","v":166},{"$f":"RANK(E23,$E$7:$E$56,0)","v":15}]
[null,18,83,83,{"$f":"SUM($C24:$D24)","v":166},{"$f":"RANK(E24,$E$7:$E$56,0)","v":15}]
[null,19,87,78,{"$f":"SUM($C25:$D25)","v":165},{"$f":"RANK(E25,$E$7:$E$56,0)","v":19}]
[null,20,96,67,{"$f":"SUM($C26:$D26)","v":163},{"$f":"RANK(E26,$E$7:$E$56,0)","v":20}]
[null,21,83,78,{"$f":"SUM($C27:$D27)","v":161},{"$f":"RANK(E27,$E$7:$E$56,0)","v":21}]
[null,22,66,94,{"$f":"SUM($C28:$D28)","v":160},{"$f":"RANK(E28,$E$7:$E$56,0)","v":22}]
[null,23,78,82,{"$f":"SUM($C29:$D29)","v":160},{"$f":"RANK(E29,$E$7:$E$56,0)","v":22}]
[null,24,85,75,{"$f":"SUM($C30:$D30)","v":160},{"$f":"RANK(E30,$E$7:$E$56,0)","v":22}]
[null,25,92,68,{"$f":"SUM($C31:$D31)","v":160},{"$f":"RANK(E31,$E$7:$E$56,0)","v":22}]
[null,26,89,70,{"$f":"SUM($C32:$D32)","v":159},{"$f":"RANK(E32,$E$7:$E$56,0)","v":26}]
[null,27,57,98,{"$f":"SUM($C33:$D33)","v":155},{"$f":"RANK(E33,$E$7:$E$56,0)","v":27}]
[null,28,83,70,{"$f":"SUM($C34:$D34)","v":153},{"$f":"RANK(E34,$E$7:$E$56,0)","v":28}]
[null,29,83,69,{"$f":"SUM($C35:$D35)","v":152},{"$f":"RANK(E35,$E$7:$E$56,0)","v":29}]
[null,30,75,75,{"$f":"SUM($C36:$D36)","v":150},{"$f":"RANK(E36,$E$7:$E$56,0)","v":30}]
[null,31,51,99,{"$f":"SUM($C37:$D37)","v":150},{"$f":"RANK(E37,$E$7:$E$56,0)","v":30}]
[null,32,65,83,{"$f":"SUM($C38:$D38)","v":148},{"$f":"RANK(E38,$E$7:$E$56,0)","v":32}]
[null,33,79,69,{"$f":"SUM($C39:$D39)","v":148},{"$f":"RANK(E39,$E$7:$E$56,0)","v":32}]
[null,34,69,77,{"$f":"SUM($C40:$D40)","v":146},{"$f":"RANK(E40,$E$7:$E$56,0)","v":34}]
[null,35,61,84,{"$f":"SUM($C41:$D41)","v":145},{"$f":"RANK(E41,$E$7:$E$56,0)","v":35}]
[null,36,84,61,{"$f":"SUM($C42:$D42)","v":145},{"$f":"RANK(E42,$E$7:$E$56,0)","v":35}]
[null,37,77,68,{"$f":"SUM($C43:$D43)","v":145},{"$f":"RANK(E43,$E$7:$E$56,0)","v":35}]
[null,38,80,65,{"$f":"SUM($C44:$D44)","v":145},{"$f":"RANK(E44,$E$7:$E$56,0)","v":35}]
[null,39,56,88,{"$f":"SUM($C45:$D45)","v":144},{"$f":"RANK(E45,$E$7:$E$56,0)","v":39}]
[null,40,73,70,{"$f":"SUM($C46:$D46)","v":143},{"$f":"RANK(E46,$E$7:$E$56,0)","v":40}]
[null,41,46,91,{"$f":"SUM($C47:$D47)","v":137},{"$f":"RANK(E47,$E$7:$E$56,0)","v":41}]
[null,42,91,45,{"$f":"SUM($C48:$D48)","v":136},{"$f":"RANK(E48,$E$7:$E$56,0)","v":42}]
[null,43,88,46,{"$f":"SUM($C49:$D49)","v":134},{"$f":"RANK(E49,$E$7:$E$56,0)","v":43}]
[null,44,74,56,{"$f":"SUM($C50:$D50)","v":130},{"$f":"RANK(E50,$E$7:$E$56,0)","v":44}]
[null,45,57,67,{"$f":"SUM($C51:$D51)","v":124},{"$f":"RANK(E51,$E$7:$E$56,0)","v":45}]
[null,46,52,67,{"$f":"SUM($C52:$D52)","v":119},{"$f":"RANK(E52,$E$7:$E$56,0)","v":46}]
[null,47,58,61,{"$f":"SUM($C53:$D53)","v":119},{"$f":"RANK(E53,$E$7:$E$56,0)","v":46}]
[null,48,45,72,{"$f":"SUM($C54:$D54)","v":117},{"$f":"RANK(E54,$E$7:$E$56,0)","v":48}]
[null,49,71,34,{"$f":"SUM($C55:$D55)","v":105},{"$f":"RANK(E55,$E$7:$E$56,0)","v":49}]
[null,50,54,0,{"$f":"SUM($C56:$D56)","v":54},{"$f":"RANK(E56,$E$7:$E$56,0)","v":50}]

{"sheet":"P. Friedli","index":3,"n_rows":106,"n_cols":18,"rows_kept":106,"cut":false,"hidden":false,"merged":[]}
["Name"]
["Friedli Peter"]
["Gutschein","Denner"]
["Waffe","St"]
[null,"Sau Stich",null,null,null,null,null,null,null,null,null,null,null,"Glück",null,null,"Auszahlung"]
[null,"Nr. Passe","1. Schuss","2. Schuss","Total","Rang",null,"Besten Passen",null,"Besten Einzel",null,"Total Passen und Einzel"]
[null,1,100,98,{"$f":"SUM($C7:$D7)","v":198},{"$f":"RANK(E7,$E$7:$E$106,0)","v":1},null,{"$f":"LARGE(E7:E56,1)","v":198},null,{"$f":"IF($B$4=90,LARGE(C10:D56,1),IF($B$4=\"St\",LARGE(C11:D56,1),IF($B$4=57,LARGE(C9:D56,1))))","v":100}]
[null,2,96,100,{"$f":"SUM($C8:$D8)","v":196},{"$f":"RANK(E8,$E$7:$E$106,0)","v":2},null,{"$f":"LARGE(E7:E56,2)","v":196},null,{"$f":"IF($B$4=90,LARGE(C10:D56,2),IF($B$4=\"St\",LARGE(C11:D56,2),IF($B$4=57,LARGE(C9:D56,2))))","v":97},null,{"$f":"IF($B$4=57,SUM(H7:H8,J7:J12),IF($B$4=90,SUM(H7:H9,J7:J10),IF($B$4=\"St\",SUM(H7:H10,J7:J8))))","v":980},null,"Ansage",268,null,"1. Schuss",10]
[null,3,97,98,{"$f":"SUM($C9:$D9)","v":195},{"$f":"RANK(E9,$E$7:$E$106,0)","v":3},null,{"$f":"LARGE(E7:E56,3)","v":195},null,{"$f":"IF($B$4=90,LARGE($C$10:$D$56,3),IF($B$4=\"St\",LARGE($C$11:$D$56,3),IF($B$4=57,LARGE($C$9:$D$56,3))))","v":97},null,null,null,"Geschossen",244,null,"2. Schuss",10]
[null,4,99,95,{"$f":"SUM($C10:$D10)","v":194},{"$f":"RANK(E10,$E$7:$E$106,0)","v":4},null,{"$f":"LARGE(E7:E56,4)","v":194},null,{"$f":"IF($B$4=90,LARGE(C10:D56,4),IF($B$4=\"St\",LARGE(C11:D56,4),IF($B$4=57,LARGE(C9:D56,4))))","v":96},null,null,null,"Differenz",{"$f":"IF(O8>0,IF(O8>O9,O8-O9,O9-O8),\"\")","v":24},null,"3. Schuss",10]
[null,5,96,96,{"$f":"SUM($C11:$D11)","v":192},{"$f":"RANK(E11,$E$7:$E$106,0)","v":5},null,null,null,{"$f":"IF($B$4=90,LARGE(C10:D56,5),IF($B$4=\"St\",LARGE(C11:D56,5),IF($B$4=57,LARGE(C9:D56,5))))","v":96},null,null,null,null,null,null,"4. Schuss",9]
[null,6,100,91,{"$f":"SUM($C12:$D12)","v":191},{"$f":"RANK(E12,$E$7:$E$106,0)","v":6},null,null,null,{"$f":"IF($B$4=90,LARGE(C10:D56,6),IF($B$4=\"St\",LARGE(C11:D56,6),IF($B$4=57,LARGE(C9:D56,6))))","v":96},null,null,null,null,null,null,"5. Schuss",8]
[null,7,96,95,{"$f":"SUM($C13:$D13)","v":191},{"$f":"RANK(E13,$E$7:$E$106,0)","v":6},null,null,null,{"$f":"IF($B$4=90,LARGE(C11:D57,7),IF($B$4=\"St\",LARGE(C12:D57,7),IF($B$4=57,LARGE(C10:D57,7))))","v":95},null,null,null,null,null,null,"6. Schuss",6]
[null,8,97,94,{"$f":"SUM($C14:$D14)","v":191},{"$f":"RANK(E14,$E$7:$E$106,0)","v":6},null,null,null,{"$f":"IF($B$4=90,LARGE(C12:D58,8),IF($B$4=\"St\",LARGE(C13:D58,8),IF($B$4=57,LARGE(C11:D58,8))))","v":95},null,null,null,null,null,null,"7. Schuss",7]
[null,9,94,95,{"$f":"SUM($C15:$D15)","v":189},{"$f":"RANK(E15,$E$7:$E$106,0)","v":9},null,null,null,{"$f":"IF($B$4=90,LARGE(C13:D59,9),IF($B$4=\"St\",LARGE(C14:D59,9),IF($B$4=57,LARGE(C12:D59,9))))","v":94},null,null,null,null,null,null,"8. Schuss",8]
[null,10,93,95,{"$f":"SUM($C16:$D16)","v":188},{"$f":"RANK(E16,$E$7:$E$106,0)","v":10},null,null,null,null,null,null,null,null,null,null,"9. Schuss",8]
[null,11,93,92,{"$f":"SUM($C17:$D17)","v":185},{"$f":"RANK(E17,$E$7:$E$106,0)","v":11},null,null,null,null,null,null,null,null,null,null,"10. Schuss",6]
[null,12,95,87,{"$f":"SUM($C18:$D18)","v":182},{"$f":"RANK(E18,$E$7:$E$106,0)","v":12},null,null,null,null,null,null,null,null,null,null,"Total",{"$f":"SUM(R8:R17)","v":82}]
[null,13,88,94,{"$f":"SUM($C19:$D19)","v":182},{"$f":"RANK(E19,$E$7:$E$106,0)","v":12}]
[null,14,91,88,{"$f":"SUM($C20:$D20)","v":179},{"$f":"RANK(E20,$E$7:$E$106,0)","v":14}]
[null,15,90,87,{"$f":"SUM($C21:$D21)","v":177},{"$f":"RANK(E21,$E$7:$E$106,0)","v":15}]
[null,16,92,84,{"$f":"SUM($C22:$D22)","v":176},{"$f":"RANK(E22,$E$7:$E$106,0)","v":16}]
[null,17,85,91,{"$f":"SUM($C23:$D23)","v":176},{"$f":"RANK(E23,$E$7:$E$106,0)","v":16}]
[null,18,89,85,{"$f":"SUM($C24:$D24)","v":174},{"$f":"RANK(E24,$E$7:$E$106,0)","v":18}]
[null,19,97,77,{"$f":"SUM($C25:$D25)","v":174},{"$f":"RANK(E25,$E$7:$E$106,0)","v":18}]
[null,20,88,85,{"$f":"SUM($C26:$D26)","v":173},{"$f":"RANK(E26,$E$7:$E$106,0)","v":20}]
[null,21,85,87,{"$f":"SUM($C27:$D27)","v":172},{"$f":"RANK(E27,$E$7:$E$106,0)","v":21}]
[null,22,92,79,{"$f":"SUM($C28:$D28)","v":171},{"$f":"RANK(E28,$E$7:$E$106,0)","v":22}]
[null,23,95,73,{"$f":"SUM($C29:$D29)","v":168},{"$f":"RANK(E29,$E$7:$E$106,0)","v":23}]
[null,24,82,86,{"$f":"SUM($C30:$D30)","v":168},{"$f":"RANK(E30,$E$7:$E$106,0)","v":23}]
[null,25,80,87,{"$f":"SUM($C31:$D31)","v":167},{"$f":"RANK(E31,$E$7:$E$106,0)","v":25}]
[null,26,89,78,{"$f":"SUM($C32:$D32)","v":167},{"$f":"RANK(E32,$E$7:$E$106,0)","v":25}]
[null,27,88,75,{"$f":"SUM($C33:$D33)","v":163},{"$f":"RANK(E33,$E$7:$E$106,0)","v":27}]
[null,28,83,80,{"$f":"SUM($C34:$D34)","v":163},{"$f":"RANK(E34,$E$7:$E$106,0)","v":27}]
[null,29,76,87,{"$f":"SUM($C35:$D35)","v":163},{"$f":"RANK(E35,$E$7:$E$106,0)","v":27}]
[null,30,82,80,{"$f":"SUM($C36:$D36)","v":162},{"$f":"RANK(E36,$E$7:$E$106,0)","v":30}]
[null,31,74,84,{"$f":"SUM($C37:$D37)","v":158},{"$f":"RANK(E37,$E$7:$E$106,0)","v":31}]
[null,32,74,82,{"$f":"SUM($C38:$D38)","v":156},{"$f":"RANK(E38,$E$7:$E$106,0)","v":32}]
[null,33,70,82,{"$f":"SUM($C39:$D39)","v":152},{"$f":"RANK(E39,$E$7:$E$106,0)","v":33}]
[null,34,74,77,{"$f":"SUM($C40:$D40)","v":151},{"$f":"RANK(E40,$E$7:$E$106,0)","v":34}]
[null,35,73,77,{"$f":"SUM($C41:$D41)","v":150},{"$f":"RANK(E41,$E$7:$E$106,0)","v":35}]
[null,36,73,75,{"$f":"SUM($C42:$D42)","v":148},{"$f":"RANK(E42,$E$7:$E$106,0)","v":36}]
[null,37,90,56,{"$f":"SUM($C43:$D43)","v":146},{"$f":"RANK(E43,$E$7:$E$106,0)","v":37}]
[null,38,68,75,{"$f":"SUM($C44:$D44)","v":143},{"$f":"RANK(E44,$E$7:$E$106,0)","v":38}]
[null,39,12,76,{"$f":"SUM($C45:$D45)","v":88},{"$f":"RANK(E45,$E$7:$E$106,0)","v":39}]
[null,40,0,72,{"$f":"SUM($C46:$D46)","v":72},{"$f":"RANK(E46,$E$7:$E$106,0)","v":40}]
[null,41,null,null,{"$f":"SUM($C47:$D47)","v":0},{"$f":"RANK(E47,$E$7:$E$106,0)","v":41}]
[null,42,null,null,{"$f":"SUM($C48:$D48)","v":0},{"$f":"RANK(E48,$E$7:$E$106,0)","v":41}]
[null,43,null,null,{"$f":"SUM($C49:$D49)","v":0},{"$f":"RANK(E49,$E$7:$E$106,0)","v":41}]
[null,44,null,null,{"$f":"SUM($C50:$D50)","v":0},{"$f":"RANK(E50,$E$7:$E$106,0)","v":41}]
[null,45,null,null,{"$f":"SUM($C51:$D51)","v":0},{"$f":"RANK(E51,$E$7:$E$106,0)","v":41}]
[null,46,null,null,{"$f":"SUM($C52:$D52)","v":0},{"$f":"RANK(E52,$E$7:$E$106,0)","v":41}]
[null,47,null,null,{"$f":"SUM($C53:$D53)","v":0},{"$f":"RANK(E53,$E$7:$E$106,0)","v":41}]
[null,48,null,null,{"$f":"SUM($C54:$D54)","v":0},{"$f":"RANK(E54,$E$7:$E$106,0)","v":41}]
[null,49,null,null,{"$f":"SUM($C55:$D55)","v":0},{"$f":"RANK(E55,$E$7:$E$106,0)","v":41}]
[null,50,null,null,{"$f":"SUM($C56:$D56)","v":0},{"$f":"RANK(E56,$E$7:$E$106,0)","v":41}]
[null,51,null,null,{"$f":"SUM($C57:$D57)","v":0},{"$f":"RANK(E57,$E$7:$E$106,0)","v":41}]
[null,52,null,null,{"$f":"SUM($C58:$D58)","v":0},{"$f":"RANK(E58,$E$7:$E$106,0)","v":41}]
[null,53,null,null,{"$f":"SUM($C59:$D59)","v":0},{"$f":"RANK(E59,$E$7:$E$106,0)","v":41}]
[null,54,null,null,{"$f":"SUM($C60:$D60)","v":0},{"$f":"RANK(E60,$E$7:$E$106,0)","v":41}]
[null,55,null,null,{"$f":"SUM($C61:$D61)","v":0},{"$f":"RANK(E61,$E$7:$E$106,0)","v":41}]
[null,56,null,null,{"$f":"SUM($C62:$D62)","v":0},{"$f":"RANK(E62,$E$7:$E$106,0)","v":41}]
[null,57,null,null,{"$f":"SUM($C63:$D63)","v":0},{"$f":"RANK(E63,$E$7:$E$106,0)","v":41}]
[null,58,null,null,{"$f":"SUM($C64:$D64)","v":0},{"$f":"RANK(E64,$E$7:$E$106,0)","v":41}]
[null,59,null,null,{"$f":"SUM($C65:$D65)","v":0},{"$f":"RANK(E65,$E$7:$E$106,0)","v":41}]
[null,60,null,null,{"$f":"SUM($C66:$D66)","v":0},{"$f":"RANK(E66,$E$7:$E$106,0)","v":41}]
[null,61,null,null,{"$f":"SUM($C67:$D67)","v":0},{"$f":"RANK(E67,$E$7:$E$106,0)","v":41}]
[null,62,null,null,{"$f":"SUM($C68:$D68)","v":0},{"$f":"RANK(E68,$E$7:$E$106,0)","v":41}]
[null,63,null,null,{"$f":"SUM($C69:$D69)","v":0},{"$f":"RANK(E69,$E$7:$E$106,0)","v":41}]
[null,64,null,null,{"$f":"SUM($C70:$D70)","v":0},{"$f":"RANK(E70,$E$7:$E$106,0)","v":41}]
[null,65,null,null,{"$f":"SUM($C71:$D71)","v":0},{"$f":"RANK(E71,$E$7:$E$106,0)","v":41}]
[null,66,null,null,{"$f":"SUM($C72:$D72)","v":0},{"$f":"RANK(E72,$E$7:$E$106,0)","v":41}]
[null,67,null,null,{"$f":"SUM($C73:$D73)","v":0},{"$f":"RANK(E73,$E$7:$E$106,0)","v":41}]
[null,68,null,null,{"$f":"SUM($C74:$D74)","v":0},{"$f":"RANK(E74,$E$7:$E$106,0)","v":41}]
[null,69,null,null,{"$f":"SUM($C75:$D75)","v":0},{"$f":"RANK(E75,$E$7:$E$106,0)","v":41}]
[null,70,null,null,{"$f":"SUM($C76:$D76)","v":0},{"$f":"RANK(E76,$E$7:$E$106,0)","v":41}]
[null,71,null,null,{"$f":"SUM($C77:$D77)","v":0},{"$f":"RANK(E77,$E$7:$E$106,0)","v":41}]
[null,72,null,null,{"$f":"SUM($C78:$D78)","v":0},{"$f":"RANK(E78,$E$7:$E$106,0)","v":41}]
[null,73,null,null,{"$f":"SUM($C79:$D79)","v":0},{"$f":"RANK(E79,$E$7:$E$106,0)","v":41}]
[null,74,null,null,{"$f":"SUM($C80:$D80)","v":0},{"$f":"RANK(E80,$E$7:$E$106,0)","v":41}]
[null,75,null,null,{"$f":"SUM($C81:$D81)","v":0},{"$f":"RANK(E81,$E$7:$E$106,0)","v":41}]
[null,76,null,null,{"$f":"SUM($C82:$D82)","v":0},{"$f":"RANK(E82,$E$7:$E$106,0)","v":41}]
[null,77,null,null,{"$f":"SUM($C83:$D83)","v":0},{"$f":"RANK(E83,$E$7:$E$106,0)","v":41}]
[null,78,null,null,{"$f":"SUM($C84:$D84)","v":0},{"$f":"RANK(E84,$E$7:$E$106,0)","v":41}]
[null,79,null,null,{"$f":"SUM($C85:$D85)","v":0},{"$f":"RANK(E85,$E$7:$E$106,0)","v":41}]
[null,80,null,null,{"$f":"SUM($C86:$D86)","v":0},{"$f":"RANK(E86,$E$7:$E$106,0)","v":41}]
[null,81,null,null,{"$f":"SUM($C87:$D87)","v":0},{"$f":"RANK(E87,$E$7:$E$106,0)","v":41}]
[null,82,null,null,{"$f":"SUM($C88:$D88)","v":0},{"$f":"RANK(E88,$E$7:$E$106,0)","v":41}]
[null,83,null,null,{"$f":"SUM($C89:$D89)","v":0},{"$f":"RANK(E89,$E$7:$E$106,0)","v":41}]
[null,84,null,null,{"$f":"SUM($C90:$D90)","v":0},{"$f":"RANK(E90,$E$7:$E$106,0)","v":41}]
[null,85,null,null,{"$f":"SUM($C91:$D91)","v":0},{"$f":"RANK(E91,$E$7:$E$106,0)","v":41}]
[null,86,null,null,{"$f":"SUM($C92:$D92)","v":0},{"$f":"RANK(E92,$E$7:$E$106,0)","v":41}]
[null,87,null,null,{"$f":"SUM($C93:$D93)","v":0},{"$f":"RANK(E93,$E$7:$E$106,0)","v":41}]
[null,88,null,null,{"$f":"SUM($C94:$D94)","v":0},{"$f":"RANK(E94,$E$7:$E$106,0)","v":41}]
[null,89,null,null,{"$f":"SUM($C95:$D95)","v":0},{"$f":"RANK(E95,$E$7:$E$106,0)","v":41}]
[null,90,null,null,{"$f":"SUM($C96:$D96)","v":0},{"$f":"RANK(E96,$E$7:$E$106,0)","v":41}]
[null,91,null,null,{"$f":"SUM($C97:$D97)","v":0},{"$f":"RANK(E97,$E$7:$E$106,0)","v":41}]
[null,92,null,null,{"$f":"SUM($C98:$D98)","v":0},{"$f":"RANK(E98,$E$7:$E$106,0)","v":41}]
[null,93,null,null,{"$f":"SUM($C99:$D99)","v":0},{"$f":"RANK(E99,$E$7:$E$106,0)","v":41}]
[null,94,null,null,{"$f":"SUM($C100:$D100)","v":0},{"$f":"RANK(E100,$E$7:$E$106,0)","v":41}]
[null,95,null,null,{"$f":"SUM($C101:$D101)","v":0},{"$f":"RANK(E101,$E$7:$E$106,0)","v":41}]
[null,96,null,null,{"$f":"SUM($C102:$D102)","v":0},{"$f":"RANK(E102,$E$7:$E$106,0)","v":41}]
[null,97,null,null,{"$f":"SUM($C103:$D103)","v":0},{"$f":"RANK(E103,$E$7:$E$106,0)","v":41}]
[null,98,null,null,{"$f":"SUM($C104:$D104)","v":0},{"$f":"RANK(E104,$E$7:$E$106,0)","v":41}]
[null,99,null,null,{"$f":"SUM($C105:$D105)","v":0},{"$f":"RANK(E105,$E$7:$E$106,0)","v":41}]
[null,100,null,null,{"$f":"SUM($C106:$D106)","v":0},{"$f":"RANK(E106,$E$7:$E$106,0)","v":41}]

{"sheet":"T. Abrecht","index":4,"n_rows":56,"n_cols":18,"rows_kept":56,"cut":false,"hidden":false,"merged":[]}
["Name"]
["Abrecht Theodor "]
["Gutschein","Migros"]
["Waffe",90]
[null,"Sau Stich",null,null,null,null,null,null,null,null,null,null,null,"Glück",null,null,"Auszahlung"]
[null,"Nr. Passe","1. Schuss","2. Schuss","Total","Rang",null,"Besten Passen",null,"Besten Einzel",null,"Total Passen und Einzel"]
[null,1,95,92,{"$f":"SUM($C7:$D7)","v":187},{"$f":"RANK(E7,$E$7:$E$56,0)","v":1},null,{"$f":"LARGE(E7:E56,1)","v":187},null,{"$f":"IF($B$4=90,LARGE(C10:D56,1),IF($B$4=\"St\",LARGE(C11:D56,1),IF($B$4=57,LARGE(C9:D56,1))))","v":98}]
[null,2,88,92,{"$f":"SUM($C8:$D8)","v":180},{"$f":"RANK(E8,$E$7:$E$56,0)","v":2},null,{"$f":"LARGE(E7:E56,2)","v":180},null,{"$f":"IF($B$4=90,LARGE(C10:D56,2),IF($B$4=\"St\",LARGE(C11:D56,2),IF($B$4=57,LARGE(C9:D56,2))))","v":96},null,{"$f":"IF($B$4=57,SUM(H7:H8,J7:J12),IF($B$4=90,SUM(H7:H9,J7:J10),IF($B$4=\"St\",SUM(H7:H10,J7:J8))))","v":925},null,"Ansage",256,null,"1. Schuss",9]
[null,3,81,96,{"$f":"SUM($C9:$D9)","v":177},{"$f":"RANK(E9,$E$7:$E$56,0)","v":3},null,{"$f":"LARGE(E7:E56,3)","v":177},null,{"$f":"IF($B$4=90,LARGE($C$10:$D$56,3),IF($B$4=\"St\",LARGE($C$11:$D$56,3),IF($B$4=57,LARGE($C$9:$D$56,3))))","v":94},null,null,null,"Geschossen",179,null,"2. Schuss",8]
[null,4,98,79,{"$f":"SUM($C10:$D10)","v":177},{"$f":"RANK(E10,$E$7:$E$56,0)","v":3},null,{"$f":"LARGE(E7:E56,4)","v":177},null,{"$f":"IF($B$4=90,LARGE(C10:D56,4),IF($B$4=\"St\",LARGE(C11:D56,4),IF($B$4=57,LARGE(C9:D56,4))))","v":93},null,null,null,"Differenz",{"$f":"IF(O8>0,IF(O8>O9,O8-O9,O9-O8),\"\")","v":77},null,"3. Schuss",9]
[null,5,90,82,{"$f":"SUM($C11:$D11)","v":172},{"$f":"RANK(E11,$E$7:$E$56,0)","v":5},null,null,null,{"$f":"IF($B$4=90,LARGE(C10:D56,5),IF($B$4=\"St\",LARGE(C11:D56,5),IF($B$4=57,LARGE(C9:D56,5))))","v":91},null,null,null,null,null,null,"4. Schuss",9]
[null,6,75,91,{"$f":"SUM($C12:$D12)","v":166},{"$f":"RANK(E12,$E$7:$E$56,0)","v":6},null,null,null,{"$f":"IF($B$4=90,LARGE(C10:D56,6),IF($B$4=\"St\",LARGE(C11:D56,6),IF($B$4=57,LARGE(C9:D56,6))))","v":90},null,null,null,null,null,null,"5. Schuss",10]
[null,7,84,73,{"$f":"SUM($C13:$D13)","v":157},{"$f":"RANK(E13,$E$7:$E$56,0)","v":7},null,null,null,{"$f":"IF($B$4=90,LARGE(C11:D57,7),IF($B$4=\"St\",LARGE(C12:D57,7),IF($B$4=57,LARGE(C10:D57,7))))","v":84},null,null,null,null,null,null,"6. Schuss",8]
[null,8,73,84,{"$f":"SUM($C14:$D14)","v":157},{"$f":"RANK(E14,$E$7:$E$56,0)","v":7},null,null,null,{"$f":"IF($B$4=90,LARGE(C12:D58,8),IF($B$4=\"St\",LARGE(C13:D58,8),IF($B$4=57,LARGE(C11:D58,8))))","v":83},null,null,null,null,null,null,"7. Schuss",7]
[null,9,93,63,{"$f":"SUM($C15:$D15)","v":156},{"$f":"RANK(E15,$E$7:$E$56,0)","v":9},null,null,null,{"$f":"IF($B$4=90,LARGE(C13:D59,9),IF($B$4=\"St\",LARGE(C14:D59,9),IF($B$4=57,LARGE(C12:D59,9))))","v":81},null,null,null,null,null,null,"8. Schuss",8]
[null,10,60,89,{"$f":"SUM($C16:$D16)","v":149},{"$f":"RANK(E16,$E$7:$E$56,0)","v":10},null,null,null,null,null,null,null,null,null,null,"9. Schuss",9]
[null,11,77,71,{"$f":"SUM($C17:$D17)","v":148},{"$f":"RANK(E17,$E$7:$E$56,0)","v":11},null,null,null,null,null,null,null,null,null,null,"10. Schuss",8]
[null,12,73,74,{"$f":"SUM($C18:$D18)","v":147},{"$f":"RANK(E18,$E$7:$E$56,0)","v":12},null,null,null,null,null,null,null,null,null,null,"Total",{"$f":"SUM(R8:R17)","v":85}]
[null,13,50,94,{"$f":"SUM($C19:$D19)","v":144},{"$f":"RANK(E19,$E$7:$E$56,0)","v":13}]
[null,14,83,60,{"$f":"SUM($C20:$D20)","v":143},{"$f":"RANK(E20,$E$7:$E$56,0)","v":14}]
[null,15,82,60,{"$f":"SUM($C21:$D21)","v":142},{"$f":"RANK(E21,$E$7:$E$56,0)","v":15}]
[null,16,59,81,{"$f":"SUM($C22:$D22)","v":140},{"$f":"RANK(E22,$E$7:$E$56,0)","v":16}]
[null,17,96,39,{"$f":"SUM($C23:$D23)","v":135},{"$f":"RANK(E23,$E$7:$E$56,0)","v":17}]
[null,18,62,66,{"$f":"SUM($C24:$D24)","v":128},{"$f":"RANK(E24,$E$7:$E$56,0)","v":18}]
[null,19,33,80,{"$f":"SUM($C25:$D25)","v":113},{"$f":"RANK(E25,$E$7:$E$56,0)","v":19}]
[null,20,78,28,{"$f":"SUM($C26:$D26)","v":106},{"$f":"RANK(E26,$E$7:$E$56,0)","v":20}]
[null,21,null,null,{"$f":"SUM($C27:$D27)","v":0},{"$f":"RANK(E27,$E$7:$E$56,0)","v":21}]
[null,22,null,null,{"$f":"SUM($C28:$D28)","v":0},{"$f":"RANK(E28,$E$7:$E$56,0)","v":21}]
[null,23,null,null,{"$f":"SUM($C29:$D29)","v":0},{"$f":"RANK(E29,$E$7:$E$56,0)","v":21}]
[null,24,null,null,{"$f":"SUM($C30:$D30)","v":0},{"$f":"RANK(E30,$E$7:$E$56,0)","v":21}]
[null,25,null,null,{"$f":"SUM($C31:$D31)","v":0},{"$f":"RANK(E31,$E$7:$E$56,0)","v":21}]
[null,26,null,null,{"$f":"SUM($C32:$D32)","v":0},{"$f":"RANK(E32,$E$7:$E$56,0)","v":21}]
[null,27,null,null,{"$f":"SUM($C33:$D33)","v":0},{"$f":"RANK(E33,$E$7:$E$56,0)","v":21}]
[null,28,null,null,{"$f":"SUM($C34:$D34)","v":0},{"$f":"RANK(E34,$E$7:$E$56,0)","v":21}]
[null,29,null,null,{"$f":"SUM($C35:$D35)","v":0},{"$f":"RANK(E35,$E$7:$E$56,0)","v":21}]
[null,30,null,null,{"$f":"SUM($C36:$D36)","v":0},{"$f":"RANK(E36,$E$7:$E$56,0)","v":21}]
[null,31,null,null,{"$f":"SUM($C37:$D37)","v":0},{"$f":"RANK(E37,$E$7:$E$56,0)","v":21}]
[null,32,null,null,{"$f":"SUM($C38:$D38)","v":0},{"$f":"RANK(E38,$E$7:$E$56,0)","v":21}]
[null,33,null,null,{"$f":"SUM($C39:$D39)","v":0},{"$f":"RANK(E39,$E$7:$E$56,0)","v":21}]
[null,34,null,null,{"$f":"SUM($C40:$D40)","v":0},{"$f":"RANK(E40,$E$7:$E$56,0)","v":21}]
[null,35,null,null,{"$f":"SUM($C41:$D41)","v":0},{"$f":"RANK(E41,$E$7:$E$56,0)","v":21}]
[null,36,null,null,{"$f":"SUM($C42:$D42)","v":0},{"$f":"RANK(E42,$E$7:$E$56,0)","v":21}]
[null,37,null,null,{"$f":"SUM($C43:$D43)","v":0},{"$f":"RANK(E43,$E$7:$E$56,0)","v":21}]
[null,38,null,null,{"$f":"SUM($C44:$D44)","v":0},{"$f":"RANK(E44,$E$7:$E$56,0)","v":21}]
[null,39,null,null,{"$f":"SUM($C45:$D45)","v":0},{"$f":"RANK(E45,$E$7:$E$56,0)","v":21}]
[null,40,null,null,{"$f":"SUM($C46:$D46)","v":0},{"$f":"RANK(E46,$E$7:$E$56,0)","v":21}]
[null,41,null,null,{"$f":"SUM($C47:$D47)","v":0},{"$f":"RANK(E47,$E$7:$E$56,0)","v":21}]
[null,42,null,null,{"$f":"SUM($C48:$D48)","v":0},{"$f":"RANK(E48,$E$7:$E$56,0)","v":21}]
[null,43,null,null,{"$f":"SUM($C49:$D49)","v":0},{"$f":"RANK(E49,$E$7:$E$56,0)","v":21}]
[null,44,null,null,{"$f":"SUM($C50:$D50)","v":0},{"$f":"RANK(E50,$E$7:$E$56,0)","v":21}]
[null,45,null,null,{"$f":"SUM($C51:$D51)","v":0},{"$f":"RANK(E51,$E$7:$E$56,0)","v":21}]
[null,46,null,null,{"$f":"SUM($C52:$D52)","v":0},{"$f":"RANK(E52,$E$7:$E$56,0)","v":21}]
[null,47,null,null,{"$f":"SUM($C53:$D53)","v":0},{"$f":"RANK(E53,$E$7:$E$56,0)","v":21}]
[null,48,null,null,{"$f":"SUM($C54:$D54)","v":0},{"$f":"RANK(E54,$E$7:$E$56,0)","v":21}]
[null,49,null,null,{"$f":"SUM($C55:$D55)","v":0},{"$f":"RANK(E55,$E$7:$E$56,0)","v":21}]
[null,50,null,null,{"$f":"SUM($C56:$D56)","v":0},{"$f":"RANK(E56,$E$7:$E$56,0)","v":21}]

{"sheet":"S. Wälti","index":5,"n_rows":56,"n_cols":18,"rows_kept":56,"cut":false,"hidden":false,"merged":[]}
["Name"]
["Wälti Sascha "]
["Gutschein","Migros"]
["Waffe",90]
[null,"Sau Stich",null,null,null,null,null,null,null,null,null,null,null,"Glück",null,null,"Auszahlung"]
[null,"Nr. Passe","1. Schuss","2. Schuss","Total","Rang",null,"Besten Passen",null,"Besten Einzel",null,"Total Passen und Einzel"]
[null,1,96,90,{"$f":"SUM($C7:$D7)","v":186},{"$f":"RANK(E7,$E$7:$E$56,0)","v":1},null,{"$f":"LARGE(E7:E56,1)","v":186},null,{"$f":"IF($B$4=90,LARGE(C10:D56,1),IF($B$4=\"St\",LARGE(C11:D56,1),IF($B$4=57,LARGE(C9:D56,1))))","v":97}]
[null,2,94,92,{"$f":"SUM($C8:$D8)","v":186},{"$f":"RANK(E8,$E$7:$E$56,0)","v":1},null,{"$f":"LARGE(E7:E56,2)","v":186},null,{"$f":"IF($B$4=90,LARGE(C10:D56,2),IF($B$4=\"St\",LARGE(C11:D56,2),IF($B$4=57,LARGE(C9:D56,2))))","v":95},null,{"$f":"IF($B$4=57,SUM(H7:H8,J7:J12),IF($B$4=90,SUM(H7:H9,J7:J10),IF($B$4=\"St\",SUM(H7:H10,J7:J8))))","v":934},null,"Ansage",246,null,"1. Schuss",10]
[null,3,99,85,{"$f":"SUM($C9:$D9)","v":184},{"$f":"RANK(E9,$E$7:$E$56,0)","v":3},null,{"$f":"LARGE(E7:E56,3)","v":184},null,{"$f":"IF($B$4=90,LARGE($C$10:$D$56,3),IF($B$4=\"St\",LARGE($C$11:$D$56,3),IF($B$4=57,LARGE($C$9:$D$56,3))))","v":94},null,null,null,"Geschossen",283,null,"2. Schuss",10]
[null,4,95,87,{"$f":"SUM($C10:$D10)","v":182},{"$f":"RANK(E10,$E$7:$E$56,0)","v":4},null,{"$f":"LARGE(E7:E56,4)","v":182},null,{"$f":"IF($B$4=90,LARGE(C10:D56,4),IF($B$4=\"St\",LARGE(C11:D56,4),IF($B$4=57,LARGE(C9:D56,4))))","v":92},null,null,null,"Differenz",{"$f":"IF(O8>0,IF(O8>O9,O8-O9,O9-O8),\"\")","v":37},null,"3. Schuss",10]
[null,5,92,88,{"$f":"SUM($C11:$D11)","v":180},{"$f":"RANK(E11,$E$7:$E$56,0)","v":5},null,null,null,{"$f":"IF($B$4=90,LARGE(C10:D56,5),IF($B$4=\"St\",LARGE(C11:D56,5),IF($B$4=57,LARGE(C9:D56,5))))","v":92},null,null,null,null,null,null,"4. Schuss",7]
[null,6,90,90,{"$f":"SUM($C12:$D12)","v":180},{"$f":"RANK(E12,$E$7:$E$56,0)","v":5},null,null,null,{"$f":"IF($B$4=90,LARGE(C10:D56,6),IF($B$4=\"St\",LARGE(C11:D56,6),IF($B$4=57,LARGE(C9:D56,6))))","v":90},null,null,null,null,null,null,"5. Schuss",10]
[null,7,84,94,{"$f":"SUM($C13:$D13)","v":178},{"$f":"RANK(E13,$E$7:$E$56,0)","v":7},null,null,null,{"$f":"IF($B$4=90,LARGE(C11:D57,7),IF($B$4=\"St\",LARGE(C12:D57,7),IF($B$4=57,LARGE(C10:D57,7))))","v":90},null,null,null,null,null,null,"6. Schuss",8]
[null,8,89,88,{"$f":"SUM($C14:$D14)","v":177},{"$f":"RANK(E14,$E$7:$E$56,0)","v":8},null,null,null,{"$f":"IF($B$4=90,LARGE(C12:D58,8),IF($B$4=\"St\",LARGE(C13:D58,8),IF($B$4=57,LARGE(C11:D58,8))))","v":89},null,null,null,null,null,null,"7. Schuss",10]
[null,9,83,92,{"$f":"SUM($C15:$D15)","v":175},{"$f":"RANK(E15,$E$7:$E$56,0)","v":9},null,null,null,{"$f":"IF($B$4=90,LARGE(C13:D59,9),IF($B$4=\"St\",LARGE(C14:D59,9),IF($B$4=57,LARGE(C12:D59,9))))","v":86},null,null,null,null,null,null,"8. Schuss",8]
[null,10,90,85,{"$f":"SUM($C16:$D16)","v":175},{"$f":"RANK(E16,$E$7:$E$56,0)","v":9},null,null,null,null,null,null,null,null,null,null,"9. Schuss",9]
[null,11,90,80,{"$f":"SUM($C17:$D17)","v":170},{"$f":"RANK(E17,$E$7:$E$56,0)","v":11},null,null,null,null,null,null,null,null,null,null,"10. Schuss",10]
[null,12,84,86,{"$f":"SUM($C18:$D18)","v":170},{"$f":"RANK(E18,$E$7:$E$56,0)","v":11},null,null,null,null,null,null,null,null,null,null,"Total",{"$f":"SUM(R8:R17)","v":92}]
[null,13,82,83,{"$f":"SUM($C19:$D19)","v":165},{"$f":"RANK(E19,$E$7:$E$56,0)","v":13}]
[null,14,83,82,{"$f":"SUM($C20:$D20)","v":165},{"$f":"RANK(E20,$E$7:$E$56,0)","v":13}]
[null,15,66,97,{"$f":"SUM($C21:$D21)","v":163},{"$f":"RANK(E21,$E$7:$E$56,0)","v":15}]
[null,16,86,77,{"$f":"SUM($C22:$D22)","v":163},{"$f":"RANK(E22,$E$7:$E$56,0)","v":15}]
[null,17,78,85,{"$f":"SUM($C23:$D23)","v":163},{"$f":"RANK(E23,$E$7:$E$56,0)","v":15}]
[null,18,78,76,{"$f":"SUM($C24:$D24)","v":154},{"$f":"RANK(E24,$E$7:$E$56,0)","v":18}]
[null,19,65,84,{"$f":"SUM($C25:$D25)","v":149},{"$f":"RANK(E25,$E$7:$E$56,0)","v":19}]
[null,20,76,65,{"$f":"SUM($C26:$D26)","v":141},{"$f":"RANK(E26,$E$7:$E$56,0)","v":20}]
[null,21,null,null,{"$f":"SUM($C27:$D27)","v":0},{"$f":"RANK(E27,$E$7:$E$56,0)","v":21}]
[null,22,null,null,{"$f":"SUM($C28:$D28)","v":0},{"$f":"RANK(E28,$E$7:$E$56,0)","v":21}]
[null,23,null,null,{"$f":"SUM($C29:$D29)","v":0},{"$f":"RANK(E29,$E$7:$E$56,0)","v":21}]
[null,24,null,null,{"$f":"SUM($C30:$D30)","v":0},{"$f":"RANK(E30,$E$7:$E$56,0)","v":21}]
[null,25,null,null,{"$f":"SUM($C31:$D31)","v":0},{"$f":"RANK(E31,$E$7:$E$56,0)","v":21}]
[null,26,null,null,{"$f":"SUM($C32:$D32)","v":0},{"$f":"RANK(E32,$E$7:$E$56,0)","v":21}]
[null,27,null,null,{"$f":"SUM($C33:$D33)","v":0},{"$f":"RANK(E33,$E$7:$E$56,0)","v":21}]
[null,28,null,null,{"$f":"SUM($C34:$D34)","v":0},{"$f":"RANK(E34,$E$7:$E$56,0)","v":21}]
[null,29,null,null,{"$f":"SUM($C35:$D35)","v":0},{"$f":"RANK(E35,$E$7:$E$56,0)","v":21}]
[null,30,null,null,{"$f":"SUM($C36:$D36)","v":0},{"$f":"RANK(E36,$E$7:$E$56,0)","v":21}]
[null,31,null,null,{"$f":"SUM($C37:$D37)","v":0},{"$f":"RANK(E37,$E$7:$E$56,0)","v":21}]
[null,32,null,null,{"$f":"SUM($C38:$D38)","v":0},{"$f":"RANK(E38,$E$7:$E$56,0)","v":21}]
[null,33,null,null,{"$f":"SUM($C39:$D39)","v":0},{"$f":"RANK(E39,$E$7:$E$56,0)","v":21}]
[null,34,null,null,{"$f":"SUM($C40:$D40)","v":0},{"$f":"RANK(E40,$E$7:$E$56,0)","v":21}]
[null,35,null,null,{"$f":"SUM($C41:$D41)","v":0},{"$f":"RANK(E41,$E$7:$E$56,0)","v":21}]
[null,36,null,null,{"$f":"SUM($C42:$D42)","v":0},{"$f":"RANK(E42,$E$7:$E$56,0)","v":21}]
[null,37,null,null,{"$f":"SUM($C43:$D43)","v":0},{"$f":"RANK(E43,$E$7:$E$56,0)","v":21}]
[null,38,null,null,{"$f":"SUM($C44:$D44)","v":0},{"$f":"RANK(E44,$E$7:$E$56,0)","v":21}]
[null,39,null,null,{"$f":"SUM($C45:$D45)","v":0},{"$f":"RANK(E45,$E$7:$E$56,0)","v":21}]
[null,40,null,null,{"$f":"SUM($C46:$D46)","v":0},{"$f":"RANK(E46,$E$7:$E$56,0)","v":21}]
[null,41,null,null,{"$f":"SUM($C47:$D47)","v":0},{"$f":"RANK(E47,$E$7:$E$56,0)","v":21}]
[null,42,null,null,{"$f":"SUM($C48:$D48)","v":0},{"$f":"RANK(E48,$E$7:$E$56,0)","v":21}]
[null,43,null,null,{"$f":"SUM($C49:$D49)","v":0},{"$f":"RANK(E49,$E$7:$E$56,0)","v":21}]
[null,44,null,null,{"$f":"SUM($C50:$D50)","v":0},{"$f":"RANK(E50,$E$7:$E$56,0)","v":21}]
[null,45,null,null,{"$f":"SUM($C51:$D51)","v":0},{"$f":"RANK(E51,$E$7:$E$56,0)","v":21}]
[null,46,null,null,{"$f":"SUM($C52:$D52)","v":0},{"$f":"RANK(E52,$E$7:$E$56,0)","v":21}]
[null,47,null,null,{"$f":"SUM($C53:$D53)","v":0},{"$f":"RANK(E53,$E$7:$E$56,0)","v":21}]
[null,48,null,null,{"$f":"SUM($C54:$D54)","v":0},{"$f":"RANK(E54,$E$7:$E$56,0)","v":21}]
[null,49,null,null,{"$f":"SUM($C55:$D55)","v":0},{"$f":"RANK(E55,$E$7:$E$56,0)","v":21}]
[null,50,null,null,{"$f":"SUM($C56:$D56)","v":0},{"$f":"RANK(E56,$E$7:$E$56,0)","v":21}]

{"sheet":"H. Bürgi","index":6,"n_rows":56,"n_cols":18,"rows_kept":56,"cut":false,"hidden":false,"merged":[]}
["Name"]
["Bürgi Heinz"]
["Gutschein","Migros"]
["Waffe",90]
[null,"Sau Stich",null,null,null,null,null,null,null,null,null,null,null,"Glück",null,null,"Auszahlung"]
[null,"Nr. Passe","1. Schuss","2. Schuss","Total","Rang",null,"Besten Passen",null,"Besten Einzel",null,"Total Passen und Einzel"]
[null,1,92,99,{"$f":"SUM($C7:$D7)","v":191},{"$f":"RANK(E7,$E$7:$E$56,0)","v":1},null,{"$f":"LARGE(E7:E56,1)","v":191},null,{"$f":"IF($B$4=90,LARGE(C10:D56,1),IF($B$4=\"St\",LARGE(C11:D56,1),IF($B$4=57,LARGE(C9:D56,1))))","v":97}]
[null,2,95,93,{"$f":"SUM($C8:$D8)","v":188},{"$f":"RANK(E8,$E$7:$E$56,0)","v":2},null,{"$f":"LARGE(E7:E56,2)","v":188},null,{"$f":"IF($B$4=90,LARGE(C10:D56,2),IF($B$4=\"St\",LARGE(C11:D56,2),IF($B$4=57,LARGE(C9:D56,2))))","v":97},null,{"$f":"IF($B$4=57,SUM(H7:H8,J7:J12),IF($B$4=90,SUM(H7:H9,J7:J10),IF($B$4=\"St\",SUM(H7:H10,J7:J8))))","v":951},null,"Ansage",237,null,"1. Schuss",8]
[null,3,91,95,{"$f":"SUM($C9:$D9)","v":186},{"$f":"RANK(E9,$E$7:$E$56,0)","v":3},null,{"$f":"LARGE(E7:E56,3)","v":186},null,{"$f":"IF($B$4=90,LARGE($C$10:$D$56,3),IF($B$4=\"St\",LARGE($C$11:$D$56,3),IF($B$4=57,LARGE($C$9:$D$56,3))))","v":96},null,null,null,"Geschossen",224,null,"2. Schuss",8]
[null,4,89,97,{"$f":"SUM($C10:$D10)","v":186},{"$f":"RANK(E10,$E$7:$E$56,0)","v":3},null,{"$f":"LARGE(E7:E56,4)","v":186},null,{"$f":"IF($B$4=90,LARGE(C10:D56,4),IF($B$4=\"St\",LARGE(C11:D56,4),IF($B$4=57,LARGE(C9:D56,4))))","v":96},null,null,null,"Differenz",{"$f":"IF(O8>0,IF(O8>O9,O8-O9,O9-O8),\"\")","v":13},null,"3. Schuss",9]
[null,5,91,94,{"$f":"SUM($C11:$D11)","v":185},{"$f":"RANK(E11,$E$7:$E$56,0)","v":5},null,null,null,{"$f":"IF($B$4=90,LARGE(C10:D56,5),IF($B$4=\"St\",LARGE(C11:D56,5),IF($B$4=57,LARGE(C9:D56,5))))","v":94},null,null,null,null,null,null,"4. Schuss",9]
[null,6,91,94,{"$f":"SUM($C12:$D12)","v":185},{"$f":"RANK(E12,$E$7:$E$56,0)","v":5},null,null,null,{"$f":"IF($B$4=90,LARGE(C10:D56,6),IF($B$4=\"St\",LARGE(C11:D56,6),IF($B$4=57,LARGE(C9:D56,6))))","v":94},null,null,null,null,null,null,"5. Schuss",10]
[null,7,96,85,{"$f":"SUM($C13:$D13)","v":181},{"$f":"RANK(E13,$E$7:$E$56,0)","v":7},null,null,null,{"$f":"IF($B$4=90,LARGE(C11:D57,7),IF($B$4=\"St\",LARGE(C12:D57,7),IF($B$4=57,LARGE(C10:D57,7))))","v":93},null,null,null,null,null,null,"6. Schuss",8]
[null,8,81,97,{"$f":"SUM($C14:$D14)","v":178},{"$f":"RANK(E14,$E$7:$E$56,0)","v":8},null,null,null,{"$f":"IF($B$4=90,LARGE(C12:D58,8),IF($B$4=\"St\",LARGE(C13:D58,8),IF($B$4=57,LARGE(C11:D58,8))))","v":93},null,null,null,null,null,null,"7. Schuss",9]
[null,9,93,83,{"$f":"SUM($C15:$D15)","v":176},{"$f":"RANK(E15,$E$7:$E$56,0)","v":9},null,null,null,{"$f":"IF($B$4=90,LARGE(C13:D59,9),IF($B$4=\"St\",LARGE(C14:D59,9),IF($B$4=57,LARGE(C12:D59,9))))","v":90},null,null,null,null,null,null,"8. Schuss",9]
[null,10,82,93,{"$f":"SUM($C16:$D16)","v":175},{"$f":"RANK(E16,$E$7:$E$56,0)","v":10},null,null,null,null,null,null,null,null,null,null,"9. Schuss",10]
[null,11,84,89,{"$f":"SUM($C17:$D17)","v":173},{"$f":"RANK(E17,$E$7:$E$56,0)","v":11},null,null,null,null,null,null,null,null,null,null,"10. Schuss",10]
[null,12,91,82,{"$f":"SUM($C18:$D18)","v":173},{"$f":"RANK(E18,$E$7:$E$56,0)","v":11},null,null,null,null,null,null,null,null,null,null,"Total",{"$f":"SUM(R8:R17)","v":90}]
[null,13,86,87,{"$f":"SUM($C19:$D19)","v":173},{"$f":"RANK(E19,$E$7:$E$56,0)","v":11}]
[null,14,87,86,{"$f":"SUM($C20:$D20)","v":173},{"$f":"RANK(E20,$E$7:$E$56,0)","v":11}]
[null,15,78,94,{"$f":"SUM($C21:$D21)","v":172},{"$f":"RANK(E21,$E$7:$E$56,0)","v":15}]
[null,16,85,86,{"$f":"SUM($C22:$D22)","v":171},{"$f":"RANK(E22,$E$7:$E$56,0)","v":16}]
[null,17,81,90,{"$f":"SUM($C23:$D23)","v":171},{"$f":"RANK(E23,$E$7:$E$56,0)","v":16}]
[null,18,88,82,{"$f":"SUM($C24:$D24)","v":170},{"$f":"RANK(E24,$E$7:$E$56,0)","v":18}]
[null,19,76,93,{"$f":"SUM($C25:$D25)","v":169},{"$f":"RANK(E25,$E$7:$E$56,0)","v":19}]
[null,20,86,83,{"$f":"SUM($C26:$D26)","v":169},{"$f":"RANK(E26,$E$7:$E$56,0)","v":19}]
[null,21,89,79,{"$f":"SUM($C27:$D27)","v":168},{"$f":"RANK(E27,$E$7:$E$56,0)","v":21}]
[null,22,80,86,{"$f":"SUM($C28:$D28)","v":166},{"$f":"RANK(E28,$E$7:$E$56,0)","v":22}]
[null,23,89,76,{"$f":"SUM($C29:$D29)","v":165},{"$f":"RANK(E29,$E$7:$E$56,0)","v":23}]
[null,24,79,86,{"$f":"SUM($C30:$D30)","v":165},{"$f":"RANK(E30,$E$7:$E$56,0)","v":23}]
[null,25,76,89,{"$f":"SUM($C31:$D31)","v":165},{"$f":"RANK(E31,$E$7:$E$56,0)","v":23}]
[null,26,68,96,{"$f":"SUM($C32:$D32)","v":164},{"$f":"RANK(E32,$E$7:$E$56,0)","v":26}]
[null,27,88,73,{"$f":"SUM($C33:$D33)","v":161},{"$f":"RANK(E33,$E$7:$E$56,0)","v":27}]
[null,28,89,67,{"$f":"SUM($C34:$D34)","v":156},{"$f":"RANK(E34,$E$7:$E$56,0)","v":28}]
[null,29,73,82,{"$f":"SUM($C35:$D35)","v":155},{"$f":"RANK(E35,$E$7:$E$56,0)","v":29}]
[null,30,76,78,{"$f":"SUM($C36:$D36)","v":154},{"$f":"RANK(E36,$E$7:$E$56,0)","v":30}]
[null,31,74,78,{"$f":"SUM($C37:$D37)","v":152},{"$f":"RANK(E37,$E$7:$E$56,0)","v":31}]
[null,32,86,66,{"$f":"SUM($C38:$D38)","v":152},{"$f":"RANK(E38,$E$7:$E$56,0)","v":31}]
[null,33,77,73,{"$f":"SUM($C39:$D39)","v":150},{"$f":"RANK(E39,$E$7:$E$56,0)","v":33}]
[null,34,67,82,{"$f":"SUM($C40:$D40)","v":149},{"$f":"RANK(E40,$E$7:$E$56,0)","v":34}]
[null,35,78,71,{"$f":"SUM($C41:$D41)","v":149},{"$f":"RANK(E41,$E$7:$E$56,0)","v":34}]
[null,36,79,69,{"$f":"SUM($C42:$D42)","v":148},{"$f":"RANK(E42,$E$7:$E$56,0)","v":36}]
[null,37,84,55,{"$f":"SUM($C43:$D43)","v":139},{"$f":"RANK(E43,$E$7:$E$56,0)","v":37}]
[null,38,68,71,{"$f":"SUM($C44:$D44)","v":139},{"$f":"RANK(E44,$E$7:$E$56,0)","v":37}]
[null,39,62,76,{"$f":"SUM($C45:$D45)","v":138},{"$f":"RANK(E45,$E$7:$E$56,0)","v":39}]
[null,40,70,64,{"$f":"SUM($C46:$D46)","v":134},{"$f":"RANK(E46,$E$7:$E$56,0)","v":40}]
[null,41,null,null,{"$f":"SUM($C47:$D47)","v":0},{"$f":"RANK(E47,$E$7:$E$56,0)","v":41}]
[null,42,null,null,{"$f":"SUM($C48:$D48)","v":0},{"$f":"RANK(E48,$E$7:$E$56,0)","v":41}]
[null,43,null,null,{"$f":"SUM($C49:$D49)","v":0},{"$f":"RANK(E49,$E$7:$E$56,0)","v":41}]
[null,44,null,null,{"$f":"SUM($C50:$D50)","v":0},{"$f":"RANK(E50,$E$7:$E$56,0)","v":41}]
[null,45,null,null,{"$f":"SUM($C51:$D51)","v":0},{"$f":"RANK(E51,$E$7:$E$56,0)","v":41}]
[null,46,null,null,{"$f":"SUM($C52:$D52)","v":0},{"$f":"RANK(E52,$E$7:$E$56,0)","v":41}]
[null,47,null,null,{"$f":"SUM($C53:$D53)","v":0},{"$f":"RANK(E53,$E$7:$E$56,0)","v":41}]
[null,48,null,null,{"$f":"SUM($C54:$D54)","v":0},{"$f":"RANK(E54,$E$7:$E$56,0)","v":41}]
[null,49,null,null,{"$f":"SUM($C55:$D55)","v":0},{"$f":"RANK(E55,$E$7:$E$56,0)","v":41}]
[null,50,null,null,{"$f":"SUM($C56:$D56)","v":0},{"$f":"RANK(E56,$E$7:$E$56,0)","v":41}]

{"sheet":"D. Jenni","index":7,"n_rows":56,"n_cols":18,"rows_kept":56,"cut":false,"hidden":false,"merged":[]}
["Name"]
["Jenni Daniel"]
["Gutschein","Coop"]
["Waffe",57]
[null,"Sau Stich",null,null,null,null,null,null,null,null,null,null,null,"Glück",null,null,"Auszahlung"]
[null,"Nr. Passe","1. Schuss","2. Schuss","Total","Rang",null,"Besten Passen",null,"Besten Einzel",null,"Total Passen und Einzel"]
[null,1,98,71,{"$f":"SUM($C7:$D7)","v":169},{"$f":"RANK(E7,$E$7:$E$56,0)","v":1},null,{"$f":"LARGE(E7:E56,1)","v":169},null,{"$f":"IF($B$4=90,LARGE(C10:D56,1),IF($B$4=\"St\",LARGE(C11:D56,1),IF($B$4=57,LARGE(C9:D56,1))))","v":91}]
[null,2,98,71,{"$f":"SUM($C8:$D8)","v":169},{"$f":"RANK(E8,$E$7:$E$56,0)","v":1},null,{"$f":"LARGE(E7:E56,2)","v":169},null,{"$f":"IF($B$4=90,LARGE(C10:D56,2),IF($B$4=\"St\",LARGE(C11:D56,2),IF($B$4=57,LARGE(C9:D56,2))))","v":89},null,{"$f":"IF($B$4=57,SUM(H7:H8,J7:J12),IF($B$4=90,SUM(H7:H9,J7:J10),IF($B$4=\"St\",SUM(H7:H10,J7:J8))))","v":850},null,"Ansage",243,null,"1. Schuss",7]
[null,3,81,83,{"$f":"SUM($C9:$D9)","v":164},{"$f":"RANK(E9,$E$7:$E$56,0)","v":3},null,{"$f":"LARGE(E7:E56,3)","v":164},null,{"$f":"IF($B$4=90,LARGE($C$10:$D$56,3),IF($B$4=\"St\",LARGE($C$11:$D$56,3),IF($B$4=57,LARGE($C$9:$D$56,3))))","v":84},null,null,null,"Geschossen",193,null,"2. Schuss",10]
[null,4,89,72,{"$f":"SUM($C10:$D10)","v":161},{"$f":"RANK(E10,$E$7:$E$56,0)","v":4},null,{"$f":"LARGE(E7:E56,4)","v":161},null,{"$f":"IF($B$4=90,LARGE(C10:D56,4),IF($B$4=\"St\",LARGE(C11:D56,4),IF($B$4=57,LARGE(C9:D56,4))))","v":83},null,null,null,"Differenz",{"$f":"IF(O8>0,IF(O8>O9,O8-O9,O9-O8),\"\")","v":50},null,"3. Schuss",9]
[null,5,83,78,{"$f":"SUM($C11:$D11)","v":161},{"$f":"RANK(E11,$E$7:$E$56,0)","v":4},null,null,null,{"$f":"IF($B$4=90,LARGE(C10:D56,5),IF($B$4=\"St\",LARGE(C11:D56,5),IF($B$4=57,LARGE(C9:D56,5))))","v":83},null,null,null,null,null,null,"4. Schuss",10]
[null,6,91,68,{"$f":"SUM($C12:$D12)","v":159},{"$f":"RANK(E12,$E$7:$E$56,0)","v":6},null,null,null,{"$f":"IF($B$4=90,LARGE(C10:D56,6),IF($B$4=\"St\",LARGE(C11:D56,6),IF($B$4=57,LARGE(C9:D56,6))))","v":82},null,null,null,null,null,null,"5. Schuss",8]
[null,7,80,76,{"$f":"SUM($C13:$D13)","v":156},{"$f":"RANK(E13,$E$7:$E$56,0)","v":7},null,null,null,{"$f":"IF($B$4=90,LARGE(C11:D57,7),IF($B$4=\"St\",LARGE(C12:D57,7),IF($B$4=57,LARGE(C10:D57,7))))","v":79},null,null,null,null,null,null,"6. Schuss",10]
[null,8,70,82,{"$f":"SUM($C14:$D14)","v":152},{"$f":"RANK(E14,$E$7:$E$56,0)","v":8},null,null,null,{"$f":"IF($B$4=90,LARGE(C12:D58,8),IF($B$4=\"St\",LARGE(C13:D58,8),IF($B$4=57,LARGE(C11:D58,8))))","v":76},null,null,null,null,null,null,"7. Schuss",8]
[null,9,66,84,{"$f":"SUM($C15:$D15)","v":150},{"$f":"RANK(E15,$E$7:$E$56,0)","v":9},null,null,null,{"$f":"IF($B$4=90,LARGE(C13:D59,9),IF($B$4=\"St\",LARGE(C14:D59,9),IF($B$4=57,LARGE(C12:D59,9))))","v":75},null,null,null,null,null,null,"8. Schuss",9]
[null,10,75,75,{"$f":"SUM($C16:$D16)","v":150},{"$f":"RANK(E16,$E$7:$E$56,0)","v":9},null,{"$f":"'D. Jenni'!B4","v":57},null,null,null,null,null,null,null,null,"9. Schuss",10]
[null,11,68,79,{"$f":"SUM($C17:$D17)","v":147},{"$f":"RANK(E17,$E$7:$E$56,0)","v":11},null,null,null,null,null,null,null,null,null,null,"10. Schuss",6]
[null,12,75,70,{"$f":"SUM($C18:$D18)","v":145},{"$f":"RANK(E18,$E$7:$E$56,0)","v":12},null,null,null,null,null,null,null,null,null,null,"Total",{"$f":"SUM(R8:R17)","v":87}]
[null,13,69,76,{"$f":"SUM($C19:$D19)","v":145},{"$f":"RANK(E19,$E$7:$E$56,0)","v":12}]
[null,14,66,72,{"$f":"SUM($C20:$D20)","v":138},{"$f":"RANK(E20,$E$7:$E$56,0)","v":14}]
[null,15,71,55,{"$f":"SUM($C21:$D21)","v":126},{"$f":"RANK(E21,$E$7:$E$56,0)","v":15}]
[null,16,67,58,{"$f":"SUM($C22:$D22)","v":125},{"$f":"RANK(E22,$E$7:$E$56,0)","v":16}]
[null,17,47,64,{"$f":"SUM($C23:$D23)","v":111},{"$f":"RANK(E23,$E$7:$E$56,0)","v":17}]
[null,18,43,65,{"$f":"SUM($C24:$D24)","v":108},{"$f":"RANK(E24,$E$7:$E$56,0)","v":18}]
[null,19,51,34,{"$f":"SUM($C25:$D25)","v":85},{"$f":"RANK(E25,$E$7:$E$56,0)","v":19}]
[null,20,0,61,{"$f":"SUM($C26:$D26)","v":61},{"$f":"RANK(E26,$E$7:$E$56,0)","v":20}]
[null,21,null,null,{"$f":"SUM($C27:$D27)","v":0},{"$f":"RANK(E27,$E$7:$E$56,0)","v":21}]
[null,22,null,null,{"$f":"SUM($C28:$D28)","v":0},{"$f":"RANK(E28,$E$7:$E$56,0)","v":21}]
[null,23,null,null,{"$f":"SUM($C29:$D29)","v":0},{"$f":"RANK(E29,$E$7:$E$56,0)","v":21}]
[null,24,null,null,{"$f":"SUM($C30:$D30)","v":0},{"$f":"RANK(E30,$E$7:$E$56,0)","v":21}]
[null,25,null,null,{"$f":"SUM($C31:$D31)","v":0},{"$f":"RANK(E31,$E$7:$E$56,0)","v":21}]
[null,26,null,null,{"$f":"SUM($C32:$D32)","v":0},{"$f":"RANK(E32,$E$7:$E$56,0)","v":21}]
[null,27,null,null,{"$f":"SUM($C33:$D33)","v":0},{"$f":"RANK(E33,$E$7:$E$56,0)","v":21}]
[null,28,null,null,{"$f":"SUM($C34:$D34)","v":0},{"$f":"RANK(E34,$E$7:$E$56,0)","v":21}]
[null,29,null,null,{"$f":"SUM($C35:$D35)","v":0},{"$f":"RANK(E35,$E$7:$E$56,0)","v":21}]
[null,30,null,null,{"$f":"SUM($C36:$D36)","v":0},{"$f":"RANK(E36,$E$7:$E$56,0)","v":21}]
[null,31,null,null,{"$f":"SUM($C37:$D37)","v":0},{"$f":"RANK(E37,$E$7:$E$56,0)","v":21}]
[null,32,null,null,{"$f":"SUM($C38:$D38)","v":0},{"$f":"RANK(E38,$E$7:$E$56,0)","v":21}]
[null,33,null,null,{"$f":"SUM($C39:$D39)","v":0},{"$f":"RANK(E39,$E$7:$E$56,0)","v":21}]
[null,34,null,null,{"$f":"SUM($C40:$D40)","v":0},{"$f":"RANK(E40,$E$7:$E$56,0)","v":21}]
[null,35,null,null,{"$f":"SUM($C41:$D41)","v":0},{"$f":"RANK(E41,$E$7:$E$56,0)","v":21}]
[null,36,null,null,{"$f":"SUM($C42:$D42)","v":0},{"$f":"RANK(E42,$E$7:$E$56,0)","v":21}]
[null,37,null,null,{"$f":"SUM($C43:$D43)","v":0},{"$f":"RANK(E43,$E$7:$E$56,0)","v":21}]
[null,38,null,null,{"$f":"SUM($C44:$D44)","v":0},{"$f":"RANK(E44,$E$7:$E$56,0)","v":21}]
[null,39,null,null,{"$f":"SUM($C45:$D45)","v":0},{"$f":"RANK(E45,$E$7:$E$56,0)","v":21}]
[null,40,null,null,{"$f":"SUM($C46:$D46)","v":0},{"$f":"RANK(E46,$E$7:$E$56,0)","v":21}]
[null,41,null,null,{"$f":"SUM($C47:$D47)","v":0},{"$f":"RANK(E47,$E$7:$E$56,0)","v":21}]
[null,42,null,null,{"$f":"SUM($C48:$D48)","v":0},{"$f":"RANK(E48,$E$7:$E$56,0)","v":21}]
[null,43,null,null,{"$f":"SUM($C49:$D49)","v":0},{"$f":"RANK(E49,$E$7:$E$56,0)","v":21}]
[null,44,null,null,{"$f":"SUM($C50:$D50)","v":0},{"$f":"RANK(E50,$E$7:$E$56,0)","v":21}]
[null,45,null,null,{"$f":"SUM($C51:$D51)","v":0},{"$f":"RANK(E51,$E$7:$E$56,0)","v":21}]
[null,46,null,null,{"$f":"SUM($C52:$D52)","v":0},{"$f":"RANK(E52,$E$7:$E$56,0)","v":21}]
[null,47,null,null,{"$f":"SUM($C53:$D53)","v":0},{"$f":"RANK(E53,$E$7:$E$56,0)","v":21}]
[null,48,null,null,{"$f":"SUM($C54:$D54)","v":0},{"$f":"RANK(E54,$E$7:$E$56,0)","v":21}]
[null,49,null,null,{"$f":"SUM($C55:$D55)","v":0},{"$f":"RANK(E55,$E$7:$E$56,0)","v":21}]
[null,50,null,null,{"$f":"SUM($C56:$D56)","v":0},{"$f":"RANK(E56,$E$7:$E$56,0)","v":21}]

{"sheet":"E .Rüfli","index":8,"n_rows":56,"n_cols":18,"rows_kept":56,"cut":false,"hidden":false,"merged":[]}
["Name"]
["Rüfli Ernst"]
["Gutschein","Coop"]
["Waffe",90]
[null,"Sau Stich",null,null,null,null,null,null,null,null,null,null,null,"Glück",null,null,"Auszahlung"]
[null,"Nr. Passe","1. Schuss","2. Schuss","Total","Rang",null,"Besten Passen",null,"Besten Einzel",null,"Total Passen und Einzel"]
[null,1,99,95,{"$f":"SUM($C7:$D7)","v":194},{"$f":"RANK(E7,$E$7:$E$56,0)","v":1},null,{"$f":"LARGE(E7:E56,1)","v":194},null,{"$f":"IF($B$4=90,LARGE(C10:D56,1),IF($B$4=\"St\",LARGE(C11:D56,1),IF($B$4=57,LARGE(C9:D56,1))))","v":98}]
[null,2,94,92,{"$f":"SUM($C8:$D8)","v":186},{"$f":"RANK(E8,$E$7:$E$56,0)","v":2},null,{"$f":"LARGE(E7:E56,2)","v":186},null,{"$f":"IF($B$4=90,LARGE(C10:D56,2),IF($B$4=\"St\",LARGE(C11:D56,2),IF($B$4=57,LARGE(C9:D56,2))))","v":95},null,{"$f":"IF($B$4=57,SUM(H7:H8,J7:J12),IF($B$4=90,SUM(H7:H9,J7:J10),IF($B$4=\"St\",SUM(H7:H10,J7:J8))))","v":940},null,"Ansage",230,null,"1. Schuss",6]
[null,3,89,94,{"$f":"SUM($C9:$D9)","v":183},{"$f":"RANK(E9,$E$7:$E$56,0)","v":3},null,{"$f":"LARGE(E7:E56,3)","v":183},null,{"$f":"IF($B$4=90,LARGE($C$10:$D$56,3),IF($B$4=\"St\",LARGE($C$11:$D$56,3),IF($B$4=57,LARGE($C$9:$D$56,3))))","v":93},null,null,null,"Geschossen",255,null,"2. Schuss",7]
[null,4,89,90,{"$f":"SUM($C10:$D10)","v":179},{"$f":"RANK(E10,$E$7:$E$56,0)","v":4},null,{"$f":"LARGE(E7:E56,4)","v":179},null,{"$f":"IF($B$4=90,LARGE(C10:D56,4),IF($B$4=\"St\",LARGE(C11:D56,4),IF($B$4=57,LARGE(C9:D56,4))))","v":91},null,null,null,"Differenz",{"$f":"IF(O8>0,IF(O8>O9,O8-O9,O9-O8),\"\")","v":25},null,"3. Schuss",9]
[null,5,81,98,{"$f":"SUM($C11:$D11)","v":179},{"$f":"RANK(E11,$E$7:$E$56,0)","v":4},null,null,null,{"$f":"IF($B$4=90,LARGE(C10:D56,5),IF($B$4=\"St\",LARGE(C11:D56,5),IF($B$4=57,LARGE(C9:D56,5))))","v":90},null,null,null,null,null,null,"4. Schuss",9]
[null,6,93,84,{"$f":"SUM($C12:$D12)","v":177},{"$f":"RANK(E12,$E$7:$E$56,0)","v":6},null,null,null,{"$f":"IF($B$4=90,LARGE(C10:D56,6),IF($B$4=\"St\",LARGE(C11:D56,6),IF($B$4=57,LARGE(C9:D56,6))))","v":90},null,null,null,null,null,null,"5. Schuss",9]
[null,7,91,85,{"$f":"SUM($C13:$D13)","v":176},{"$f":"RANK(E13,$E$7:$E$56,0)","v":7},null,null,null,{"$f":"IF($B$4=90,LARGE(C11:D57,7),IF($B$4=\"St\",LARGE(C12:D57,7),IF($B$4=57,LARGE(C10:D57,7))))","v":90},null,null,null,null,null,null,"6. Schuss",8]
[null,8,88,86,{"$f":"SUM($C14:$D14)","v":174},{"$f":"RANK(E14,$E$7:$E$56,0)","v":8},null,null,null,{"$f":"IF($B$4=90,LARGE(C12:D58,8),IF($B$4=\"St\",LARGE(C13:D58,8),IF($B$4=57,LARGE(C11:D58,8))))","v":90},null,null,null,null,null,null,"7. Schuss",8]
[null,9,90,83,{"$f":"SUM($C15:$D15)","v":173},{"$f":"RANK(E15,$E$7:$E$56,0)","v":9},null,null,null,{"$f":"IF($B$4=90,LARGE(C13:D59,9),IF($B$4=\"St\",LARGE(C14:D59,9),IF($B$4=57,LARGE(C12:D59,9))))","v":88},null,null,null,null,null,null,"8. Schuss",10]
[null,10,77,95,{"$f":"SUM($C16:$D16)","v":172},{"$f":"RANK(E16,$E$7:$E$56,0)","v":10},null,null,null,null,null,null,null,null,null,null,"9. Schuss",6]
[null,11,80,90,{"$f":"SUM($C17:$D17)","v":170},{"$f":"RANK(E17,$E$7:$E$56,0)","v":11},null,null,null,null,null,null,null,null,null,null,"10. Schuss",8]
[null,12,87,82,{"$f":"SUM($C18:$D18)","v":169},{"$f":"RANK(E18,$E$7:$E$56,0)","v":12},null,null,null,null,null,null,null,null,null,null,"Total",{"$f":"SUM(R8:R17)","v":80}]
[null,13,90,78,{"$f":"SUM($C19:$D19)","v":168},{"$f":"RANK(E19,$E$7:$E$56,0)","v":13}]
[null,14,84,81,{"$f":"SUM($C20:$D20)","v":165},{"$f":"RANK(E20,$E$7:$E$56,0)","v":14}]
[null,15,90,74,{"$f":"SUM($C21:$D21)","v":164},{"$f":"RANK(E21,$E$7:$E$56,0)","v":15}]
[null,16,86,78,{"$f":"SUM($C22:$D22)","v":164},{"$f":"RANK(E22,$E$7:$E$56,0)","v":15}]
[null,17,80,83,{"$f":"SUM($C23:$D23)","v":163},{"$f":"RANK(E23,$E$7:$E$56,0)","v":17}]
[null,18,72,90,{"$f":"SUM($C24:$D24)","v":162},{"$f":"RANK(E24,$E$7:$E$56,0)","v":18}]
[null,19,74,85,{"$f":"SUM($C25:$D25)","v":159},{"$f":"RANK(E25,$E$7:$E$56,0)","v":19}]
[null,20,72,85,{"$f":"SUM($C26:$D26)","v":157},{"$f":"RANK(E26,$E$7:$E$56,0)","v":20}]
[null,21,77,79,{"$f":"SUM($C27:$D27)","v":156},{"$f":"RANK(E27,$E$7:$E$56,0)","v":21}]
[null,22,61,89,{"$f":"SUM($C28:$D28)","v":150},{"$f":"RANK(E28,$E$7:$E$56,0)","v":22}]
[null,23,82,65,{"$f":"SUM($C29:$D29)","v":147},{"$f":"RANK(E29,$E$7:$E$56,0)","v":23}]
[null,24,75,71,{"$f":"SUM($C30:$D30)","v":146},{"$f":"RANK(E30,$E$7:$E$56,0)","v":24}]
[null,25,77,68,{"$f":"SUM($C31:$D31)","v":145},{"$f":"RANK(E31,$E$7:$E$56,0)","v":25}]
[null,26,83,61,{"$f":"SUM($C32:$D32)","v":144},{"$f":"RANK(E32,$E$7:$E$56,0)","v":26}]
[null,27,74,69,{"$f":"SUM($C33:$D33)","v":143},{"$f":"RANK(E33,$E$7:$E$56,0)","v":27}]
[null,28,74,64,{"$f":"SUM($C34:$D34)","v":138},{"$f":"RANK(E34,$E$7:$E$56,0)","v":28}]
[null,29,80,56,{"$f":"SUM($C35:$D35)","v":136},{"$f":"RANK(E35,$E$7:$E$56,0)","v":29}]
[null,30,82,51,{"$f":"SUM($C36:$D36)","v":133},{"$f":"RANK(E36,$E$7:$E$56,0)","v":30}]
[null,31,null,null,{"$f":"SUM($C37:$D37)","v":0},{"$f":"RANK(E37,$E$7:$E$56,0)","v":31}]
[null,32,null,null,{"$f":"SUM($C38:$D38)","v":0},{"$f":"RANK(E38,$E$7:$E$56,0)","v":31}]
[null,33,null,null,{"$f":"SUM($C39:$D39)","v":0},{"$f":"RANK(E39,$E$7:$E$56,0)","v":31}]
[null,34,null,null,{"$f":"SUM($C40:$D40)","v":0},{"$f":"RANK(E40,$E$7:$E$56,0)","v":31}]
[null,35,null,null,{"$f":"SUM($C41:$D41)","v":0},{"$f":"RANK(E41,$E$7:$E$56,0)","v":31}]
[null,36,null,null,{"$f":"SUM($C42:$D42)","v":0},{"$f":"RANK(E42,$E$7:$E$56,0)","v":31}]
[null,37,null,null,{"$f":"SUM($C43:$D43)","v":0},{"$f":"RANK(E43,$E$7:$E$56,0)","v":31}]
[null,38,null,null,{"$f":"SUM($C44:$D44)","v":0},{"$f":"RANK(E44,$E$7:$E$56,0)","v":31}]
[null,39,null,null,{"$f":"SUM($C45:$D45)","v":0},{"$f":"RANK(E45,$E$7:$E$56,0)","v":31}]
[null,40,null,null,{"$f":"SUM($C46:$D46)","v":0},{"$f":"RANK(E46,$E$7:$E$56,0)","v":31}]
[null,41,null,null,{"$f":"SUM($C47:$D47)","v":0},{"$f":"RANK(E47,$E$7:$E$56,0)","v":31}]
[null,42,null,null,{"$f":"SUM($C48:$D48)","v":0},{"$f":"RANK(E48,$E$7:$E$56,0)","v":31}]
[null,43,null,null,{"$f":"SUM($C49:$D49)","v":0},{"$f":"RANK(E49,$E$7:$E$56,0)","v":31}]
[null,44,null,null,{"$f":"SUM($C50:$D50)","v":0},{"$f":"RANK(E50,$E$7:$E$56,0)","v":31}]
[null,45,null,null,{"$f":"SUM($C51:$D51)","v":0},{"$f":"RANK(E51,$E$7:$E$56,0)","v":31}]
[null,46,null,null,{"$f":"SUM($C52:$D52)","v":0},{"$f":"RANK(E52,$E$7:$E$56,0)","v":31}]
[null,47,null,null,{"$f":"SUM($C53:$D53)","v":0},{"$f":"RANK(E53,$E$7:$E$56,0)","v":31}]
[null,48,null,null,{"$f":"SUM($C54:$D54)","v":0},{"$f":"RANK(E54,$E$7:$E$56,0)","v":31}]
[null,49,null,null,{"$f":"SUM($C55:$D55)","v":0},{"$f":"RANK(E55,$E$7:$E$56,0)","v":31}]
[null,50,null,null,{"$f":"SUM($C56:$D56)","v":0},{"$f":"RANK(E56,$E$7:$E$56,0)","v":31}]

{"sheet":"M. Rüfli","index":9,"n_rows":56,"n_cols":18,"rows_kept":56,"cut":false,"hidden":false,"merged":[]}
["Name"]
["Rüfli Magdalena "]
["Gutschein"]
["Waffe",90]
[null,"Sau Stich",null,null,null,null,null,null,null,null,null,null,null,"Glück",null,null,"Auszahlung"]
[null,"Nr. Passe","1. Schuss","2. Schuss","Total","Rang",null,"Besten Passen",null,"Besten Einzel",null,"Total Passen und Einzel"]
[null,1,null,null,{"$f":"SUM($C7:$D7)","v":0},{"$f":"RANK(E7,$E$7:$E$56,0)","v":1},null,{"$f":"LARGE(E7:E56,1)","v":0},null,{"$f":"IF($B$4=90,LARGE(C10:D56,1),IF($B$4=\"St\",LARGE(C11:D56,1),IF($B$4=57,LARGE(C9:D56,1))))","v":{"$error":"#NUM!"}}]
[null,2,null,null,0,1,null,{"$f":"LARGE(E7:E56,2)","v":0},null,{"$f":"IF($B$4=90,LARGE(C10:D56,2),IF($B$4=\"St\",LARGE(C11:D56,2),IF($B$4=57,LARGE(C9:D56,2))))","v":{"$error":"#NUM!"}},null,{"$f":"IF($B$4=57,SUM(H7:H8,J7:J12),IF($B$4=90,SUM(H7:H9,J7:J10),IF($B$4=\"St\",SUM(H7:H10,J7:J8))))","v":{"$error":"#NUM!"}},null,"Ansage",null,null,"1. Schuss"]
[null,3,null,null,0,1,null,{"$f":"LARGE(E7:E56,3)","v":0},null,{"$f":"IF($B$4=90,LARGE($C$10:$D$56,3),IF($B$4=\"St\",LARGE($C$11:$D$56,3),IF($B$4=57,LARGE($C$9:$D$56,3))))","v":{"$error":"#NUM!"}},null,null,null,"Geschossen",null,null,"2. Schuss"]
[null,4,null,null,0,1,null,{"$f":"LARGE(E7:E56,4)","v":0},null,{"$f":"IF($B$4=90,LARGE(C10:D56,4),IF($B$4=\"St\",LARGE(C11:D56,4),IF($B$4=57,LARGE(C9:D56,4))))","v":{"$error":"#NUM!"}},null,null,null,"Differenz",{"$f":"IF(O8>0,IF(O8>O9,O8-O9,O9-O8),\"\")","v":""},null,"3. Schuss"]
[null,5,null,null,0,1,null,null,null,{"$f":"IF($B$4=90,LARGE(C10:D56,5),IF($B$4=\"St\",LARGE(C11:D56,5),IF($B$4=57,LARGE(C9:D56,5))))","v":{"$error":"#NUM!"}},null,null,null,null,null,null,"4. Schuss"]
[null,6,null,null,0,1,null,null,null,{"$f":"IF($B$4=90,LARGE(C10:D56,6),IF($B$4=\"St\",LARGE(C11:D56,6),IF($B$4=57,LARGE(C9:D56,6))))","v":{"$error":"#NUM!"}},null,null,null,null,null,null,"5. Schuss"]
[null,7,null,null,0,1,null,null,null,{"$f":"IF($B$4=90,LARGE(C11:D57,7),IF($B$4=\"St\",LARGE(C12:D57,7),IF($B$4=57,LARGE(C10:D57,7))))","v":{"$error":"#NUM!"}},null,null,null,null,null,null,"6. Schuss"]
[null,8,null,null,0,1,null,null,null,{"$f":"IF($B$4=90,LARGE(C12:D58,8),IF($B$4=\"St\",LARGE(C13:D58,8),IF($B$4=57,LARGE(C11:D58,8))))","v":{"$error":"#NUM!"}},null,null,null,null,null,null,"7. Schuss"]
[null,9,null,null,0,1,null,null,null,{"$f":"IF($B$4=90,LARGE(C13:D59,9),IF($B$4=\"St\",LARGE(C14:D59,9),IF($B$4=57,LARGE(C12:D59,9))))","v":{"$error":"#NUM!"}},null,null,null,null,null,null,"8. Schuss"]
[null,10,null,null,0,1,null,null,null,null,null,null,null,null,null,null,"9. Schuss"]
[null,11,null,null,0,1,null,null,null,null,null,null,null,null,null,null,"10. Schuss"]
[null,12,null,null,0,1,null,null,null,null,null,null,null,null,null,null,"Total",{"$f":"SUM(R8:R17)","v":0}]
[null,13,null,null,0,1]
[null,14,null,null,0,1]
[null,15,null,null,0,1]
[null,16,null,null,0,1]
[null,17,null,null,0,1]
[null,18,null,null,0,1]
[null,19,null,null,0,1]
[null,20,null,null,0,1]
[null,21,null,null,0,1]
[null,22,null,null,0,1]
[null,23,null,null,0,1]
[null,24,null,null,0,1]
[null,25,null,null,0,1]
[null,26,null,null,0,1]
[null,27,null,null,0,1]
[null,28,null,null,0,1]
[null,29,null,null,0,1]
[null,30,null,null,0,1]
[null,31,null,null,0,1]
[null,32,null,null,0,1]
[null,33,null,null,{"$f":"SUM($C39:$D39)","v":0},{"$f":"RANK(E39,$E$7:$E$56,0)","v":1}]
[null,34,null,null,0,1]
[null,35,null,null,0,1]
[null,36,null,null,0,1]
[null,37,null,null,0,1]
[null,38,null,null,0,1]
[null,39,null,null,0,1]
[null,40,null,null,0,1]
[null,41,null,null,0,1]
[null,42,null,null,0,1]
[null,43,null,null,0,1]
[null,44,null,null,0,1]
[null,45,null,null,0,1]
[null,46,null,null,0,1]
[null,47,null,null,0,1]
[null,48,null,null,0,1]
[null,49,null,null,0,1]
[null,50,null,null,0,1]

{"sheet":"H.J. Schneider","index":10,"n_rows":56,"n_cols":18,"rows_kept":56,"cut":false,"hidden":false,"merged":[]}
["Name"]
["Schneider Hans-Jörg "]
["Gutschein"]
["Waffe",57]
[null,"Sau Stich",null,null,null,null,null,null,null,null,null,null,null,"Glück",null,null,"Auszahlung"]
[null,"Nr. Passe","1. Schuss","2. Schuss","Total","Rang",null,"Besten Passen",null,"Besten Einzel",null,"Total Passen und Einzel"]
[null,1,null,null,{"$f":"SUM($C7:$D7)","v":0},{"$f":"RANK(E7,$E$7:$E$56,0)","v":1},null,{"$f":"LARGE(E7:E56,1)","v":0},null,{"$f":"IF($B$4=90,LARGE(C10:D56,1),IF($B$4=\"St\",LARGE(C11:D56,1),IF($B$4=57,LARGE(C9:D56,1))))","v":{"$error":"#NUM!"}}]
[null,2,null,null,0,1,null,{"$f":"LARGE(E7:E56,2)","v":0},null,{"$f":"IF($B$4=90,LARGE(C10:D56,2),IF($B$4=\"St\",LARGE(C11:D56,2),IF($B$4=57,LARGE(C9:D56,2))))","v":{"$error":"#NUM!"}},null,{"$f":"IF($B$4=57,SUM(H7:H8,J7:J12),IF($B$4=90,SUM(H7:H9,J7:J10),IF($B$4=\"St\",SUM(H7:H10,J7:J8))))","v":{"$error":"#NUM!"}},null,"Ansage",null,null,"1. Schuss"]
[null,3,null,null,0,1,null,{"$f":"LARGE(E7:E56,3)","v":0},null,{"$f":"IF($B$4=90,LARGE($C$10:$D$56,3),IF($B$4=\"St\",LARGE($C$11:$D$56,3),IF($B$4=57,LARGE($C$9:$D$56,3))))","v":{"$error":"#NUM!"}},null,null,null,"Geschossen",null,null,"2. Schuss"]
[null,4,null,null,0,1,null,{"$f":"LARGE(E7:E56,4)","v":0},null,{"$f":"IF($B$4=90,LARGE(C10:D56,4),IF($B$4=\"St\",LARGE(C11:D56,4),IF($B$4=57,LARGE(C9:D56,4))))","v":{"$error":"#NUM!"}},null,null,null,"Differenz",{"$f":"IF(O8>0,IF(O8>O9,O8-O9,O9-O8),\"\")","v":""},null,"3. Schuss"]
[null,5,null,null,0,1,null,null,null,{"$f":"IF($B$4=90,LARGE(C10:D56,5),IF($B$4=\"St\",LARGE(C11:D56,5),IF($B$4=57,LARGE(C9:D56,5))))","v":{"$error":"#NUM!"}},null,null,null,null,null,null,"4. Schuss"]
[null,6,null,null,0,1,null,null,null,{"$f":"IF($B$4=90,LARGE(C10:D56,6),IF($B$4=\"St\",LARGE(C11:D56,6),IF($B$4=57,LARGE(C9:D56,6))))","v":{"$error":"#NUM!"}},null,null,null,null,null,null,"5. Schuss"]
[null,7,null,null,0,1,null,null,null,{"$f":"IF($B$4=90,LARGE(C11:D57,7),IF($B$4=\"St\",LARGE(C12:D57,7),IF($B$4=57,LARGE(C10:D57,7))))","v":{"$error":"#NUM!"}},null,null,null,null,null,null,"6. Schuss"]
[null,8,null,null,0,1,null,null,null,{"$f":"IF($B$4=90,LARGE(C12:D58,8),IF($B$4=\"St\",LARGE(C13:D58,8),IF($B$4=57,LARGE(C11:D58,8))))","v":{"$error":"#NUM!"}},null,null,null,null,null,null,"7. Schuss"]
[null,9,null,null,0,1,null,null,null,{"$f":"IF($B$4=90,LARGE(C13:D59,9),IF($B$4=\"St\",LARGE(C14:D59,9),IF($B$4=57,LARGE(C12:D59,9))))","v":{"$error":"#NUM!"}},null,null,null,null,null,null,"8. Schuss"]
[null,10,null,null,0,1,null,null,null,null,null,null,null,null,null,null,"9. Schuss"]
[null,11,null,null,0,1,null,null,null,null,null,null,null,null,null,null,"10. Schuss"]
[null,12,null,null,0,1,null,null,null,null,null,null,null,null,null,null,"Total",{"$f":"SUM(R8:R17)","v":0}]
[null,13,null,null,0,1]
[null,14,null,null,0,1]
[null,15,null,null,0,1]
[null,16,null,null,0,1]
[null,17,null,null,0,1]
[null,18,null,null,0,1]
[null,19,null,null,0,1]
[null,20,null,null,0,1]
[null,21,null,null,0,1]
[null,22,null,null,0,1]
[null,23,null,null,0,1]
[null,24,null,null,0,1]
[null,25,null,null,0,1]
[null,26,null,null,0,1]
[null,27,null,null,0,1]
[null,28,null,null,0,1]
[null,29,null,null,0,1]
[null,30,null,null,0,1]
[null,31,null,null,0,1]
[null,32,null,null,0,1]
[null,33,null,null,{"$f":"SUM($C39:$D39)","v":0},{"$f":"RANK(E39,$E$7:$E$56,0)","v":1}]
[null,34,null,null,0,1]
[null,35,null,null,0,1]
[null,36,null,null,0,1]
[null,37,null,null,0,1]
[null,38,null,null,0,1]
[null,39,null,null,0,1]
[null,40,null,null,0,1]
[null,41,null,null,0,1]
[null,42,null,null,0,1]
[null,43,null,null,0,1]
[null,44,null,null,0,1]
[null,45,null,null,0,1]
[null,46,null,null,0,1]
[null,47,null,null,0,1]
[null,48,null,null,0,1]
[null,49,null,null,0,1]
[null,50,null,null,0,1]

{"sheet":"H. Stuber","index":11,"n_rows":56,"n_cols":18,"rows_kept":56,"cut":false,"hidden":false,"merged":[]}
["Name"]
["Stuber Hans "]
["Gutschein","Coop"]
["Waffe",90]
[null,"Sau Stich",null,null,null,null,null,null,null,null,null,null,null,"Glück",null,null,"Auszahlung"]
[null,"Nr. Passe","1. Schuss","2. Schuss","Total","Rang",null,"Besten Passen",null,"Besten Einzel",null,"Total Passen und Einzel"]
[null,1,91,94,{"$f":"SUM($C7:$D7)","v":185},{"$f":"RANK(E7,$E$7:$E$56,0)","v":1},null,{"$f":"LARGE(E7:E56,1)","v":185},null,{"$f":"IF($B$4=90,LARGE(C10:D56,1),IF($B$4=\"St\",LARGE(C11:D56,1),IF($B$4=57,LARGE(C9:D56,1))))","v":93}]
[null,2,95,90,{"$f":"SUM($C8:$D8)","v":185},{"$f":"RANK(E8,$E$7:$E$56,0)","v":1},null,{"$f":"LARGE(E7:E56,2)","v":185},null,{"$f":"IF($B$4=90,LARGE(C10:D56,2),IF($B$4=\"St\",LARGE(C11:D56,2),IF($B$4=57,LARGE(C9:D56,2))))","v":93},null,{"$f":"IF($B$4=57,SUM(H7:H8,J7:J12),IF($B$4=90,SUM(H7:H9,J7:J10),IF($B$4=\"St\",SUM(H7:H10,J7:J8))))","v":923},null,"Ansage",248,null,"1. Schuss",9]
[null,3,96,87,{"$f":"SUM($C9:$D9)","v":183},{"$f":"RANK(E9,$E$7:$E$56,0)","v":3},null,{"$f":"LARGE(E7:E56,3)","v":183},null,{"$f":"IF($B$4=90,LARGE($C$10:$D$56,3),IF($B$4=\"St\",LARGE($C$11:$D$56,3),IF($B$4=57,LARGE($C$9:$D$56,3))))","v":92},null,null,null,"Geschossen",220,null,"2. Schuss",6]
[null,4,91,87,{"$f":"SUM($C10:$D10)","v":178},{"$f":"RANK(E10,$E$7:$E$56,0)","v":4},null,{"$f":"LARGE(E7:E56,4)","v":178},null,{"$f":"IF($B$4=90,LARGE(C10:D56,4),IF($B$4=\"St\",LARGE(C11:D56,4),IF($B$4=57,LARGE(C9:D56,4))))","v":92},null,null,null,"Differenz",{"$f":"IF(O8>0,IF(O8>O9,O8-O9,O9-O8),\"\")","v":28},null,"3. Schuss",10]
[null,5,92,86,{"$f":"SUM($C11:$D11)","v":178},{"$f":"RANK(E11,$E$7:$E$56,0)","v":4},null,null,null,{"$f":"IF($B$4=90,LARGE(C10:D56,5),IF($B$4=\"St\",LARGE(C11:D56,5),IF($B$4=57,LARGE(C9:D56,5))))","v":91},null,null,null,null,null,null,"4. Schuss",10]
[null,6,93,82,{"$f":"SUM($C12:$D12)","v":175},{"$f":"RANK(E12,$E$7:$E$56,0)","v":6},null,null,null,{"$f":"IF($B$4=90,LARGE(C10:D56,6),IF($B$4=\"St\",LARGE(C11:D56,6),IF($B$4=57,LARGE(C9:D56,6))))","v":90},null,null,null,null,null,null,"5. Schuss",8]
[null,7,83,92,{"$f":"SUM($C13:$D13)","v":175},{"$f":"RANK(E13,$E$7:$E$56,0)","v":6},null,null,null,{"$f":"IF($B$4=90,LARGE(C11:D57,7),IF($B$4=\"St\",LARGE(C12:D57,7),IF($B$4=57,LARGE(C10:D57,7))))","v":90},null,null,null,null,null,null,"6. Schuss",8]
[null,8,86,89,{"$f":"SUM($C14:$D14)","v":175},{"$f":"RANK(E14,$E$7:$E$56,0)","v":6},null,null,null,{"$f":"IF($B$4=90,LARGE(C12:D58,8),IF($B$4=\"St\",LARGE(C13:D58,8),IF($B$4=57,LARGE(C11:D58,8))))","v":89},null,null,null,null,null,null,"7. Schuss",9]
[null,9,87,87,{"$f":"SUM($C15:$D15)","v":174},{"$f":"RANK(E15,$E$7:$E$56,0)","v":9},null,null,null,{"$f":"IF($B$4=90,LARGE(C13:D59,9),IF($B$4=\"St\",LARGE(C14:D59,9),IF($B$4=57,LARGE(C12:D59,9))))","v":87},null,null,null,null,null,null,"8. Schuss",9]
[null,10,90,82,{"$f":"SUM($C16:$D16)","v":172},{"$f":"RANK(E16,$E$7:$E$56,0)","v":10},null,null,null,null,null,null,null,null,null,null,"9. Schuss",8]
[null,11,79,90,{"$f":"SUM($C17:$D17)","v":169},{"$f":"RANK(E17,$E$7:$E$56,0)","v":11},null,null,null,null,null,null,null,null,null,null,"10. Schuss",9]
[null,12,78,88,{"$f":"SUM($C18:$D18)","v":166},{"$f":"RANK(E18,$E$7:$E$56,0)","v":12},null,null,null,null,null,null,null,null,null,null,"Total",{"$f":"SUM(R8:R17)","v":86}]
[null,13,83,83,{"$f":"SUM($C19:$D19)","v":166},{"$f":"RANK(E19,$E$7:$E$56,0)","v":12}]
[null,14,75,90,{"$f":"SUM($C20:$D20)","v":165},{"$f":"RANK(E20,$E$7:$E$56,0)","v":14}]
[null,15,79,80,{"$f":"SUM($C21:$D21)","v":159},{"$f":"RANK(E21,$E$7:$E$56,0)","v":15}]
[null,16,76,79,{"$f":"SUM($C22:$D22)","v":155},{"$f":"RANK(E22,$E$7:$E$56,0)","v":16}]
[null,17,86,68,{"$f":"SUM($C23:$D23)","v":154},{"$f":"RANK(E23,$E$7:$E$56,0)","v":17}]
[null,18,79,75,{"$f":"SUM($C24:$D24)","v":154},{"$f":"RANK(E24,$E$7:$E$56,0)","v":17}]
[null,19,60,89,{"$f":"SUM($C25:$D25)","v":149},{"$f":"RANK(E25,$E$7:$E$56,0)","v":19}]
[null,20,61,81,{"$f":"SUM($C26:$D26)","v":142},{"$f":"RANK(E26,$E$7:$E$56,0)","v":20}]
[null,21,87,54,{"$f":"SUM($C27:$D27)","v":141},{"$f":"RANK(E27,$E$7:$E$56,0)","v":21}]
[null,22,60,75,{"$f":"SUM($C28:$D28)","v":135},{"$f":"RANK(E28,$E$7:$E$56,0)","v":22}]
[null,23,72,59,{"$f":"SUM($C29:$D29)","v":131},{"$f":"RANK(E29,$E$7:$E$56,0)","v":23}]
[null,24,61,61,{"$f":"SUM($C30:$D30)","v":122},{"$f":"RANK(E30,$E$7:$E$56,0)","v":24}]
[null,25,22,93,{"$f":"SUM($C31:$D31)","v":115},{"$f":"RANK(E31,$E$7:$E$56,0)","v":25}]
[null,26,null,null,{"$f":"SUM($C32:$D32)","v":0},{"$f":"RANK(E32,$E$7:$E$56,0)","v":26}]
[null,27,null,null,{"$f":"SUM($C33:$D33)","v":0},{"$f":"RANK(E33,$E$7:$E$56,0)","v":26}]
[null,28,null,null,{"$f":"SUM($C34:$D34)","v":0},{"$f":"RANK(E34,$E$7:$E$56,0)","v":26}]
[null,29,null,null,{"$f":"SUM($C35:$D35)","v":0},{"$f":"RANK(E35,$E$7:$E$56,0)","v":26}]
[null,30,null,null,{"$f":"SUM($C36:$D36)","v":0},{"$f":"RANK(E36,$E$7:$E$56,0)","v":26}]
[null,31,null,null,{"$f":"SUM($C37:$D37)","v":0},{"$f":"RANK(E37,$E$7:$E$56,0)","v":26}]
[null,32,null,null,{"$f":"SUM($C38:$D38)","v":0},{"$f":"RANK(E38,$E$7:$E$56,0)","v":26}]
[null,33,null,null,{"$f":"SUM($C39:$D39)","v":0},{"$f":"RANK(E39,$E$7:$E$56,0)","v":26}]
[null,34,null,null,{"$f":"SUM($C40:$D40)","v":0},{"$f":"RANK(E40,$E$7:$E$56,0)","v":26}]
[null,35,null,null,{"$f":"SUM($C41:$D41)","v":0},{"$f":"RANK(E41,$E$7:$E$56,0)","v":26}]
[null,36,null,null,{"$f":"SUM($C42:$D42)","v":0},{"$f":"RANK(E42,$E$7:$E$56,0)","v":26}]
[null,37,null,null,{"$f":"SUM($C43:$D43)","v":0},{"$f":"RANK(E43,$E$7:$E$56,0)","v":26}]
[null,38,null,null,{"$f":"SUM($C44:$D44)","v":0},{"$f":"RANK(E44,$E$7:$E$56,0)","v":26}]
[null,39,null,null,{"$f":"SUM($C45:$D45)","v":0},{"$f":"RANK(E45,$E$7:$E$56,0)","v":26}]
[null,40,null,null,{"$f":"SUM($C46:$D46)","v":0},{"$f":"RANK(E46,$E$7:$E$56,0)","v":26}]
[null,41,null,null,{"$f":"SUM($C47:$D47)","v":0},{"$f":"RANK(E47,$E$7:$E$56,0)","v":26}]
[null,42,null,null,{"$f":"SUM($C48:$D48)","v":0},{"$f":"RANK(E48,$E$7:$E$56,0)","v":26}]
[null,43,null,null,{"$f":"SUM($C49:$D49)","v":0},{"$f":"RANK(E49,$E$7:$E$56,0)","v":26}]
[null,44,null,null,{"$f":"SUM($C50:$D50)","v":0},{"$f":"RANK(E50,$E$7:$E$56,0)","v":26}]
[null,45,null,null,{"$f":"SUM($C51:$D51)","v":0},{"$f":"RANK(E51,$E$7:$E$56,0)","v":26}]
[null,46,null,null,{"$f":"SUM($C52:$D52)","v":0},{"$f":"RANK(E52,$E$7:$E$56,0)","v":26}]
[null,47,null,null,{"$f":"SUM($C53:$D53)","v":0},{"$f":"RANK(E53,$E$7:$E$56,0)","v":26}]
[null,48,null,null,{"$f":"SUM($C54:$D54)","v":0},{"$f":"RANK(E54,$E$7:$E$56,0)","v":26}]
[null,49,null,null,{"$f":"SUM($C55:$D55)","v":0},{"$f":"RANK(E55,$E$7:$E$56,0)","v":26}]
[null,50,null,null,{"$f":"SUM($C56:$D56)","v":0},{"$f":"RANK(E56,$E$7:$E$56,0)","v":26}]

{"sheet":"R. Eschmann","index":12,"n_rows":56,"n_cols":18,"rows_kept":56,"cut":false,"hidden":false,"merged":[]}
["Name"]
["Eschmann Roger"]
["Gutschein","Migros"]
["Waffe",90]
[null,"Sau Stich",null,null,null,null,null,null,null,null,null,null,null,"Glück",null,null,"Auszahlung"]
[null,"Nr. Passe","1. Schuss","2. Schuss","Total","Rang",null,"Besten Passen",null,"Besten Einzel",null,"Total Passen und Einzel"]
[null,1,96,96,{"$f":"SUM($C7:$D7)","v":192},{"$f":"RANK(E7,$E$7:$E$56,0)","v":1},null,{"$f":"LARGE(E7:E56,1)","v":192},null,{"$f":"IF($B$4=90,LARGE(C10:D56,1),IF($B$4=\"St\",LARGE(C11:D56,1),IF($B$4=57,LARGE(C9:D56,1))))","v":100}]
[null,2,100,91,{"$f":"SUM($C8:$D8)","v":191},{"$f":"RANK(E8,$E$7:$E$56,0)","v":2},null,{"$f":"LARGE(E7:E56,2)","v":191},null,{"$f":"IF($B$4=90,LARGE(C10:D56,2),IF($B$4=\"St\",LARGE(C11:D56,2),IF($B$4=57,LARGE(C9:D56,2))))","v":99},null,{"$f":"IF($B$4=57,SUM(H7:H8,J7:J12),IF($B$4=90,SUM(H7:H9,J7:J10),IF($B$4=\"St\",SUM(H7:H10,J7:J8))))","v":964},null,"Ansage",236,null,"1. Schuss",7]
[null,3,93,93,{"$f":"SUM($C9:$D9)","v":186},{"$f":"RANK(E9,$E$7:$E$56,0)","v":3},null,{"$f":"LARGE(E7:E56,3)","v":186},null,{"$f":"IF($B$4=90,LARGE($C$10:$D$56,3),IF($B$4=\"St\",LARGE($C$11:$D$56,3),IF($B$4=57,LARGE($C$9:$D$56,3))))","v":98},null,null,null,"Geschossen",254,null,"2. Schuss",8]
[null,4,93,93,{"$f":"SUM($C10:$D10)","v":186},{"$f":"RANK(E10,$E$7:$E$56,0)","v":3},null,{"$f":"LARGE(E7:E56,4)","v":186},null,{"$f":"IF($B$4=90,LARGE(C10:D56,4),IF($B$4=\"St\",LARGE(C11:D56,4),IF($B$4=57,LARGE(C9:D56,4))))","v":98},null,null,null,"Differenz",{"$f":"IF(O8>0,IF(O8>O9,O8-O9,O9-O8),\"\")","v":18},null,"3. Schuss",9]
[null,5,96,90,{"$f":"SUM($C11:$D11)","v":186},{"$f":"RANK(E11,$E$7:$E$56,0)","v":3},null,null,null,{"$f":"IF($B$4=90,LARGE(C10:D56,5),IF($B$4=\"St\",LARGE(C11:D56,5),IF($B$4=57,LARGE(C9:D56,5))))","v":98},null,null,null,null,null,null,"4. Schuss",10]
[null,6,89,96,{"$f":"SUM($C12:$D12)","v":185},{"$f":"RANK(E12,$E$7:$E$56,0)","v":6},null,null,null,{"$f":"IF($B$4=90,LARGE(C10:D56,6),IF($B$4=\"St\",LARGE(C11:D56,6),IF($B$4=57,LARGE(C9:D56,6))))","v":98},null,null,null,null,null,null,"5. Schuss",10]
[null,7,92,92,{"$f":"SUM($C13:$D13)","v":184},{"$f":"RANK(E13,$E$7:$E$56,0)","v":7},null,null,null,{"$f":"IF($B$4=90,LARGE(C11:D57,7),IF($B$4=\"St\",LARGE(C12:D57,7),IF($B$4=57,LARGE(C10:D57,7))))","v":96},null,null,null,null,null,null,"6. Schuss",9]
[null,8,92,91,{"$f":"SUM($C14:$D14)","v":183},{"$f":"RANK(E14,$E$7:$E$56,0)","v":8},null,null,null,{"$f":"IF($B$4=90,LARGE(C12:D58,8),IF($B$4=\"St\",LARGE(C13:D58,8),IF($B$4=57,LARGE(C11:D58,8))))","v":96},null,null,null,null,null,null,"7. Schuss",9]
[null,9,84,98,{"$f":"SUM($C15:$D15)","v":182},{"$f":"RANK(E15,$E$7:$E$56,0)","v":9},null,null,null,{"$f":"IF($B$4=90,LARGE(C13:D59,9),IF($B$4=\"St\",LARGE(C14:D59,9),IF($B$4=57,LARGE(C12:D59,9))))","v":95},null,null,null,null,null,null,"8. Schuss",8]
[null,10,92,89,{"$f":"SUM($C16:$D16)","v":181},{"$f":"RANK(E16,$E$7:$E$56,0)","v":10},null,null,null,null,null,null,null,null,null,null,"9. Schuss",8]
[null,11,98,82,{"$f":"SUM($C17:$D17)","v":180},{"$f":"RANK(E17,$E$7:$E$56,0)","v":11},null,null,null,null,null,null,null,null,null,null,"10. Schuss",8]
[null,12,98,81,{"$f":"SUM($C18:$D18)","v":179},{"$f":"RANK(E18,$E$7:$E$56,0)","v":12},null,null,null,null,null,null,null,null,null,null,"Total",{"$f":"SUM(R8:R17)","v":86}]
[null,13,90,87,{"$f":"SUM($C19:$D19)","v":177},{"$f":"RANK(E19,$E$7:$E$56,0)","v":13}]
[null,14,89,86,{"$f":"SUM($C20:$D20)","v":175},{"$f":"RANK(E20,$E$7:$E$56,0)","v":14}]
[null,15,83,91,{"$f":"SUM($C21:$D21)","v":174},{"$f":"RANK(E21,$E$7:$E$56,0)","v":15}]
[null,16,86,87,{"$f":"SUM($C22:$D22)","v":173},{"$f":"RANK(E22,$E$7:$E$56,0)","v":16}]
[null,17,98,73,{"$f":"SUM($C23:$D23)","v":171},{"$f":"RANK(E23,$E$7:$E$56,0)","v":17}]
[null,18,86,85,{"$f":"SUM($C24:$D24)","v":171},{"$f":"RANK(E24,$E$7:$E$56,0)","v":17}]
[null,19,96,73,{"$f":"SUM($C25:$D25)","v":169},{"$f":"RANK(E25,$E$7:$E$56,0)","v":19}]
[null,20,83,86,{"$f":"SUM($C26:$D26)","v":169},{"$f":"RANK(E26,$E$7:$E$56,0)","v":19}]
[null,21,95,73,{"$f":"SUM($C27:$D27)","v":168},{"$f":"RANK(E27,$E$7:$E$56,0)","v":21}]
[null,22,95,72,{"$f":"SUM($C28:$D28)","v":167},{"$f":"RANK(E28,$E$7:$E$56,0)","v":22}]
[null,23,84,83,{"$f":"SUM($C29:$D29)","v":167},{"$f":"RANK(E29,$E$7:$E$56,0)","v":22}]
[null,24,81,84,{"$f":"SUM($C30:$D30)","v":165},{"$f":"RANK(E30,$E$7:$E$56,0)","v":24}]
[null,25,79,85,{"$f":"SUM($C31:$D31)","v":164},{"$f":"RANK(E31,$E$7:$E$56,0)","v":25}]
[null,26,78,86,{"$f":"SUM($C32:$D32)","v":164},{"$f":"RANK(E32,$E$7:$E$56,0)","v":25}]
[null,27,84,79,{"$f":"SUM($C33:$D33)","v":163},{"$f":"RANK(E33,$E$7:$E$56,0)","v":27}]
[null,28,70,92,{"$f":"SUM($C34:$D34)","v":162},{"$f":"RANK(E34,$E$7:$E$56,0)","v":28}]
[null,29,90,72,{"$f":"SUM($C35:$D35)","v":162},{"$f":"RANK(E35,$E$7:$E$56,0)","v":28}]
[null,30,61,100,{"$f":"SUM($C36:$D36)","v":161},{"$f":"RANK(E36,$E$7:$E$56,0)","v":30}]
[null,31,88,73,{"$f":"SUM($C37:$D37)","v":161},{"$f":"RANK(E37,$E$7:$E$56,0)","v":30}]
[null,32,75,85,{"$f":"SUM($C38:$D38)","v":160},{"$f":"RANK(E38,$E$7:$E$56,0)","v":32}]
[null,33,88,72,{"$f":"SUM($C39:$D39)","v":160},{"$f":"RANK(E39,$E$7:$E$56,0)","v":32}]
[null,34,78,81,{"$f":"SUM($C40:$D40)","v":159},{"$f":"RANK(E40,$E$7:$E$56,0)","v":34}]
[null,35,74,81,{"$f":"SUM($C41:$D41)","v":155},{"$f":"RANK(E41,$E$7:$E$56,0)","v":35}]
[null,36,78,77,{"$f":"SUM($C42:$D42)","v":155},{"$f":"RANK(E42,$E$7:$E$56,0)","v":35}]
[null,37,55,99,{"$f":"SUM($C43:$D43)","v":154},{"$f":"RANK(E43,$E$7:$E$56,0)","v":37}]
[null,38,76,78,{"$f":"SUM($C44:$D44)","v":154},{"$f":"RANK(E44,$E$7:$E$56,0)","v":37}]
[null,39,89,63,{"$f":"SUM($C45:$D45)","v":152},{"$f":"RANK(E45,$E$7:$E$56,0)","v":39}]
[null,40,80,72,{"$f":"SUM($C46:$D46)","v":152},{"$f":"RANK(E46,$E$7:$E$56,0)","v":39}]
[null,41,67,84,{"$f":"SUM($C47:$D47)","v":151},{"$f":"RANK(E47,$E$7:$E$56,0)","v":41}]
[null,42,77,72,{"$f":"SUM($C48:$D48)","v":149},{"$f":"RANK(E48,$E$7:$E$56,0)","v":42}]
[null,43,82,65,{"$f":"SUM($C49:$D49)","v":147},{"$f":"RANK(E49,$E$7:$E$56,0)","v":43}]
[null,44,80,65,{"$f":"SUM($C50:$D50)","v":145},{"$f":"RANK(E50,$E$7:$E$56,0)","v":44}]
[null,45,68,77,{"$f":"SUM($C51:$D51)","v":145},{"$f":"RANK(E51,$E$7:$E$56,0)","v":44}]
[null,46,89,53,{"$f":"SUM($C52:$D52)","v":142},{"$f":"RANK(E52,$E$7:$E$56,0)","v":46}]
[null,47,68,73,{"$f":"SUM($C53:$D53)","v":141},{"$f":"RANK(E53,$E$7:$E$56,0)","v":47}]
[null,48,74,56,{"$f":"SUM($C54:$D54)","v":130},{"$f":"RANK(E54,$E$7:$E$56,0)","v":48}]
[null,49,71,53,{"$f":"SUM($C55:$D55)","v":124},{"$f":"RANK(E55,$E$7:$E$56,0)","v":49}]
[null,50,5,92,{"$f":"SUM($C56:$D56)","v":97},{"$f":"RANK(E56,$E$7:$E$56,0)","v":50}]

{"sheet":"S. Morello","index":13,"n_rows":56,"n_cols":18,"rows_kept":56,"cut":false,"hidden":false,"merged":[]}
["Name"]
["Morello Sandro "]
["Gutschein","Migros"]
["Waffe","St"]
[null,"Sau Stich",null,null,null,null,null,null,null,null,null,null,null,"Glück",null,null,"Auszahlung"]
[null,"Nr. Passe","1. Schuss","2. Schuss","Total","Rang",null,"Besten Passen",null,"Besten Einzel",null,"Total Passen und Einzel"]
[null,1,97,98,{"$f":"SUM($C7:$D7)","v":195},{"$f":"RANK(E7,$E$7:$E$56,0)","v":1},null,{"$f":"LARGE(E7:E56,1)","v":195},null,{"$f":"IF($B$4=90,LARGE(C10:D56,1),IF($B$4=\"St\",LARGE(C11:D56,1),IF($B$4=57,LARGE(C9:D56,1))))","v":100}]
[null,2,96,96,{"$f":"SUM($C8:$D8)","v":192},{"$f":"RANK(E8,$E$7:$E$56,0)","v":2},null,{"$f":"LARGE(E7:E56,2)","v":192},null,{"$f":"IF($B$4=90,LARGE(C10:D56,2),IF($B$4=\"St\",LARGE(C11:D56,2),IF($B$4=57,LARGE(C9:D56,2))))","v":100},null,{"$f":"IF($B$4=57,SUM(H7:H8,J7:J12),IF($B$4=90,SUM(H7:H9,J7:J10),IF($B$4=\"St\",SUM(H7:H10,J7:J8))))","v":963},null,"Ansage",278,null,"1. Schuss",8]
[null,3,98,91,{"$f":"SUM($C9:$D9)","v":189},{"$f":"RANK(E9,$E$7:$E$56,0)","v":3},null,{"$f":"LARGE(E7:E56,3)","v":189},null,{"$f":"IF($B$4=90,LARGE($C$10:$D$56,3),IF($B$4=\"St\",LARGE($C$11:$D$56,3),IF($B$4=57,LARGE($C$9:$D$56,3))))","v":99},null,null,null,"Geschossen",259,null,"2. Schuss",10]
[null,4,88,99,{"$f":"SUM($C10:$D10)","v":187},{"$f":"RANK(E10,$E$7:$E$56,0)","v":4},null,{"$f":"LARGE(E7:E56,4)","v":187},null,{"$f":"IF($B$4=90,LARGE(C10:D56,4),IF($B$4=\"St\",LARGE(C11:D56,4),IF($B$4=57,LARGE(C9:D56,4))))","v":98},null,null,null,"Differenz",{"$f":"IF(O8>0,IF(O8>O9,O8-O9,O9-O8),\"\")","v":19},null,"3. Schuss",10]
[null,5,88,98,{"$f":"SUM($C11:$D11)","v":186},{"$f":"RANK(E11,$E$7:$E$56,0)","v":5},null,null,null,{"$f":"IF($B$4=90,LARGE(C10:D56,5),IF($B$4=\"St\",LARGE(C11:D56,5),IF($B$4=57,LARGE(C9:D56,5))))","v":96},null,null,null,null,null,null,"4. Schuss",10]
[null,6,90,96,{"$f":"SUM($C12:$D12)","v":186},{"$f":"RANK(E12,$E$7:$E$56,0)","v":5},null,null,null,{"$f":"IF($B$4=90,LARGE(C10:D56,6),IF($B$4=\"St\",LARGE(C11:D56,6),IF($B$4=57,LARGE(C9:D56,6))))","v":96},null,null,null,null,null,null,"5. Schuss",7]
[null,7,85,100,{"$f":"SUM($C13:$D13)","v":185},{"$f":"RANK(E13,$E$7:$E$56,0)","v":7},null,null,null,{"$f":"IF($B$4=90,LARGE(C11:D57,7),IF($B$4=\"St\",LARGE(C12:D57,7),IF($B$4=57,LARGE(C10:D57,7))))","v":94},null,null,null,null,null,null,"6. Schuss",9]
[null,8,91,94,{"$f":"SUM($C14:$D14)","v":185},{"$f":"RANK(E14,$E$7:$E$56,0)","v":7},null,null,null,{"$f":"IF($B$4=90,LARGE(C12:D58,8),IF($B$4=\"St\",LARGE(C13:D58,8),IF($B$4=57,LARGE(C11:D58,8))))","v":94},null,null,null,null,null,null,"7. Schuss",10]
[null,9,92,91,{"$f":"SUM($C15:$D15)","v":183},{"$f":"RANK(E15,$E$7:$E$56,0)","v":9},null,null,null,{"$f":"IF($B$4=90,LARGE(C13:D59,9),IF($B$4=\"St\",LARGE(C14:D59,9),IF($B$4=57,LARGE(C12:D59,9))))","v":93},null,null,null,null,null,null,"8. Schuss",9]
[null,10,94,88,{"$f":"SUM($C16:$D16)","v":182},{"$f":"RANK(E16,$E$7:$E$56,0)","v":10},null,null,null,null,null,null,null,null,null,null,"9. Schuss",10]
[null,11,88,94,{"$f":"SUM($C17:$D17)","v":182},{"$f":"RANK(E17,$E$7:$E$56,0)","v":10},null,null,null,null,null,null,null,null,null,null,"10. Schuss",10]
[null,12,81,100,{"$f":"SUM($C18:$D18)","v":181},{"$f":"RANK(E18,$E$7:$E$56,0)","v":12},null,null,null,null,null,null,null,null,null,null,"Total",{"$f":"SUM(R8:R17)","v":93}]
[null,13,93,88,{"$f":"SUM($C19:$D19)","v":181},{"$f":"RANK(E19,$E$7:$E$56,0)","v":12}]
[null,14,86,93,{"$f":"SUM($C20:$D20)","v":179},{"$f":"RANK(E20,$E$7:$E$56,0)","v":14}]
[null,15,87,92,{"$f":"SUM($C21:$D21)","v":179},{"$f":"RANK(E21,$E$7:$E$56,0)","v":14}]
[null,16,84,94,{"$f":"SUM($C22:$D22)","v":178},{"$f":"RANK(E22,$E$7:$E$56,0)","v":16}]
[null,17,88,90,{"$f":"SUM($C23:$D23)","v":178},{"$f":"RANK(E23,$E$7:$E$56,0)","v":16}]
[null,18,80,96,{"$f":"SUM($C24:$D24)","v":176},{"$f":"RANK(E24,$E$7:$E$56,0)","v":18}]
[null,19,77,99,{"$f":"SUM($C25:$D25)","v":176},{"$f":"RANK(E25,$E$7:$E$56,0)","v":18}]
[null,20,94,81,{"$f":"SUM($C26:$D26)","v":175},{"$f":"RANK(E26,$E$7:$E$56,0)","v":20}]
[null,21,86,88,{"$f":"SUM($C27:$D27)","v":174},{"$f":"RANK(E27,$E$7:$E$56,0)","v":21}]
[null,22,84,90,{"$f":"SUM($C28:$D28)","v":174},{"$f":"RANK(E28,$E$7:$E$56,0)","v":21}]
[null,23,89,84,{"$f":"SUM($C29:$D29)","v":173},{"$f":"RANK(E29,$E$7:$E$56,0)","v":23}]
[null,24,88,84,{"$f":"SUM($C30:$D30)","v":172},{"$f":"RANK(E30,$E$7:$E$56,0)","v":24}]
[null,25,86,86,{"$f":"SUM($C31:$D31)","v":172},{"$f":"RANK(E31,$E$7:$E$56,0)","v":24}]
[null,26,91,81,{"$f":"SUM($C32:$D32)","v":172},{"$f":"RANK(E32,$E$7:$E$56,0)","v":24}]
[null,27,80,89,{"$f":"SUM($C33:$D33)","v":169},{"$f":"RANK(E33,$E$7:$E$56,0)","v":27}]
[null,28,87,82,{"$f":"SUM($C34:$D34)","v":169},{"$f":"RANK(E34,$E$7:$E$56,0)","v":27}]
[null,29,79,89,{"$f":"SUM($C35:$D35)","v":168},{"$f":"RANK(E35,$E$7:$E$56,0)","v":29}]
[null,30,84,84,{"$f":"SUM($C36:$D36)","v":168},{"$f":"RANK(E36,$E$7:$E$56,0)","v":29}]
[null,31,78,89,{"$f":"SUM($C37:$D37)","v":167},{"$f":"RANK(E37,$E$7:$E$56,0)","v":31}]
[null,32,84,83,{"$f":"SUM($C38:$D38)","v":167},{"$f":"RANK(E38,$E$7:$E$56,0)","v":31}]
[null,33,88,78,{"$f":"SUM($C39:$D39)","v":166},{"$f":"RANK(E39,$E$7:$E$56,0)","v":33}]
[null,34,86,78,{"$f":"SUM($C40:$D40)","v":164},{"$f":"RANK(E40,$E$7:$E$56,0)","v":34}]
[null,35,71,92,{"$f":"SUM($C41:$D41)","v":163},{"$f":"RANK(E41,$E$7:$E$56,0)","v":35}]
[null,36,89,73,{"$f":"SUM($C42:$D42)","v":162},{"$f":"RANK(E42,$E$7:$E$56,0)","v":36}]
[null,37,82,79,{"$f":"SUM($C43:$D43)","v":161},{"$f":"RANK(E43,$E$7:$E$56,0)","v":37}]
[null,38,87,74,{"$f":"SUM($C44:$D44)","v":161},{"$f":"RANK(E44,$E$7:$E$56,0)","v":37}]
[null,39,79,79,{"$f":"SUM($C45:$D45)","v":158},{"$f":"RANK(E45,$E$7:$E$56,0)","v":39}]
[null,40,76,81,{"$f":"SUM($C46:$D46)","v":157},{"$f":"RANK(E46,$E$7:$E$56,0)","v":40}]
[null,41,88,64,{"$f":"SUM($C47:$D47)","v":152},{"$f":"RANK(E47,$E$7:$E$56,0)","v":41}]
[null,42,71,76,{"$f":"SUM($C48:$D48)","v":147},{"$f":"RANK(E48,$E$7:$E$56,0)","v":42}]
[null,43,74,73,{"$f":"SUM($C49:$D49)","v":147},{"$f":"RANK(E49,$E$7:$E$56,0)","v":42}]
[null,44,75,68,{"$f":"SUM($C50:$D50)","v":143},{"$f":"RANK(E50,$E$7:$E$56,0)","v":44}]
[null,45,73,67,{"$f":"SUM($C51:$D51)","v":140},{"$f":"RANK(E51,$E$7:$E$56,0)","v":45}]
[null,46,null,null,{"$f":"SUM($C52:$D52)","v":0},{"$f":"RANK(E52,$E$7:$E$56,0)","v":46}]
[null,47,null,null,{"$f":"SUM($C53:$D53)","v":0},{"$f":"RANK(E53,$E$7:$E$56,0)","v":46}]
[null,48,null,null,{"$f":"SUM($C54:$D54)","v":0},{"$f":"RANK(E54,$E$7:$E$56,0)","v":46}]
[null,49,null,null,{"$f":"SUM($C55:$D55)","v":0},{"$f":"RANK(E55,$E$7:$E$56,0)","v":46}]
[null,50,null,null,{"$f":"SUM($C56:$D56)","v":0},{"$f":"RANK(E56,$E$7:$E$56,0)","v":46}]

{"sheet":"M. Käppeli","index":14,"n_rows":56,"n_cols":18,"rows_kept":56,"cut":false,"hidden":false,"merged":[]}
["Name"]
["Käppeli Mathias"]
["Gutschein","Denner"]
["Waffe",90]
[null,"Sau Stich",null,null,null,null,null,null,null,null,null,null,null,"Glück",null,null,"Auszahlung"]
[null,"Nr. Passe","1. Schuss","2. Schuss","Total","Rang",null,"Besten Passen",null,"Besten Einzel",null,"Total Passen und Einzel"]
[null,1,96,97,{"$f":"SUM($C7:$D7)","v":193},{"$f":"RANK(E7,$E$7:$E$56,0)","v":1},null,{"$f":"LARGE(E7:E56,1)","v":193},null,{"$f":"IF($B$4=90,LARGE(C10:D56,1),IF($B$4=\"St\",LARGE(C11:D56,1),IF($B$4=57,LARGE(C9:D56,1))))","v":95}]
[null,2,88,93,{"$f":"SUM($C8:$D8)","v":181},{"$f":"RANK(E8,$E$7:$E$56,0)","v":2},null,{"$f":"LARGE(E7:E56,2)","v":181},null,{"$f":"IF($B$4=90,LARGE(C10:D56,2),IF($B$4=\"St\",LARGE(C11:D56,2),IF($B$4=57,LARGE(C9:D56,2))))","v":94},null,{"$f":"IF($B$4=57,SUM(H7:H8,J7:J12),IF($B$4=90,SUM(H7:H9,J7:J10),IF($B$4=\"St\",SUM(H7:H10,J7:J8))))","v":928},null,"Ansage",230,null,"1. Schuss",9]
[null,3,81,99,{"$f":"SUM($C9:$D9)","v":180},{"$f":"RANK(E9,$E$7:$E$56,0)","v":3},null,{"$f":"LARGE(E7:E56,3)","v":180},null,{"$f":"IF($B$4=90,LARGE($C$10:$D$56,3),IF($B$4=\"St\",LARGE($C$11:$D$56,3),IF($B$4=57,LARGE($C$9:$D$56,3))))","v":93},null,null,null,"Geschossen",264,null,"2. Schuss",10]
[null,4,91,87,{"$f":"SUM($C10:$D10)","v":178},{"$f":"RANK(E10,$E$7:$E$56,0)","v":4},null,{"$f":"LARGE(E7:E56,4)","v":178},null,{"$f":"IF($B$4=90,LARGE(C10:D56,4),IF($B$4=\"St\",LARGE(C11:D56,4),IF($B$4=57,LARGE(C9:D56,4))))","v":92},null,null,null,"Differenz",{"$f":"IF(O8>0,IF(O8>O9,O8-O9,O9-O8),\"\")","v":34},null,"3. Schuss",8]
[null,5,84,94,{"$f":"SUM($C11:$D11)","v":178},{"$f":"RANK(E11,$E$7:$E$56,0)","v":4},null,null,null,{"$f":"IF($B$4=90,LARGE(C10:D56,5),IF($B$4=\"St\",LARGE(C11:D56,5),IF($B$4=57,LARGE(C9:D56,5))))","v":91},null,null,null,null,null,null,"4. Schuss",9]
[null,6,88,90,{"$f":"SUM($C12:$D12)","v":178},{"$f":"RANK(E12,$E$7:$E$56,0)","v":4},null,null,null,{"$f":"IF($B$4=90,LARGE(C10:D56,6),IF($B$4=\"St\",LARGE(C11:D56,6),IF($B$4=57,LARGE(C9:D56,6))))","v":91},null,null,null,null,null,null,"5. Schuss",8]
[null,7,92,85,{"$f":"SUM($C13:$D13)","v":177},{"$f":"RANK(E13,$E$7:$E$56,0)","v":7},null,null,null,{"$f":"IF($B$4=90,LARGE(C11:D57,7),IF($B$4=\"St\",LARGE(C12:D57,7),IF($B$4=57,LARGE(C10:D57,7))))","v":91},null,null,null,null,null,null,"6. Schuss",8]
[null,8,87,87,{"$f":"SUM($C14:$D14)","v":174},{"$f":"RANK(E14,$E$7:$E$56,0)","v":8},null,null,null,{"$f":"IF($B$4=90,LARGE(C12:D58,8),IF($B$4=\"St\",LARGE(C13:D58,8),IF($B$4=57,LARGE(C11:D58,8))))","v":90},null,null,null,null,null,null,"7. Schuss",8]
[null,9,93,81,{"$f":"SUM($C15:$D15)","v":174},{"$f":"RANK(E15,$E$7:$E$56,0)","v":8},null,null,null,{"$f":"IF($B$4=90,LARGE(C13:D59,9),IF($B$4=\"St\",LARGE(C14:D59,9),IF($B$4=57,LARGE(C12:D59,9))))","v":90},null,null,null,null,null,null,"8. Schuss",9]
[null,10,91,82,{"$f":"SUM($C16:$D16)","v":173},{"$f":"RANK(E16,$E$7:$E$56,0)","v":10},null,null,null,null,null,null,null,null,null,null,"9. Schuss",9]
[null,11,85,88,{"$f":"SUM($C17:$D17)","v":173},{"$f":"RANK(E17,$E$7:$E$56,0)","v":10},null,null,null,null,null,null,null,null,null,null,"10. Schuss",8]
[null,12,80,90,{"$f":"SUM($C18:$D18)","v":170},{"$f":"RANK(E18,$E$7:$E$56,0)","v":12},null,null,null,null,null,null,null,null,null,null,"Total",{"$f":"SUM(R8:R17)","v":86}]
[null,13,79,90,{"$f":"SUM($C19:$D19)","v":169},{"$f":"RANK(E19,$E$7:$E$56,0)","v":13}]
[null,14,79,90,{"$f":"SUM($C20:$D20)","v":169},{"$f":"RANK(E20,$E$7:$E$56,0)","v":13}]
[null,15,87,81,{"$f":"SUM($C21:$D21)","v":168},{"$f":"RANK(E21,$E$7:$E$56,0)","v":15}]
[null,16,78,90,{"$f":"SUM($C22:$D22)","v":168},{"$f":"RANK(E22,$E$7:$E$56,0)","v":15}]
[null,17,91,74,{"$f":"SUM($C23:$D23)","v":165},{"$f":"RANK(E23,$E$7:$E$56,0)","v":17}]
[null,18,85,76,{"$f":"SUM($C24:$D24)","v":161},{"$f":"RANK(E24,$E$7:$E$56,0)","v":18}]
[null,19,75,84,{"$f":"SUM($C25:$D25)","v":159},{"$f":"RANK(E25,$E$7:$E$56,0)","v":19}]
[null,20,84,74,{"$f":"SUM($C26:$D26)","v":158},{"$f":"RANK(E26,$E$7:$E$56,0)","v":20}]
[null,21,80,76,{"$f":"SUM($C27:$D27)","v":156},{"$f":"RANK(E27,$E$7:$E$56,0)","v":21}]
[null,22,74,82,{"$f":"SUM($C28:$D28)","v":156},{"$f":"RANK(E28,$E$7:$E$56,0)","v":21}]
[null,23,91,65,{"$f":"SUM($C29:$D29)","v":156},{"$f":"RANK(E29,$E$7:$E$56,0)","v":21}]
[null,24,70,85,{"$f":"SUM($C30:$D30)","v":155},{"$f":"RANK(E30,$E$7:$E$56,0)","v":24}]
[null,25,70,74,{"$f":"SUM($C31:$D31)","v":144},{"$f":"RANK(E31,$E$7:$E$56,0)","v":25}]
[null,26,49,95,{"$f":"SUM($C32:$D32)","v":144},{"$f":"RANK(E32,$E$7:$E$56,0)","v":25}]
[null,27,84,59,{"$f":"SUM($C33:$D33)","v":143},{"$f":"RANK(E33,$E$7:$E$56,0)","v":27}]
[null,28,66,76,{"$f":"SUM($C34:$D34)","v":142},{"$f":"RANK(E34,$E$7:$E$56,0)","v":28}]
[null,29,61,68,{"$f":"SUM($C35:$D35)","v":129},{"$f":"RANK(E35,$E$7:$E$56,0)","v":29}]
[null,30,50,40,{"$f":"SUM($C36:$D36)","v":90},{"$f":"RANK(E36,$E$7:$E$56,0)","v":30}]
[null,31,null,null,{"$f":"SUM($C37:$D37)","v":0},{"$f":"RANK(E37,$E$7:$E$56,0)","v":31}]
[null,32,null,null,{"$f":"SUM($C38:$D38)","v":0},{"$f":"RANK(E38,$E$7:$E$56,0)","v":31}]
[null,33,null,null,{"$f":"SUM($C39:$D39)","v":0},{"$f":"RANK(E39,$E$7:$E$56,0)","v":31}]
[null,34,null,null,{"$f":"SUM($C40:$D40)","v":0},{"$f":"RANK(E40,$E$7:$E$56,0)","v":31}]
[null,35,null,null,{"$f":"SUM($C41:$D41)","v":0},{"$f":"RANK(E41,$E$7:$E$56,0)","v":31}]
[null,36,null,null,{"$f":"SUM($C42:$D42)","v":0},{"$f":"RANK(E42,$E$7:$E$56,0)","v":31}]
[null,37,null,null,{"$f":"SUM($C43:$D43)","v":0},{"$f":"RANK(E43,$E$7:$E$56,0)","v":31}]
[null,38,null,null,{"$f":"SUM($C44:$D44)","v":0},{"$f":"RANK(E44,$E$7:$E$56,0)","v":31}]
[null,39,null,null,{"$f":"SUM($C45:$D45)","v":0},{"$f":"RANK(E45,$E$7:$E$56,0)","v":31}]
[null,40,null,null,{"$f":"SUM($C46:$D46)","v":0},{"$f":"RANK(E46,$E$7:$E$56,0)","v":31}]
[null,41,null,null,{"$f":"SUM($C47:$D47)","v":0},{"$f":"RANK(E47,$E$7:$E$56,0)","v":31}]
[null,42,null,null,{"$f":"SUM($C48:$D48)","v":0},{"$f":"RANK(E48,$E$7:$E$56,0)","v":31}]
[null,43,null,null,{"$f":"SUM($C49:$D49)","v":0},{"$f":"RANK(E49,$E$7:$E$56,0)","v":31}]
[null,44,null,null,{"$f":"SUM($C50:$D50)","v":0},{"$f":"RANK(E50,$E$7:$E$56,0)","v":31}]
[null,45,null,null,{"$f":"SUM($C51:$D51)","v":0},{"$f":"RANK(E51,$E$7:$E$56,0)","v":31}]
[null,46,null,null,{"$f":"SUM($C52:$D52)","v":0},{"$f":"RANK(E52,$E$7:$E$56,0)","v":31}]
[null,47,null,null,{"$f":"SUM($C53:$D53)","v":0},{"$f":"RANK(E53,$E$7:$E$56,0)","v":31}]
[null,48,null,null,{"$f":"SUM($C54:$D54)","v":0},{"$f":"RANK(E54,$E$7:$E$56,0)","v":31}]
[null,49,null,null,{"$f":"SUM($C55:$D55)","v":0},{"$f":"RANK(E55,$E$7:$E$56,0)","v":31}]
[null,50,null,null,{"$f":"SUM($C56:$D56)","v":0},{"$f":"RANK(E56,$E$7:$E$56,0)","v":31}]

{"sheet":"C. Erb","index":15,"n_rows":56,"n_cols":17,"rows_kept":56,"cut":false,"hidden":false,"merged":[]}
["Name"]
["Erb Corinne"]
["Gutschein"]
["Waffe",90]
[null,"Sau Stich",null,null,null,null,null,null,null,null,null,null,null,"Glück",null,null,"Auszahlung"]
[null,"Nr. Passe","1. Schuss","2. Schuss","Total","Rang",null,"Besten Passen",null,"Besten Einzel",null,"Total Passen und Einzel"]
[null,1,null,null,{"$f":"SUM($C7:$D7)","v":0},{"$f":"RANK(E7,$E$7:$E$56,0)","v":1},null,{"$f":"LARGE(E7:E56,1)","v":0},null,{"$f":"IF($B$4=90,LARGE(C10:D56,1),IF($B$4=\"St\",LARGE(C11:D56,1),IF($B$4=57,LARGE(C9:D56,1))))","v":{"$error":"#NUM!"}}]
[null,2,null,null,0,1,null,{"$f":"LARGE(E7:E56,2)","v":0},null,{"$f":"IF($B$4=90,LARGE(C10:D56,2),IF($B$4=\"St\",LARGE(C11:D56,2),IF($B$4=57,LARGE(C9:D56,2))))","v":{"$error":"#NUM!"}},null,{"$f":"IF($B$4=57,SUM(H7:H8,J7:J12),IF($B$4=90,SUM(H7:H9,J7:J10),IF($B$4=\"St\",SUM(H7:H10,J7:J8))))","v":{"$error":"#NUM!"}},null,"Ansage",null,null,"1. Schuss"]
[null,3,null,null,0,1,null,{"$f":"LARGE(E7:E56,3)","v":0},null,{"$f":"IF($B$4=90,LARGE($C$10:$D$56,3),IF($B$4=\"St\",LARGE($C$11:$D$56,3),IF($B$4=57,LARGE($C$9:$D$56,3))))","v":{"$error":"#NUM!"}},null,null,null,"Geschossen",null,null,"2. Schuss"]
[null,4,null,null,0,1,null,{"$f":"LARGE(E7:E56,4)","v":0},null,{"$f":"IF($B$4=90,LARGE(C10:D56,4),IF($B$4=\"St\",LARGE(C11:D56,4),IF($B$4=57,LARGE(C9:D56,4))))","v":{"$error":"#NUM!"}},null,null,null,"Differenz",{"$f":"IF(O8>0,IF(O8>O9,O8-O9,O9-O8),\"\")","v":""},null,"3. Schuss"]
[null,5,null,null,0,1,null,null,null,{"$f":"IF($B$4=90,LARGE(C10:D56,5),IF($B$4=\"St\",LARGE(C11:D56,5),IF($B$4=57,LARGE(C9:D56,5))))","v":{"$error":"#NUM!"}},null,null,null,null,null,null,"4. Schuss"]
[null,6,null,null,0,1,null,null,null,{"$f":"IF($B$4=90,LARGE(C10:D56,6),IF($B$4=\"St\",LARGE(C11:D56,6),IF($B$4=57,LARGE(C9:D56,6))))","v":{"$error":"#NUM!"}},null,null,null,null,null,null,"5. Schuss"]
[null,7,null,null,0,1,null,null,null,{"$f":"IF($B$4=90,LARGE(C11:D57,7),IF($B$4=\"St\",LARGE(C12:D57,7),IF($B$4=57,LARGE(C10:D57,7))))","v":{"$error":"#NUM!"}},null,null,null,null,null,null,"6. Schuss"]
[null,8,null,null,0,1,null,null,null,{"$f":"IF($B$4=90,LARGE(C12:D58,8),IF($B$4=\"St\",LARGE(C13:D58,8),IF($B$4=57,LARGE(C11:D58,8))))","v":{"$error":"#NUM!"}},null,null,null,null,null,null,"7. Schuss"]
[null,9,null,null,0,1,null,null,null,{"$f":"IF($B$4=90,LARGE(C13:D59,9),IF($B$4=\"St\",LARGE(C14:D59,9),IF($B$4=57,LARGE(C12:D59,9))))","v":{"$error":"#NUM!"}},null,null,null,null,null,null,"8. Schuss"]
[null,10,null,null,0,1,null,null,null,null,null,null,null,null,null,null,"9. Schuss"]
[null,11,null,null,0,1,null,null,null,null,null,null,null,null,null,null,"10. Schuss"]
[null,12,null,null,0,1,null,null,null,null,null,null,null,null,null,null,"Total"]
[null,13,null,null,0,1]
[null,14,null,null,0,1]
[null,15,null,null,0,1]
[null,16,null,null,0,1]
[null,17,null,null,0,1]
[null,18,null,null,0,1]
[null,19,null,null,0,1]
[null,20,null,null,0,1]
[null,21,null,null,0,1]
[null,22,null,null,0,1]
[null,23,null,null,0,1]
[null,24,null,null,0,1]
[null,25,null,null,0,1]
[null,26,null,null,0,1]
[null,27,null,null,0,1]
[null,28,null,null,0,1]
[null,29,null,null,0,1]
[null,30,null,null,0,1]
[null,31,null,null,0,1]
[null,32,null,null,0,1]
[null,33,null,null,{"$f":"SUM($C39:$D39)","v":0},1]
[null,34,null,null,0,{"$f":"RANK(E40,$E$7:$E$56,0)","v":1}]
[null,35,null,null,0,1]
[null,36,null,null,0,1]
[null,37,null,null,0,1]
[null,38,null,null,0,1]
[null,39,null,null,0,1]
[null,40,null,null,0,1]
[null,41,null,null,0,1]
[null,42,null,null,0,1]
[null,43,null,null,0,1]
[null,44,null,null,0,1]
[null,45,null,null,0,1]
[null,46,null,null,0,1]
[null,47,null,null,0,1]
[null,48,null,null,0,1]
[null,49,null,null,0,1]
[null,50,null,null,0,1]

{"sheet":"J. Zbinden","index":16,"n_rows":56,"n_cols":18,"rows_kept":56,"cut":false,"hidden":false,"merged":[]}
["Name"]
["Zbinden Jakob"]
["Gutschein","Coop"]
["Waffe",90]
[null,"Sau Stich",null,null,null,null,null,null,null,null,null,null,null,"Glück",null,null,"Auszahlung"]
[null,"Nr. Passe","1. Schuss","2. Schuss","Total","Rang",null,"Besten Passen",null,"Besten Einzel",null,"Total Passen und Einzel"]
[null,1,91,95,{"$f":"SUM($C7:$D7)","v":186},{"$f":"RANK(E7,$E$7:$E$56,0)","v":1},null,{"$f":"LARGE(E7:E56,1)","v":186},null,{"$f":"IF($B$4=90,LARGE(C10:D56,1),IF($B$4=\"St\",LARGE(C11:D56,1),IF($B$4=57,LARGE(C9:D56,1))))","v":95}]
[null,2,92,89,{"$f":"SUM($C8:$D8)","v":181},{"$f":"RANK(E8,$E$7:$E$56,0)","v":2},null,{"$f":"LARGE(E7:E56,2)","v":181},null,{"$f":"IF($B$4=90,LARGE(C10:D56,2),IF($B$4=\"St\",LARGE(C11:D56,2),IF($B$4=57,LARGE(C9:D56,2))))","v":94},null,{"$f":"IF($B$4=57,SUM(H7:H8,J7:J12),IF($B$4=90,SUM(H7:H9,J7:J10),IF($B$4=\"St\",SUM(H7:H10,J7:J8))))","v":916},null,"Ansage",256,null,"1. Schuss",8]
[null,3,88,92,{"$f":"SUM($C9:$D9)","v":180},{"$f":"RANK(E9,$E$7:$E$56,0)","v":3},null,{"$f":"LARGE(E7:E56,3)","v":180},null,{"$f":"IF($B$4=90,LARGE($C$10:$D$56,3),IF($B$4=\"St\",LARGE($C$11:$D$56,3),IF($B$4=57,LARGE($C$9:$D$56,3))))","v":90},null,null,null,"Geschossen",279,null,"2. Schuss",8]
[null,4,94,85,{"$f":"SUM($C10:$D10)","v":179},{"$f":"RANK(E10,$E$7:$E$56,0)","v":4},null,{"$f":"LARGE(E7:E56,4)","v":179},null,{"$f":"IF($B$4=90,LARGE(C10:D56,4),IF($B$4=\"St\",LARGE(C11:D56,4),IF($B$4=57,LARGE(C9:D56,4))))","v":90},null,null,null,"Differenz",{"$f":"IF(O8>0,IF(O8>O9,O8-O9,O9-O8),\"\")","v":23},null,"3. Schuss",10]
[null,5,89,89,{"$f":"SUM($C11:$D11)","v":178},{"$f":"RANK(E11,$E$7:$E$56,0)","v":5},null,null,null,{"$f":"IF($B$4=90,LARGE(C10:D56,5),IF($B$4=\"St\",LARGE(C11:D56,5),IF($B$4=57,LARGE(C9:D56,5))))","v":89},null,null,null,null,null,null,"4. Schuss",10]
[null,6,95,82,{"$f":"SUM($C12:$D12)","v":177},{"$f":"RANK(E12,$E$7:$E$56,0)","v":6},null,null,null,{"$f":"IF($B$4=90,LARGE(C10:D56,6),IF($B$4=\"St\",LARGE(C11:D56,6),IF($B$4=57,LARGE(C9:D56,6))))","v":89},null,null,null,null,null,null,"5. Schuss",8]
[null,7,88,87,{"$f":"SUM($C13:$D13)","v":175},{"$f":"RANK(E13,$E$7:$E$56,0)","v":7},null,null,null,{"$f":"IF($B$4=90,LARGE(C11:D57,7),IF($B$4=\"St\",LARGE(C12:D57,7),IF($B$4=57,LARGE(C10:D57,7))))","v":88},null,null,null,null,null,null,"6. Schuss",8]
[null,8,82,90,{"$f":"SUM($C14:$D14)","v":172},{"$f":"RANK(E14,$E$7:$E$56,0)","v":8},null,null,null,{"$f":"IF($B$4=90,LARGE(C12:D58,8),IF($B$4=\"St\",LARGE(C13:D58,8),IF($B$4=57,LARGE(C11:D58,8))))","v":86},null,null,null,null,null,null,"7. Schuss",9]
[null,9,79,90,{"$f":"SUM($C15:$D15)","v":169},{"$f":"RANK(E15,$E$7:$E$56,0)","v":9},null,null,null,{"$f":"IF($B$4=90,LARGE(C13:D59,9),IF($B$4=\"St\",LARGE(C14:D59,9),IF($B$4=57,LARGE(C12:D59,9))))","v":86},null,null,null,null,null,null,"8. Schuss",10]
[null,10,80,88,{"$f":"SUM($C16:$D16)","v":168},{"$f":"RANK(E16,$E$7:$E$56,0)","v":10},null,null,null,null,null,null,null,null,null,null,"9. Schuss",8]
[null,11,80,86,{"$f":"SUM($C17:$D17)","v":166},{"$f":"RANK(E17,$E$7:$E$56,0)","v":11},null,null,null,null,null,null,null,null,null,null,"10. Schuss",9]
[null,12,75,89,{"$f":"SUM($C18:$D18)","v":164},{"$f":"RANK(E18,$E$7:$E$56,0)","v":12},null,null,null,null,null,null,null,null,null,null,"Total",{"$f":"SUM(R8:R17)","v":88}]
[null,13,84,80,{"$f":"SUM($C19:$D19)","v":164},{"$f":"RANK(E19,$E$7:$E$56,0)","v":12}]
[null,14,73,86,{"$f":"SUM($C20:$D20)","v":159},{"$f":"RANK(E20,$E$7:$E$56,0)","v":14}]
[null,15,77,80,{"$f":"SUM($C21:$D21)","v":157},{"$f":"RANK(E21,$E$7:$E$56,0)","v":15}]
[null,16,63,86,{"$f":"SUM($C22:$D22)","v":149},{"$f":"RANK(E22,$E$7:$E$56,0)","v":16}]
[null,17,69,74,{"$f":"SUM($C23:$D23)","v":143},{"$f":"RANK(E23,$E$7:$E$56,0)","v":17}]
[null,18,58,74,{"$f":"SUM($C24:$D24)","v":132},{"$f":"RANK(E24,$E$7:$E$56,0)","v":18}]
[null,19,52,64,{"$f":"SUM($C25:$D25)","v":116},{"$f":"RANK(E25,$E$7:$E$56,0)","v":19}]
[null,20,22,48,{"$f":"SUM($C26:$D26)","v":70},{"$f":"RANK(E26,$E$7:$E$56,0)","v":20}]
[null,21,null,null,{"$f":"SUM($C27:$D27)","v":0},{"$f":"RANK(E27,$E$7:$E$56,0)","v":21}]
[null,22,null,null,{"$f":"SUM($C28:$D28)","v":0},{"$f":"RANK(E28,$E$7:$E$56,0)","v":21}]
[null,23,null,null,{"$f":"SUM($C29:$D29)","v":0},{"$f":"RANK(E29,$E$7:$E$56,0)","v":21}]
[null,24,null,null,{"$f":"SUM($C30:$D30)","v":0},{"$f":"RANK(E30,$E$7:$E$56,0)","v":21}]
[null,25,null,null,{"$f":"SUM($C31:$D31)","v":0},{"$f":"RANK(E31,$E$7:$E$56,0)","v":21}]
[null,26,null,null,{"$f":"SUM($C32:$D32)","v":0},{"$f":"RANK(E32,$E$7:$E$56,0)","v":21}]
[null,27,null,null,{"$f":"SUM($C33:$D33)","v":0},{"$f":"RANK(E33,$E$7:$E$56,0)","v":21}]
[null,28,null,null,{"$f":"SUM($C34:$D34)","v":0},{"$f":"RANK(E34,$E$7:$E$56,0)","v":21}]
[null,29,null,null,{"$f":"SUM($C35:$D35)","v":0},{"$f":"RANK(E35,$E$7:$E$56,0)","v":21}]
[null,30,null,null,{"$f":"SUM($C36:$D36)","v":0},{"$f":"RANK(E36,$E$7:$E$56,0)","v":21}]
[null,31,null,null,{"$f":"SUM($C37:$D37)","v":0},{"$f":"RANK(E37,$E$7:$E$56,0)","v":21}]
[null,32,null,null,{"$f":"SUM($C38:$D38)","v":0},{"$f":"RANK(E38,$E$7:$E$56,0)","v":21}]
[null,33,null,null,{"$f":"SUM($C39:$D39)","v":0},{"$f":"RANK(E39,$E$7:$E$56,0)","v":21}]
[null,34,null,null,{"$f":"SUM($C40:$D40)","v":0},{"$f":"RANK(E40,$E$7:$E$56,0)","v":21}]
[null,35,null,null,{"$f":"SUM($C41:$D41)","v":0},{"$f":"RANK(E41,$E$7:$E$56,0)","v":21}]
[null,36,null,null,{"$f":"SUM($C42:$D42)","v":0},{"$f":"RANK(E42,$E$7:$E$56,0)","v":21}]
[null,37,null,null,{"$f":"SUM($C43:$D43)","v":0},{"$f":"RANK(E43,$E$7:$E$56,0)","v":21}]
[null,38,null,null,{"$f":"SUM($C44:$D44)","v":0},{"$f":"RANK(E44,$E$7:$E$56,0)","v":21}]
[null,39,null,null,{"$f":"SUM($C45:$D45)","v":0},{"$f":"RANK(E45,$E$7:$E$56,0)","v":21}]
[null,40,null,null,{"$f":"SUM($C46:$D46)","v":0},{"$f":"RANK(E46,$E$7:$E$56,0)","v":21}]
[null,41,null,null,{"$f":"SUM($C47:$D47)","v":0},{"$f":"RANK(E47,$E$7:$E$56,0)","v":21}]
[null,42,null,null,{"$f":"SUM($C48:$D48)","v":0},{"$f":"RANK(E48,$E$7:$E$56,0)","v":21}]
[null,43,null,null,{"$f":"SUM($C49:$D49)","v":0},{"$f":"RANK(E49,$E$7:$E$56,0)","v":21}]
[null,44,null,null,{"$f":"SUM($C50:$D50)","v":0},{"$f":"RANK(E50,$E$7:$E$56,0)","v":21}]
[null,45,null,null,{"$f":"SUM($C51:$D51)","v":0},{"$f":"RANK(E51,$E$7:$E$56,0)","v":21}]
[null,46,null,null,{"$f":"SUM($C52:$D52)","v":0},{"$f":"RANK(E52,$E$7:$E$56,0)","v":21}]
[null,47,null,null,{"$f":"SUM($C53:$D53)","v":0},{"$f":"RANK(E53,$E$7:$E$56,0)","v":21}]
[null,48,null,null,{"$f":"SUM($C54:$D54)","v":0},{"$f":"RANK(E54,$E$7:$E$56,0)","v":21}]
[null,49,null,null,{"$f":"SUM($C55:$D55)","v":0},{"$f":"RANK(E55,$E$7:$E$56,0)","v":21}]
[null,50,null,null,{"$f":"SUM($C56:$D56)","v":0},{"$f":"RANK(E56,$E$7:$E$56,0)","v":21}]

{"sheet":"H. Wanner","index":17,"n_rows":56,"n_cols":18,"rows_kept":56,"cut":false,"hidden":false,"merged":[]}
["Name"]
["Wanner Heinz "]
["Gutschein"]
["Waffe",90]
[null,"Sau Stich",null,null,null,null,null,null,null,null,null,null,null,"Glück",null,null,"Auszahlung"]
[null,"Nr. Passe","1. Schuss","2. Schuss","Total","Rang",null,"Besten Passen",null,"Besten Einzel",null,"Total Passen und Einzel"]
[null,1,null,null,{"$f":"SUM($C7:$D7)","v":0},{"$f":"RANK(E7,$E$7:$E$56,0)","v":1},null,{"$f":"LARGE(E7:E56,1)","v":0},null,{"$f":"IF($B$4=90,LARGE(C10:D56,1),IF($B$4=\"St\",LARGE(C11:D56,1),IF($B$4=57,LARGE(C9:D56,1))))","v":{"$error":"#NUM!"}}]
[null,2,null,null,0,1,null,{"$f":"LARGE(E7:E56,2)","v":0},null,{"$f":"IF($B$4=90,LARGE(C10:D56,2),IF($B$4=\"St\",LARGE(C11:D56,2),IF($B$4=57,LARGE(C9:D56,2))))","v":{"$error":"#NUM!"}},null,{"$f":"IF($B$4=57,SUM(H7:H8,J7:J12),IF($B$4=90,SUM(H7:H9,J7:J10),IF($B$4=\"St\",SUM(H7:H10,J7:J8))))","v":{"$error":"#NUM!"}},null,"Ansage",null,null,"1. Schuss"]
[null,3,null,null,0,1,null,{"$f":"LARGE(E7:E56,3)","v":0},null,{"$f":"IF($B$4=90,LARGE($C$10:$D$56,3),IF($B$4=\"St\",LARGE($C$11:$D$56,3),IF($B$4=57,LARGE($C$9:$D$56,3))))","v":{"$error":"#NUM!"}},null,null,null,"Geschossen",null,null,"2. Schuss"]
[null,4,null,null,0,1,null,{"$f":"LARGE(E7:E56,4)","v":0},null,{"$f":"IF($B$4=90,LARGE(C10:D56,4),IF($B$4=\"St\",LARGE(C11:D56,4),IF($B$4=57,LARGE(C9:D56,4))))","v":{"$error":"#NUM!"}},null,null,null,"Differenz",{"$f":"IF(O8>0,IF(O8>O9,O8-O9,O9-O8),\"\")","v":""},null,"3. Schuss"]
[null,5,null,null,0,1,null,null,null,{"$f":"IF($B$4=90,LARGE(C10:D56,5),IF($B$4=\"St\",LARGE(C11:D56,5),IF($B$4=57,LARGE(C9:D56,5))))","v":{"$error":"#NUM!"}},null,null,null,null,null,null,"4. Schuss"]
[null,6,null,null,0,1,null,null,null,{"$f":"IF($B$4=90,LARGE(C10:D56,6),IF($B$4=\"St\",LARGE(C11:D56,6),IF($B$4=57,LARGE(C9:D56,6))))","v":{"$error":"#NUM!"}},null,null,null,null,null,null,"5. Schuss"]
[null,7,null,null,0,1,null,null,null,{"$f":"IF($B$4=90,LARGE(C11:D57,7),IF($B$4=\"St\",LARGE(C12:D57,7),IF($B$4=57,LARGE(C10:D57,7))))","v":{"$error":"#NUM!"}},null,null,null,null,null,null,"6. Schuss"]
[null,8,null,null,0,1,null,null,null,{"$f":"IF($B$4=90,LARGE(C12:D58,8),IF($B$4=\"St\",LARGE(C13:D58,8),IF($B$4=57,LARGE(C11:D58,8))))","v":{"$error":"#NUM!"}},null,null,null,null,null,null,"7. Schuss"]
[null,9,null,null,0,1,null,null,null,{"$f":"IF($B$4=90,LARGE(C13:D59,9),IF($B$4=\"St\",LARGE(C14:D59,9),IF($B$4=57,LARGE(C12:D59,9))))","v":{"$error":"#NUM!"}},null,null,null,null,null,null,"8. Schuss"]
[null,10,null,null,0,1,null,null,null,null,null,null,null,null,null,null,"9. Schuss"]
[null,11,null,null,0,1,null,null,null,null,null,null,null,null,null,null,"10. Schuss"]
[null,12,null,null,0,1,null,null,null,null,null,null,null,null,null,null,"Total",{"$f":"SUM(R8:R17)","v":0}]
[null,13,null,null,0,1]
[null,14,null,null,0,1]
[null,15,null,null,0,1]
[null,16,null,null,0,1]
[null,17,null,null,0,1]
[null,18,null,null,0,1]
[null,19,null,null,0,1]
[null,20,null,null,0,1]
[null,21,null,null,0,1]
[null,22,null,null,0,1]
[null,23,null,null,0,1]
[null,24,null,null,0,1]
[null,25,null,null,0,1]
[null,26,null,null,0,1]
[null,27,null,null,0,1]
[null,28,null,null,0,1]
[null,29,null,null,0,1]
[null,30,null,null,0,1]
[null,31,null,null,0,1]
[null,32,null,null,0,1]
[null,33,null,null,{"$f":"SUM($C39:$D39)","v":0},{"$f":"RANK(E39,$E$7:$E$56,0)","v":1}]
[null,34,null,null,0,1]
[null,35,null,null,0,1]
[null,36,null,null,0,1]
[null,37,null,null,0,1]
[null,38,null,null,0,1]
[null,39,null,null,0,1]
[null,40,null,null,0,1]
[null,41,null,null,0,1]
[null,42,null,null,0,1]
[null,43,null,null,0,1]
[null,44,null,null,0,1]
[null,45,null,null,0,1]
[null,46,null,null,0,1]
[null,47,null,null,0,1]
[null,48,null,null,0,1]
[null,49,null,null,0,1]
[null,50,null,null,0,1]

{"sheet":"R. Liechti","index":18,"n_rows":106,"n_cols":18,"rows_kept":106,"cut":false,"hidden":false,"merged":[]}
["Name"]
["Rodolphe Liechti"]
["Gutschein","Migros"]
["Waffe",90]
[null,"Sau Stich",null,null,null,null,null,null,null,null,null,null,null,"Glück",null,null,"Auszahlung"]
[null,"Nr. Passe","1. Schuss","2. Schuss","Total","Rang",null,"Besten Passen",null,"Besten Einzel",null,"Total Passen und Einzel"]
[null,1,98,90,{"$f":"SUM($C7:$D7)","v":188},{"$f":"RANK(E7,$E$7:$E$106,0)","v":1},null,{"$f":"LARGE(E7:E56,1)","v":188},null,{"$f":"IF($B$4=90,LARGE(C10:D56,1),IF($B$4=\"St\",LARGE(C11:D56,1),IF($B$4=57,LARGE(C9:D56,1))))","v":98}]
[null,2,86,94,{"$f":"SUM($C8:$D8)","v":180},{"$f":"RANK(E8,$E$7:$E$106,0)","v":2},null,{"$f":"LARGE(E7:E56,2)","v":180},null,{"$f":"IF($B$4=90,LARGE(C10:D56,2),IF($B$4=\"St\",LARGE(C11:D56,2),IF($B$4=57,LARGE(C9:D56,2))))","v":98},null,{"$f":"IF($B$4=57,SUM(H7:H8,J7:J12),IF($B$4=90,SUM(H7:H9,J7:J10),IF($B$4=\"St\",SUM(H7:H10,J7:J8))))","v":929},null,"Ansage",236,null,"1. Schuss"]
[null,3,92,86,{"$f":"SUM($C9:$D9)","v":178},{"$f":"RANK(E9,$E$7:$E$106,0)","v":3},null,{"$f":"LARGE(E7:E56,3)","v":178},null,{"$f":"IF($B$4=90,LARGE($C$10:$D$56,3),IF($B$4=\"St\",LARGE($C$11:$D$56,3),IF($B$4=57,LARGE($C$9:$D$56,3))))","v":95},null,null,null,"Geschossen",243,null,"2. Schuss"]
[null,4,98,79,{"$f":"SUM($C10:$D10)","v":177},{"$f":"RANK(E10,$E$7:$E$106,0)","v":4},null,{"$f":"LARGE(E7:E56,4)","v":177},null,{"$f":"IF($B$4=90,LARGE(C10:D56,4),IF($B$4=\"St\",LARGE(C11:D56,4),IF($B$4=57,LARGE(C9:D56,4))))","v":92},null,null,null,"Differenz",{"$f":"IF(O8>0,IF(O8>O9,O8-O9,O9-O8),\"\")","v":7},null,"3. Schuss"]
[null,5,86,87,{"$f":"SUM($C11:$D11)","v":173},{"$f":"RANK(E11,$E$7:$E$106,0)","v":5},null,null,null,{"$f":"IF($B$4=90,LARGE(C10:D56,5),IF($B$4=\"St\",LARGE(C11:D56,5),IF($B$4=57,LARGE(C9:D56,5))))","v":92},null,null,null,null,null,null,"4. Schuss"]
[null,6,98,74,{"$f":"SUM($C12:$D12)","v":172},{"$f":"RANK(E12,$E$7:$E$106,0)","v":6},null,null,null,{"$f":"IF($B$4=90,LARGE(C10:D56,6),IF($B$4=\"St\",LARGE(C11:D56,6),IF($B$4=57,LARGE(C9:D56,6))))","v":91},null,null,null,null,null,null,"5. Schuss"]
[null,7,81,91,{"$f":"SUM($C13:$D13)","v":172},{"$f":"RANK(E13,$E$7:$E$106,0)","v":6},null,null,null,{"$f":"IF($B$4=90,LARGE(C11:D57,7),IF($B$4=\"St\",LARGE(C12:D57,7),IF($B$4=57,LARGE(C10:D57,7))))","v":90},null,null,null,null,null,null,"6. Schuss"]
[null,8,87,85,{"$f":"SUM($C14:$D14)","v":172},{"$f":"RANK(E14,$E$7:$E$106,0)","v":6},null,null,null,{"$f":"IF($B$4=90,LARGE(C12:D58,8),IF($B$4=\"St\",LARGE(C13:D58,8),IF($B$4=57,LARGE(C11:D58,8))))","v":87},null,null,null,null,null,null,"7. Schuss"]
[null,9,90,81,{"$f":"SUM($C15:$D15)","v":171},{"$f":"RANK(E15,$E$7:$E$106,0)","v":9},null,null,null,{"$f":"IF($B$4=90,LARGE(C13:D59,9),IF($B$4=\"St\",LARGE(C14:D59,9),IF($B$4=57,LARGE(C12:D59,9))))","v":86},null,null,null,null,null,null,"8. Schuss"]
[null,10,86,81,{"$f":"SUM($C16:$D16)","v":167},{"$f":"RANK(E16,$E$7:$E$106,0)","v":10},null,null,null,null,null,null,null,null,null,null,"9. Schuss"]
[null,11,78,87,{"$f":"SUM($C17:$D17)","v":165},{"$f":"RANK(E17,$E$7:$E$106,0)","v":11},null,null,null,null,null,null,null,null,null,null,"10. Schuss"]
[null,12,81,84,{"$f":"SUM($C18:$D18)","v":165},{"$f":"RANK(E18,$E$7:$E$106,0)","v":11},null,null,null,null,null,null,null,null,null,null,"Total",{"$f":"SUM(R8:R17)","v":0}]
[null,13,67,95,{"$f":"SUM($C19:$D19)","v":162},{"$f":"RANK(E19,$E$7:$E$106,0)","v":13}]
[null,14,92,69,{"$f":"SUM($C20:$D20)","v":161},{"$f":"RANK(E20,$E$7:$E$106,0)","v":14}]
[null,15,74,86,{"$f":"SUM($C21:$D21)","v":160},{"$f":"RANK(E21,$E$7:$E$106,0)","v":15}]
[null,16,91,69,{"$f":"SUM($C22:$D22)","v":160},{"$f":"RANK(E22,$E$7:$E$106,0)","v":15}]
[null,17,78,78,{"$f":"SUM($C23:$D23)","v":156},{"$f":"RANK(E23,$E$7:$E$106,0)","v":17}]
[null,18,70,85,{"$f":"SUM($C24:$D24)","v":155},{"$f":"RANK(E24,$E$7:$E$106,0)","v":18}]
[null,19,82,70,{"$f":"SUM($C25:$D25)","v":152},{"$f":"RANK(E25,$E$7:$E$106,0)","v":19}]
[null,20,82,67,{"$f":"SUM($C26:$D26)","v":149},{"$f":"RANK(E26,$E$7:$E$106,0)","v":20}]
[null,21,84,63,{"$f":"SUM($C27:$D27)","v":147},{"$f":"RANK(E27,$E$7:$E$106,0)","v":21}]
[null,22,67,79,{"$f":"SUM($C28:$D28)","v":146},{"$f":"RANK(E28,$E$7:$E$106,0)","v":22}]
[null,23,73,73,{"$f":"SUM($C29:$D29)","v":146},{"$f":"RANK(E29,$E$7:$E$106,0)","v":22}]
[null,24,92,54,{"$f":"SUM($C30:$D30)","v":146},{"$f":"RANK(E30,$E$7:$E$106,0)","v":22}]
[null,25,68,77,{"$f":"SUM($C31:$D31)","v":145},{"$f":"RANK(E31,$E$7:$E$106,0)","v":25}]
[null,26,77,67,{"$f":"SUM($C32:$D32)","v":144},{"$f":"RANK(E32,$E$7:$E$106,0)","v":26}]
[null,27,73,67,{"$f":"SUM($C33:$D33)","v":140},{"$f":"RANK(E33,$E$7:$E$106,0)","v":27}]
[null,28,75,64,{"$f":"SUM($C34:$D34)","v":139},{"$f":"RANK(E34,$E$7:$E$106,0)","v":28}]
[null,29,69,67,{"$f":"SUM($C35:$D35)","v":136},{"$f":"RANK(E35,$E$7:$E$106,0)","v":29}]
[null,30,39,21,{"$f":"SUM($C36:$D36)","v":60},{"$f":"RANK(E36,$E$7:$E$106,0)","v":30}]
[null,31,null,null,{"$f":"SUM($C37:$D37)","v":0},{"$f":"RANK(E37,$E$7:$E$106,0)","v":31}]
[null,32,null,null,{"$f":"SUM($C38:$D38)","v":0},{"$f":"RANK(E38,$E$7:$E$106,0)","v":31}]
[null,33,null,null,{"$f":"SUM($C39:$D39)","v":0},{"$f":"RANK(E39,$E$7:$E$106,0)","v":31}]
[null,34,null,null,{"$f":"SUM($C40:$D40)","v":0},{"$f":"RANK(E40,$E$7:$E$106,0)","v":31}]
[null,35,null,null,{"$f":"SUM($C41:$D41)","v":0},{"$f":"RANK(E41,$E$7:$E$106,0)","v":31}]
[null,36,null,null,{"$f":"SUM($C42:$D42)","v":0},{"$f":"RANK(E42,$E$7:$E$106,0)","v":31}]
[null,37,null,null,{"$f":"SUM($C43:$D43)","v":0},{"$f":"RANK(E43,$E$7:$E$106,0)","v":31}]
[null,38,null,null,{"$f":"SUM($C44:$D44)","v":0},{"$f":"RANK(E44,$E$7:$E$106,0)","v":31}]
[null,39,null,null,{"$f":"SUM($C45:$D45)","v":0},{"$f":"RANK(E45,$E$7:$E$106,0)","v":31}]
[null,40,null,null,{"$f":"SUM($C46:$D46)","v":0},{"$f":"RANK(E46,$E$7:$E$106,0)","v":31}]
[null,41,null,null,{"$f":"SUM($C47:$D47)","v":0},{"$f":"RANK(E47,$E$7:$E$106,0)","v":31}]
[null,42,null,null,{"$f":"SUM($C48:$D48)","v":0},{"$f":"RANK(E48,$E$7:$E$106,0)","v":31}]
[null,43,null,null,{"$f":"SUM($C49:$D49)","v":0},{"$f":"RANK(E49,$E$7:$E$106,0)","v":31}]
[null,44,null,null,{"$f":"SUM($C50:$D50)","v":0},{"$f":"RANK(E50,$E$7:$E$106,0)","v":31}]
[null,45,null,null,{"$f":"SUM($C51:$D51)","v":0},{"$f":"RANK(E51,$E$7:$E$106,0)","v":31}]
[null,46,null,null,{"$f":"SUM($C52:$D52)","v":0},{"$f":"RANK(E52,$E$7:$E$106,0)","v":31}]
[null,47,null,null,{"$f":"SUM($C53:$D53)","v":0},{"$f":"RANK(E53,$E$7:$E$106,0)","v":31}]
[null,48,null,null,{"$f":"SUM($C54:$D54)","v":0},{"$f":"RANK(E54,$E$7:$E$106,0)","v":31}]
[null,49,null,null,{"$f":"SUM($C55:$D55)","v":0},{"$f":"RANK(E55,$E$7:$E$106,0)","v":31}]
[null,50,null,null,{"$f":"SUM($C56:$D56)","v":0},{"$f":"RANK(E56,$E$7:$E$106,0)","v":31}]
[null,51,null,null,{"$f":"SUM($C57:$D57)","v":0},{"$f":"RANK(E57,$E$7:$E$106,0)","v":31}]
[null,52,null,null,{"$f":"SUM($C58:$D58)","v":0},{"$f":"RANK(E58,$E$7:$E$106,0)","v":31}]
[null,53,null,null,{"$f":"SUM($C59:$D59)","v":0},{"$f":"RANK(E59,$E$7:$E$106,0)","v":31}]
[null,54,null,null,{"$f":"SUM($C60:$D60)","v":0},{"$f":"RANK(E60,$E$7:$E$106,0)","v":31}]
[null,55,null,null,{"$f":"SUM($C61:$D61)","v":0},{"$f":"RANK(E61,$E$7:$E$106,0)","v":31}]
[null,56,null,null,{"$f":"SUM($C62:$D62)","v":0},{"$f":"RANK(E62,$E$7:$E$106,0)","v":31}]
[null,57,null,null,{"$f":"SUM($C63:$D63)","v":0},{"$f":"RANK(E63,$E$7:$E$106,0)","v":31}]
[null,58,null,null,{"$f":"SUM($C64:$D64)","v":0},{"$f":"RANK(E64,$E$7:$E$106,0)","v":31}]
[null,59,null,null,{"$f":"SUM($C65:$D65)","v":0},{"$f":"RANK(E65,$E$7:$E$106,0)","v":31}]
[null,60,null,null,{"$f":"SUM($C66:$D66)","v":0},{"$f":"RANK(E66,$E$7:$E$106,0)","v":31}]
[null,61,null,null,{"$f":"SUM($C67:$D67)","v":0},{"$f":"RANK(E67,$E$7:$E$106,0)","v":31}]
[null,62,null,null,{"$f":"SUM($C68:$D68)","v":0},{"$f":"RANK(E68,$E$7:$E$106,0)","v":31}]
[null,63,null,null,{"$f":"SUM($C69:$D69)","v":0},{"$f":"RANK(E69,$E$7:$E$106,0)","v":31}]
[null,64,null,null,{"$f":"SUM($C70:$D70)","v":0},{"$f":"RANK(E70,$E$7:$E$106,0)","v":31}]
[null,65,null,null,{"$f":"SUM($C71:$D71)","v":0},{"$f":"RANK(E71,$E$7:$E$106,0)","v":31}]
[null,66,null,null,{"$f":"SUM($C72:$D72)","v":0},{"$f":"RANK(E72,$E$7:$E$106,0)","v":31}]
[null,67,null,null,{"$f":"SUM($C73:$D73)","v":0},{"$f":"RANK(E73,$E$7:$E$106,0)","v":31}]
[null,68,null,null,{"$f":"SUM($C74:$D74)","v":0},{"$f":"RANK(E74,$E$7:$E$106,0)","v":31}]
[null,69,null,null,{"$f":"SUM($C75:$D75)","v":0},{"$f":"RANK(E75,$E$7:$E$106,0)","v":31}]
[null,70,null,null,{"$f":"SUM($C76:$D76)","v":0},{"$f":"RANK(E76,$E$7:$E$106,0)","v":31}]
[null,71,null,null,{"$f":"SUM($C77:$D77)","v":0},{"$f":"RANK(E77,$E$7:$E$106,0)","v":31}]
[null,72,null,null,{"$f":"SUM($C78:$D78)","v":0},{"$f":"RANK(E78,$E$7:$E$106,0)","v":31}]
[null,73,null,null,{"$f":"SUM($C79:$D79)","v":0},{"$f":"RANK(E79,$E$7:$E$106,0)","v":31}]
[null,74,null,null,{"$f":"SUM($C80:$D80)","v":0},{"$f":"RANK(E80,$E$7:$E$106,0)","v":31}]
[null,75,null,null,{"$f":"SUM($C81:$D81)","v":0},{"$f":"RANK(E81,$E$7:$E$106,0)","v":31}]
[null,76,null,null,{"$f":"SUM($C82:$D82)","v":0},{"$f":"RANK(E82,$E$7:$E$106,0)","v":31}]
[null,77,null,null,{"$f":"SUM($C83:$D83)","v":0},{"$f":"RANK(E83,$E$7:$E$106,0)","v":31}]
[null,78,null,null,{"$f":"SUM($C84:$D84)","v":0},{"$f":"RANK(E84,$E$7:$E$106,0)","v":31}]
[null,79,null,null,{"$f":"SUM($C85:$D85)","v":0},{"$f":"RANK(E85,$E$7:$E$106,0)","v":31}]
[null,80,null,null,{"$f":"SUM($C86:$D86)","v":0},{"$f":"RANK(E86,$E$7:$E$106,0)","v":31}]
[null,81,null,null,{"$f":"SUM($C87:$D87)","v":0},{"$f":"RANK(E87,$E$7:$E$106,0)","v":31}]
[null,82,null,null,{"$f":"SUM($C88:$D88)","v":0},{"$f":"RANK(E88,$E$7:$E$106,0)","v":31}]
[null,83,null,null,{"$f":"SUM($C89:$D89)","v":0},{"$f":"RANK(E89,$E$7:$E$106,0)","v":31}]
[null,84,null,null,{"$f":"SUM($C90:$D90)","v":0},{"$f":"RANK(E90,$E$7:$E$106,0)","v":31}]
[null,85,null,null,{"$f":"SUM($C91:$D91)","v":0},{"$f":"RANK(E91,$E$7:$E$106,0)","v":31}]
[null,86,null,null,{"$f":"SUM($C92:$D92)","v":0},{"$f":"RANK(E92,$E$7:$E$106,0)","v":31}]
[null,87,null,null,{"$f":"SUM($C93:$D93)","v":0},{"$f":"RANK(E93,$E$7:$E$106,0)","v":31}]
[null,88,null,null,{"$f":"SUM($C94:$D94)","v":0},{"$f":"RANK(E94,$E$7:$E$106,0)","v":31}]
[null,89,null,null,{"$f":"SUM($C95:$D95)","v":0},{"$f":"RANK(E95,$E$7:$E$106,0)","v":31}]
[null,90,null,null,{"$f":"SUM($C96:$D96)","v":0},{"$f":"RANK(E96,$E$7:$E$106,0)","v":31}]
[null,91,null,null,{"$f":"SUM($C97:$D97)","v":0},{"$f":"RANK(E97,$E$7:$E$106,0)","v":31}]
[null,92,null,null,{"$f":"SUM($C98:$D98)","v":0},{"$f":"RANK(E98,$E$7:$E$106,0)","v":31}]
[null,93,null,null,{"$f":"SUM($C99:$D99)","v":0},{"$f":"RANK(E99,$E$7:$E$106,0)","v":31}]
[null,94,null,null,{"$f":"SUM($C100:$D100)","v":0},{"$f":"RANK(E100,$E$7:$E$106,0)","v":31}]
[null,95,null,null,{"$f":"SUM($C101:$D101)","v":0},{"$f":"RANK(E101,$E$7:$E$106,0)","v":31}]
[null,96,null,null,{"$f":"SUM($C102:$D102)","v":0},{"$f":"RANK(E102,$E$7:$E$106,0)","v":31}]
[null,97,null,null,{"$f":"SUM($C103:$D103)","v":0},{"$f":"RANK(E103,$E$7:$E$106,0)","v":31}]
[null,98,null,null,{"$f":"SUM($C104:$D104)","v":0},{"$f":"RANK(E104,$E$7:$E$106,0)","v":31}]
[null,99,null,null,{"$f":"SUM($C105:$D105)","v":0},{"$f":"RANK(E105,$E$7:$E$106,0)","v":31}]
[null,100,null,null,{"$f":"SUM($C106:$D106)","v":0},{"$f":"RANK(E106,$E$7:$E$106,0)","v":31}]

{"sheet":"R. Friedelance","index":19,"n_rows":56,"n_cols":18,"rows_kept":56,"cut":false,"hidden":false,"merged":[]}
["Name"]
["Friedelance Roger "]
["Gutschein"]
["Waffe",90]
[null,"Sau Stich",null,null,null,null,null,null,null,null,null,null,null,"Glück",null,null,"Auszahlung"]
[null,"Nr. Passe","1. Schuss","2. Schuss","Total","Rang",null,"Besten Passen",null,"Besten Einzel",null,"Total Passen und Einzel"]
[null,1,null,null,{"$f":"SUM($C7:$D7)","v":0},{"$f":"RANK(E7,$E$7:$E$56,0)","v":1},null,{"$f":"LARGE(E7:E56,1)","v":0},null,{"$f":"IF($B$4=90,LARGE(C10:D56,1),IF($B$4=\"St\",LARGE(C11:D56,1),IF($B$4=57,LARGE(C9:D56,1))))","v":{"$error":"#NUM!"}}]
[null,2,null,null,0,1,null,{"$f":"LARGE(E7:E56,2)","v":0},null,{"$f":"IF($B$4=90,LARGE(C10:D56,2),IF($B$4=\"St\",LARGE(C11:D56,2),IF($B$4=57,LARGE(C9:D56,2))))","v":{"$error":"#NUM!"}},null,{"$f":"IF($B$4=57,SUM(H7:H8,J7:J12),IF($B$4=90,SUM(H7:H9,J7:J10),IF($B$4=\"St\",SUM(H7:H10,J7:J8))))","v":{"$error":"#NUM!"}},null,"Ansage",null,null,"1. Schuss"]
[null,3,null,null,0,1,null,{"$f":"LARGE(E7:E56,3)","v":0},null,{"$f":"IF($B$4=90,LARGE($C$10:$D$56,3),IF($B$4=\"St\",LARGE($C$11:$D$56,3),IF($B$4=57,LARGE($C$9:$D$56,3))))","v":{"$error":"#NUM!"}},null,null,null,"Geschossen",null,null,"2. Schuss"]
[null,4,null,null,0,1,null,{"$f":"LARGE(E7:E56,4)","v":0},null,{"$f":"IF($B$4=90,LARGE(C10:D56,4),IF($B$4=\"St\",LARGE(C11:D56,4),IF($B$4=57,LARGE(C9:D56,4))))","v":{"$error":"#NUM!"}},null,null,null,"Differenz",{"$f":"IF(O8>0,IF(O8>O9,O8-O9,O9-O8),\"\")","v":""},null,"3. Schuss"]
[null,5,null,null,0,1,null,null,null,{"$f":"IF($B$4=90,LARGE(C10:D56,5),IF($B$4=\"St\",LARGE(C11:D56,5),IF($B$4=57,LARGE(C9:D56,5))))","v":{"$error":"#NUM!"}},null,null,null,null,null,null,"4. Schuss"]
[null,6,null,null,0,1,null,null,null,{"$f":"IF($B$4=90,LARGE(C10:D56,6),IF($B$4=\"St\",LARGE(C11:D56,6),IF($B$4=57,LARGE(C9:D56,6))))","v":{"$error":"#NUM!"}},null,null,null,null,null,null,"5. Schuss"]
[null,7,null,null,0,1,null,null,null,{"$f":"IF($B$4=90,LARGE(C11:D57,7),IF($B$4=\"St\",LARGE(C12:D57,7),IF($B$4=57,LARGE(C10:D57,7))))","v":{"$error":"#NUM!"}},null,null,null,null,null,null,"6. Schuss"]
[null,8,null,null,0,1,null,null,null,{"$f":"IF($B$4=90,LARGE(C12:D58,8),IF($B$4=\"St\",LARGE(C13:D58,8),IF($B$4=57,LARGE(C11:D58,8))))","v":{"$error":"#NUM!"}},null,null,null,null,null,null,"7. Schuss"]
[null,9,null,null,0,1,null,null,null,{"$f":"IF($B$4=90,LARGE(C13:D59,9),IF($B$4=\"St\",LARGE(C14:D59,9),IF($B$4=57,LARGE(C12:D59,9))))","v":{"$error":"#NUM!"}},null,null,null,null,null,null,"8. Schuss"]
[null,10,null,null,0,1,null,null,null,null,null,null,null,null,null,null,"9. Schuss"]
[null,11,null,null,0,1,null,null,null,null,null,null,null,null,null,null,"10. Schuss"]
[null,12,null,null,0,1,null,null,null,null,null,null,null,null,null,null,"Total",{"$f":"SUM(R8:R17)","v":0}]
[null,13,null,null,0,1]
[null,14,null,null,0,1]
[null,15,null,null,0,1]
[null,16,null,null,0,1]
[null,17,null,null,0,1]
[null,18,null,null,0,1]
[null,19,null,null,0,1]
[null,20,null,null,0,1]
[null,21,null,null,0,1]
[null,22,null,null,0,1]
[null,23,null,null,0,1]
[null,24,null,null,0,1]
[null,25,null,null,0,1]
[null,26,null,null,0,1]
[null,27,null,null,0,1]
[null,28,null,null,0,1]
[null,29,null,null,0,1]
[null,30,null,null,0,1]
[null,31,null,null,0,1]
[null,32,null,null,0,1]
[null,33,null,null,{"$f":"SUM($C39:$D39)","v":0},{"$f":"RANK(E39,$E$7:$E$56,0)","v":1}]
[null,34,null,null,0,1]
[null,35,null,null,0,1]
[null,36,null,null,0,1]
[null,37,null,null,0,1]
[null,38,null,null,0,1]
[null,39,null,null,0,1]
[null,40,null,null,0,1]
[null,41,null,null,0,1]
[null,42,null,null,0,1]
[null,43,null,null,0,1]
[null,44,null,null,0,1]
[null,45,null,null,0,1]
[null,46,null,null,0,1]
[null,47,null,null,0,1]
[null,48,null,null,0,1]
[null,49,null,null,0,1]
[null,50,null,null,0,1]

{"sheet":"M. Huggler","index":20,"n_rows":56,"n_cols":18,"rows_kept":56,"cut":false,"hidden":false,"merged":[]}
["Name","Huggler Marylène "]
["Gutschein","Coop"]
[]
["Waffe",90]
[null,"Sau Stich",null,null,null,null,null,null,null,null,null,null,null,"Glück",null,null,"Auszahlung"]
[null,"Nr. Passe","1. Schuss","2. Schuss","Total","Rang",null,"Besten Passen",null,"Besten Einzel",null,"Total Passen und Einzel"]
[null,1,98,94,{"$f":"SUM($C7:$D7)","v":192},{"$f":"RANK(E7,$E$7:$E$56,0)","v":1},null,{"$f":"LARGE(E7:E56,1)","v":192},null,{"$f":"IF($B$4=90,LARGE(C10:D56,1),IF($B$4=\"St\",LARGE(C11:D56,1),IF($B$4=57,LARGE(C9:D56,1))))","v":98}]
[null,2,95,92,{"$f":"SUM($C8:$D8)","v":187},{"$f":"RANK(E8,$E$7:$E$56,0)","v":2},null,{"$f":"LARGE(E7:E56,2)","v":187},null,{"$f":"IF($B$4=90,LARGE(C10:D56,2),IF($B$4=\"St\",LARGE(C11:D56,2),IF($B$4=57,LARGE(C9:D56,2))))","v":96},null,{"$f":"IF($B$4=57,SUM(H7:H8,J7:J12),IF($B$4=90,SUM(H7:H9,J7:J10),IF($B$4=\"St\",SUM(H7:H10,J7:J8))))","v":949},null,"Ansage",243,null,"1. Schuss",9]
[null,3,95,91,{"$f":"SUM($C9:$D9)","v":186},{"$f":"RANK(E9,$E$7:$E$56,0)","v":3},null,{"$f":"LARGE(E7:E56,3)","v":186},null,{"$f":"IF($B$4=90,LARGE($C$10:$D$56,3),IF($B$4=\"St\",LARGE($C$11:$D$56,3),IF($B$4=57,LARGE($C$9:$D$56,3))))","v":96},null,null,null,"Geschossen",227,null,"2. Schuss",9]
[null,4,90,96,{"$f":"SUM($C10:$D10)","v":186},{"$f":"RANK(E10,$E$7:$E$56,0)","v":3},null,{"$f":"LARGE(E7:E56,4)","v":186},null,{"$f":"IF($B$4=90,LARGE(C10:D56,4),IF($B$4=\"St\",LARGE(C11:D56,4),IF($B$4=57,LARGE(C9:D56,4))))","v":94},null,null,null,"Differenz",{"$f":"IF(O8>0,IF(O8>O9,O8-O9,O9-O8),\"\")","v":16},null,"3. Schuss",8]
[null,5,94,91,{"$f":"SUM($C11:$D11)","v":185},{"$f":"RANK(E11,$E$7:$E$56,0)","v":5},null,null,null,{"$f":"IF($B$4=90,LARGE(C10:D56,5),IF($B$4=\"St\",LARGE(C11:D56,5),IF($B$4=57,LARGE(C9:D56,5))))","v":94},null,null,null,null,null,null,"4. Schuss",10]
[null,6,96,89,{"$f":"SUM($C12:$D12)","v":185},{"$f":"RANK(E12,$E$7:$E$56,0)","v":5},null,null,null,{"$f":"IF($B$4=90,LARGE(C10:D56,6),IF($B$4=\"St\",LARGE(C11:D56,6),IF($B$4=57,LARGE(C9:D56,6))))","v":94},null,null,null,null,null,null,"5. Schuss",7]
[null,7,82,98,{"$f":"SUM($C13:$D13)","v":180},{"$f":"RANK(E13,$E$7:$E$56,0)","v":7},null,null,null,{"$f":"IF($B$4=90,LARGE(C11:D57,7),IF($B$4=\"St\",LARGE(C12:D57,7),IF($B$4=57,LARGE(C10:D57,7))))","v":91},null,null,null,null,null,null,"6. Schuss",8]
[null,8,83,94,{"$f":"SUM($C14:$D14)","v":177},{"$f":"RANK(E14,$E$7:$E$56,0)","v":8},null,null,null,{"$f":"IF($B$4=90,LARGE(C12:D58,8),IF($B$4=\"St\",LARGE(C13:D58,8),IF($B$4=57,LARGE(C11:D58,8))))","v":89},null,null,null,null,null,null,"7. Schuss",10]
[null,9,89,86,{"$f":"SUM($C15:$D15)","v":175},{"$f":"RANK(E15,$E$7:$E$56,0)","v":9},null,null,null,{"$f":"IF($B$4=90,LARGE(C13:D59,9),IF($B$4=\"St\",LARGE(C14:D59,9),IF($B$4=57,LARGE(C12:D59,9))))","v":87},null,null,null,null,null,null,"8. Schuss",8]
[null,10,86,83,{"$f":"SUM($C16:$D16)","v":169},{"$f":"RANK(E16,$E$7:$E$56,0)","v":10},null,null,null,null,null,null,null,null,null,null,"9. Schuss",8]
[null,11,88,81,{"$f":"SUM($C17:$D17)","v":169},{"$f":"RANK(E17,$E$7:$E$56,0)","v":10},null,null,null,null,null,null,null,null,null,null,"10. Schuss",9]
[null,12,82,87,{"$f":"SUM($C18:$D18)","v":169},{"$f":"RANK(E18,$E$7:$E$56,0)","v":10},null,null,null,null,null,null,null,null,null,null,"Total",{"$f":"SUM(R8:R17)","v":86}]
[null,13,78,87,{"$f":"SUM($C19:$D19)","v":165},{"$f":"RANK(E19,$E$7:$E$56,0)","v":13}]
[null,14,94,71,{"$f":"SUM($C20:$D20)","v":165},{"$f":"RANK(E20,$E$7:$E$56,0)","v":13}]
[null,15,79,85,{"$f":"SUM($C21:$D21)","v":164},{"$f":"RANK(E21,$E$7:$E$56,0)","v":15}]
[null,16,88,75,{"$f":"SUM($C22:$D22)","v":163},{"$f":"RANK(E22,$E$7:$E$56,0)","v":16}]
[null,17,89,73,{"$f":"SUM($C23:$D23)","v":162},{"$f":"RANK(E23,$E$7:$E$56,0)","v":17}]
[null,18,92,69,{"$f":"SUM($C24:$D24)","v":161},{"$f":"RANK(E24,$E$7:$E$56,0)","v":18}]
[null,19,69,84,{"$f":"SUM($C25:$D25)","v":153},{"$f":"RANK(E25,$E$7:$E$56,0)","v":19}]
[null,20,83,59,{"$f":"SUM($C26:$D26)","v":142},{"$f":"RANK(E26,$E$7:$E$56,0)","v":20}]
[null,21,null,null,{"$f":"SUM($C27:$D27)","v":0},{"$f":"RANK(E27,$E$7:$E$56,0)","v":21}]
[null,22,null,null,{"$f":"SUM($C28:$D28)","v":0},{"$f":"RANK(E28,$E$7:$E$56,0)","v":21}]
[null,23,null,null,{"$f":"SUM($C29:$D29)","v":0},{"$f":"RANK(E29,$E$7:$E$56,0)","v":21}]
[null,24,null,null,{"$f":"SUM($C30:$D30)","v":0},{"$f":"RANK(E30,$E$7:$E$56,0)","v":21}]
[null,25,null,null,{"$f":"SUM($C31:$D31)","v":0},{"$f":"RANK(E31,$E$7:$E$56,0)","v":21}]
[null,26,null,null,{"$f":"SUM($C32:$D32)","v":0},{"$f":"RANK(E32,$E$7:$E$56,0)","v":21}]
[null,27,null,null,{"$f":"SUM($C33:$D33)","v":0},{"$f":"RANK(E33,$E$7:$E$56,0)","v":21}]
[null,28,null,null,{"$f":"SUM($C34:$D34)","v":0},{"$f":"RANK(E34,$E$7:$E$56,0)","v":21}]
[null,29,null,null,{"$f":"SUM($C35:$D35)","v":0},{"$f":"RANK(E35,$E$7:$E$56,0)","v":21}]
[null,30,null,null,{"$f":"SUM($C36:$D36)","v":0},{"$f":"RANK(E36,$E$7:$E$56,0)","v":21}]
[null,31,null,null,{"$f":"SUM($C37:$D37)","v":0},{"$f":"RANK(E37,$E$7:$E$56,0)","v":21}]
[null,32,null,null,{"$f":"SUM($C38:$D38)","v":0},{"$f":"RANK(E38,$E$7:$E$56,0)","v":21}]
[null,33,null,null,{"$f":"SUM($C39:$D39)","v":0},{"$f":"RANK(E39,$E$7:$E$56,0)","v":21}]
[null,34,null,null,{"$f":"SUM($C40:$D40)","v":0},{"$f":"RANK(E40,$E$7:$E$56,0)","v":21}]
[null,35,null,null,{"$f":"SUM($C41:$D41)","v":0},{"$f":"RANK(E41,$E$7:$E$56,0)","v":21}]
[null,36,null,null,{"$f":"SUM($C42:$D42)","v":0},{"$f":"RANK(E42,$E$7:$E$56,0)","v":21}]
[null,37,null,null,{"$f":"SUM($C43:$D43)","v":0},{"$f":"RANK(E43,$E$7:$E$56,0)","v":21}]
[null,38,null,null,{"$f":"SUM($C44:$D44)","v":0},{"$f":"RANK(E44,$E$7:$E$56,0)","v":21}]
[null,39,null,null,{"$f":"SUM($C45:$D45)","v":0},{"$f":"RANK(E45,$E$7:$E$56,0)","v":21}]
[null,40,null,null,{"$f":"SUM($C46:$D46)","v":0},{"$f":"RANK(E46,$E$7:$E$56,0)","v":21}]
[null,41,null,null,{"$f":"SUM($C47:$D47)","v":0},{"$f":"RANK(E47,$E$7:$E$56,0)","v":21}]
[null,42,null,null,{"$f":"SUM($C48:$D48)","v":0},{"$f":"RANK(E48,$E$7:$E$56,0)","v":21}]
[null,43,null,null,{"$f":"SUM($C49:$D49)","v":0},{"$f":"RANK(E49,$E$7:$E$56,0)","v":21}]
[null,44,null,null,{"$f":"SUM($C50:$D50)","v":0},{"$f":"RANK(E50,$E$7:$E$56,0)","v":21}]
[null,45,null,null,{"$f":"SUM($C51:$D51)","v":0},{"$f":"RANK(E51,$E$7:$E$56,0)","v":21}]
[null,46,null,null,{"$f":"SUM($C52:$D52)","v":0},{"$f":"RANK(E52,$E$7:$E$56,0)","v":21}]
[null,47,null,null,{"$f":"SUM($C53:$D53)","v":0},{"$f":"RANK(E53,$E$7:$E$56,0)","v":21}]
[null,48,null,null,{"$f":"SUM($C54:$D54)","v":0},{"$f":"RANK(E54,$E$7:$E$56,0)","v":21}]
[null,49,null,null,{"$f":"SUM($C55:$D55)","v":0},{"$f":"RANK(E55,$E$7:$E$56,0)","v":21}]
[null,50,null,null,{"$f":"SUM($C56:$D56)","v":0},{"$f":"RANK(E56,$E$7:$E$56,0)","v":21}]

{"sheet":"P. Abrecht","index":21,"n_rows":56,"n_cols":18,"rows_kept":56,"cut":false,"hidden":false,"merged":[]}
["Name","Abrecht Pascal "]
["Gutschein","Coop"]
[]
["Waffe",90]
[null,"Sau Stich",null,null,null,null,null,null,null,null,null,null,null,"Glück",null,null,"Auszahlung"]
[null,"Nr. Passe","1. Schuss","2. Schuss","Total","Rang",null,"Besten Passen",null,"Besten Einzel",null,"Total Passen und Einzel"]
[null,1,92,94,{"$f":"SUM($C7:$D7)","v":186},{"$f":"RANK(E7,$E$7:$E$56,0)","v":1},null,{"$f":"LARGE(E7:E56,1)","v":186},null,{"$f":"IF($B$4=90,LARGE(C10:D56,1),IF($B$4=\"St\",LARGE(C11:D56,1),IF($B$4=57,LARGE(C9:D56,1))))","v":97}]
[null,2,83,100,{"$f":"SUM($C8:$D8)","v":183},{"$f":"RANK(E8,$E$7:$E$56,0)","v":2},null,{"$f":"LARGE(E7:E56,2)","v":183},null,{"$f":"IF($B$4=90,LARGE(C10:D56,2),IF($B$4=\"St\",LARGE(C11:D56,2),IF($B$4=57,LARGE(C9:D56,2))))","v":96},null,{"$f":"IF($B$4=57,SUM(H7:H8,J7:J12),IF($B$4=90,SUM(H7:H9,J7:J10),IF($B$4=\"St\",SUM(H7:H10,J7:J8))))","v":930},null,"Ansage",260,null,"1. Schuss",7]
[null,3,88,92,{"$f":"SUM($C9:$D9)","v":180},{"$f":"RANK(E9,$E$7:$E$56,0)","v":3},null,{"$f":"LARGE(E7:E56,3)","v":180},null,{"$f":"IF($B$4=90,LARGE($C$10:$D$56,3),IF($B$4=\"St\",LARGE($C$11:$D$56,3),IF($B$4=57,LARGE($C$9:$D$56,3))))","v":95},null,null,null,"Geschossen",286,null,"2. Schuss",9]
[null,4,86,93,{"$f":"SUM($C10:$D10)","v":179},{"$f":"RANK(E10,$E$7:$E$56,0)","v":4},null,{"$f":"LARGE(E7:E56,4)","v":179},null,{"$f":"IF($B$4=90,LARGE(C10:D56,4),IF($B$4=\"St\",LARGE(C11:D56,4),IF($B$4=57,LARGE(C9:D56,4))))","v":93},null,null,null,"Differenz",{"$f":"IF(O8>0,IF(O8>O9,O8-O9,O9-O8),\"\")","v":26},null,"3. Schuss",9]
[null,5,83,95,{"$f":"SUM($C11:$D11)","v":178},{"$f":"RANK(E11,$E$7:$E$56,0)","v":5},null,null,null,{"$f":"IF($B$4=90,LARGE(C10:D56,5),IF($B$4=\"St\",LARGE(C11:D56,5),IF($B$4=57,LARGE(C9:D56,5))))","v":92},null,null,null,null,null,null,"4. Schuss",8]
[null,6,86,92,{"$f":"SUM($C12:$D12)","v":178},{"$f":"RANK(E12,$E$7:$E$56,0)","v":5},null,null,null,{"$f":"IF($B$4=90,LARGE(C10:D56,6),IF($B$4=\"St\",LARGE(C11:D56,6),IF($B$4=57,LARGE(C9:D56,6))))","v":92},null,null,null,null,null,null,"5. Schuss",9]
[null,7,85,92,{"$f":"SUM($C13:$D13)","v":177},{"$f":"RANK(E13,$E$7:$E$56,0)","v":7},null,null,null,{"$f":"IF($B$4=90,LARGE(C11:D57,7),IF($B$4=\"St\",LARGE(C12:D57,7),IF($B$4=57,LARGE(C10:D57,7))))","v":91},null,null,null,null,null,null,"6. Schuss",8]
[null,8,90,87,{"$f":"SUM($C14:$D14)","v":177},{"$f":"RANK(E14,$E$7:$E$56,0)","v":7},null,null,null,{"$f":"IF($B$4=90,LARGE(C12:D58,8),IF($B$4=\"St\",LARGE(C13:D58,8),IF($B$4=57,LARGE(C11:D58,8))))","v":90},null,null,null,null,null,null,"7. Schuss",9]
[null,9,97,77,{"$f":"SUM($C15:$D15)","v":174},{"$f":"RANK(E15,$E$7:$E$56,0)","v":9},null,null,null,{"$f":"IF($B$4=90,LARGE(C13:D59,9),IF($B$4=\"St\",LARGE(C14:D59,9),IF($B$4=57,LARGE(C12:D59,9))))","v":88},null,null,null,null,null,null,"8. Schuss",7]
[null,10,85,87,{"$f":"SUM($C16:$D16)","v":172},{"$f":"RANK(E16,$E$7:$E$56,0)","v":10},null,null,null,null,null,null,null,null,null,null,"9. Schuss",7]
[null,11,84,88,{"$f":"SUM($C17:$D17)","v":172},{"$f":"RANK(E17,$E$7:$E$56,0)","v":10},null,null,null,null,null,null,null,null,null,null,"10. Schuss",9]
[null,12,80,91,{"$f":"SUM($C18:$D18)","v":171},{"$f":"RANK(E18,$E$7:$E$56,0)","v":12},null,null,null,null,null,null,null,null,null,null,"Total",{"$f":"SUM(R8:R17)","v":82}]
[null,13,91,78,{"$f":"SUM($C19:$D19)","v":169},{"$f":"RANK(E19,$E$7:$E$56,0)","v":13}]
[null,14,84,83,{"$f":"SUM($C20:$D20)","v":167},{"$f":"RANK(E20,$E$7:$E$56,0)","v":14}]
[null,15,96,69,{"$f":"SUM($C21:$D21)","v":165},{"$f":"RANK(E21,$E$7:$E$56,0)","v":15}]
[null,16,77,88,{"$f":"SUM($C22:$D22)","v":165},{"$f":"RANK(E22,$E$7:$E$56,0)","v":15}]
[null,17,77,87,{"$f":"SUM($C23:$D23)","v":164},{"$f":"RANK(E23,$E$7:$E$56,0)","v":17}]
[null,18,84,80,{"$f":"SUM($C24:$D24)","v":164},{"$f":"RANK(E24,$E$7:$E$56,0)","v":17}]
[null,19,81,81,{"$f":"SUM($C25:$D25)","v":162},{"$f":"RANK(E25,$E$7:$E$56,0)","v":19}]
[null,20,90,70,{"$f":"SUM($C26:$D26)","v":160},{"$f":"RANK(E26,$E$7:$E$56,0)","v":20}]
[null,21,81,77,{"$f":"SUM($C27:$D27)","v":158},{"$f":"RANK(E27,$E$7:$E$56,0)","v":21}]
[null,81,83,73,{"$f":"SUM($C28:$D28)","v":156},{"$f":"RANK(E28,$E$7:$E$56,0)","v":22}]
[null,74,80,69,{"$f":"SUM($C29:$D29)","v":149},{"$f":"RANK(E29,$E$7:$E$56,0)","v":23}]
[null,24,74,72,{"$f":"SUM($C30:$D30)","v":146},{"$f":"RANK(E30,$E$7:$E$56,0)","v":24}]
[null,25,38,84,{"$f":"SUM($C31:$D31)","v":122},{"$f":"RANK(E31,$E$7:$E$56,0)","v":25}]
[null,26,null,null,{"$f":"SUM($C32:$D32)","v":0},{"$f":"RANK(E32,$E$7:$E$56,0)","v":26}]
[null,27,null,null,{"$f":"SUM($C33:$D33)","v":0},{"$f":"RANK(E33,$E$7:$E$56,0)","v":26}]
[null,28,null,null,{"$f":"SUM($C34:$D34)","v":0},{"$f":"RANK(E34,$E$7:$E$56,0)","v":26}]
[null,29,null,null,{"$f":"SUM($C35:$D35)","v":0},{"$f":"RANK(E35,$E$7:$E$56,0)","v":26}]
[null,30,null,null,{"$f":"SUM($C36:$D36)","v":0},{"$f":"RANK(E36,$E$7:$E$56,0)","v":26}]
[null,31,null,null,{"$f":"SUM($C37:$D37)","v":0},{"$f":"RANK(E37,$E$7:$E$56,0)","v":26}]
[null,32,null,null,{"$f":"SUM($C38:$D38)","v":0},{"$f":"RANK(E38,$E$7:$E$56,0)","v":26}]
[null,33,null,null,{"$f":"SUM($C39:$D39)","v":0},{"$f":"RANK(E39,$E$7:$E$56,0)","v":26}]
[null,34,null,null,{"$f":"SUM($C40:$D40)","v":0},{"$f":"RANK(E40,$E$7:$E$56,0)","v":26}]
[null,35,null,null,{"$f":"SUM($C41:$D41)","v":0},{"$f":"RANK(E41,$E$7:$E$56,0)","v":26}]
[null,36,null,null,{"$f":"SUM($C42:$D42)","v":0},{"$f":"RANK(E42,$E$7:$E$56,0)","v":26}]
[null,37,null,null,{"$f":"SUM($C43:$D43)","v":0},{"$f":"RANK(E43,$E$7:$E$56,0)","v":26}]
[null,38,null,null,{"$f":"SUM($C44:$D44)","v":0},{"$f":"RANK(E44,$E$7:$E$56,0)","v":26}]
[null,39,null,null,{"$f":"SUM($C45:$D45)","v":0},{"$f":"RANK(E45,$E$7:$E$56,0)","v":26}]
[null,40,null,null,{"$f":"SUM($C46:$D46)","v":0},{"$f":"RANK(E46,$E$7:$E$56,0)","v":26}]
[null,41,null,null,{"$f":"SUM($C47:$D47)","v":0},{"$f":"RANK(E47,$E$7:$E$56,0)","v":26}]
[null,42,null,null,{"$f":"SUM($C48:$D48)","v":0},{"$f":"RANK(E48,$E$7:$E$56,0)","v":26}]
[null,43,null,null,{"$f":"SUM($C49:$D49)","v":0},{"$f":"RANK(E49,$E$7:$E$56,0)","v":26}]
[null,44,null,null,{"$f":"SUM($C50:$D50)","v":0},{"$f":"RANK(E50,$E$7:$E$56,0)","v":26}]
[null,45,null,null,{"$f":"SUM($C51:$D51)","v":0},{"$f":"RANK(E51,$E$7:$E$56,0)","v":26}]
[null,46,null,null,{"$f":"SUM($C52:$D52)","v":0},{"$f":"RANK(E52,$E$7:$E$56,0)","v":26}]
[null,47,null,null,{"$f":"SUM($C53:$D53)","v":0},{"$f":"RANK(E53,$E$7:$E$56,0)","v":26}]
[null,48,null,null,{"$f":"SUM($C54:$D54)","v":0},{"$f":"RANK(E54,$E$7:$E$56,0)","v":26}]
[null,49,null,null,{"$f":"SUM($C55:$D55)","v":0},{"$f":"RANK(E55,$E$7:$E$56,0)","v":26}]
[null,50,null,null,{"$f":"SUM($C56:$D56)","v":0},{"$f":"RANK(E56,$E$7:$E$56,0)","v":26}]

{"sheet":"O. Tellenbach","index":22,"n_rows":56,"n_cols":18,"rows_kept":56,"cut":false,"hidden":false,"merged":[]}
["Name","Tellenbach Otto "]
["Gutschein","Coop"]
[]
["Waffe",57]
[null,"Sau Stich",null,null,null,null,null,null,null,null,null,null,null,"Glück",null,null,"Auszahlung"]
[null,"Nr. Passe","1. Schuss","2. Schuss","Total","Rang",null,"Besten Passen",null,"Besten Einzel",null,"Total Passen und Einzel"]
[null,1,93,100,{"$f":"SUM($C7:$D7)","v":193},{"$f":"RANK(E7,$E$7:$E$56,0)","v":1},null,{"$f":"LARGE(E7:E56,1)","v":193},null,{"$f":"IF($B$4=90,LARGE(C10:D56,1),IF($B$4=\"St\",LARGE(C11:D56,1),IF($B$4=57,LARGE(C9:D56,1))))","v":92}]
[null,2,87,75,{"$f":"SUM($C8:$D8)","v":162},{"$f":"RANK(E8,$E$7:$E$56,0)","v":2},null,{"$f":"LARGE(E7:E56,2)","v":162},null,{"$f":"IF($B$4=90,LARGE(C10:D56,2),IF($B$4=\"St\",LARGE(C11:D56,2),IF($B$4=57,LARGE(C9:D56,2))))","v":92},null,{"$f":"IF($B$4=57,SUM(H7:H8,J7:J12),IF($B$4=90,SUM(H7:H9,J7:J10),IF($B$4=\"St\",SUM(H7:H10,J7:J8))))","v":856},null,"Ansage",200,null,"1. Schuss",0]
[null,3,65,92,{"$f":"SUM($C9:$D9)","v":157},{"$f":"RANK(E9,$E$7:$E$56,0)","v":3},null,{"$f":"LARGE(E7:E56,3)","v":157},null,{"$f":"IF($B$4=90,LARGE($C$10:$D$56,3),IF($B$4=\"St\",LARGE($C$11:$D$56,3),IF($B$4=57,LARGE($C$9:$D$56,3))))","v":85},null,null,null,"Geschossen",255,null,"2. Schuss",8]
[null,4,82,75,{"$f":"SUM($C10:$D10)","v":157},{"$f":"RANK(E10,$E$7:$E$56,0)","v":3},null,{"$f":"LARGE(E7:E56,4)","v":157},null,{"$f":"IF($B$4=90,LARGE(C10:D56,4),IF($B$4=\"St\",LARGE(C11:D56,4),IF($B$4=57,LARGE(C9:D56,4))))","v":82},null,null,null,"Differenz",{"$f":"IF(O8>0,IF(O8>O9,O8-O9,O9-O8),\"\")","v":55},null,"3. Schuss",6]
[null,5,66,72,{"$f":"SUM($C11:$D11)","v":138},{"$f":"RANK(E11,$E$7:$E$56,0)","v":5},null,null,null,{"$f":"IF($B$4=90,LARGE(C10:D56,5),IF($B$4=\"St\",LARGE(C11:D56,5),IF($B$4=57,LARGE(C9:D56,5))))","v":75},null,null,null,null,null,null,"4. Schuss",6]
[null,6,44,92,{"$f":"SUM($C12:$D12)","v":136},{"$f":"RANK(E12,$E$7:$E$56,0)","v":6},null,null,null,{"$f":"IF($B$4=90,LARGE(C10:D56,6),IF($B$4=\"St\",LARGE(C11:D56,6),IF($B$4=57,LARGE(C9:D56,6))))","v":75},null,null,null,null,null,null,"5. Schuss",7]
[null,7,72,61,{"$f":"SUM($C13:$D13)","v":133},{"$f":"RANK(E13,$E$7:$E$56,0)","v":7},null,null,null,{"$f":"IF($B$4=90,LARGE(C11:D57,7),IF($B$4=\"St\",LARGE(C12:D57,7),IF($B$4=57,LARGE(C10:D57,7))))","v":72},null,null,null,null,null,null,"6. Schuss",10]
[null,8,85,47,{"$f":"SUM($C14:$D14)","v":132},{"$f":"RANK(E14,$E$7:$E$56,0)","v":8},null,null,null,{"$f":"IF($B$4=90,LARGE(C12:D58,8),IF($B$4=\"St\",LARGE(C13:D58,8),IF($B$4=57,LARGE(C11:D58,8))))","v":70},null,null,null,null,null,null,"7. Schuss",7]
[null,9,71,60,{"$f":"SUM($C15:$D15)","v":131},{"$f":"RANK(E15,$E$7:$E$56,0)","v":9},null,null,null,{"$f":"IF($B$4=90,LARGE(C13:D59,9),IF($B$4=\"St\",LARGE(C14:D59,9),IF($B$4=57,LARGE(C12:D59,9))))","v":67},null,null,null,null,null,null,"8. Schuss",8]
[null,10,60,70,{"$f":"SUM($C16:$D16)","v":130},{"$f":"RANK(E16,$E$7:$E$56,0)","v":10},null,null,null,null,null,null,null,null,null,null,"9. Schuss",7]
[null,11,67,59,{"$f":"SUM($C17:$D17)","v":126},{"$f":"RANK(E17,$E$7:$E$56,0)","v":11},null,null,null,null,null,null,null,null,null,null,"10. Schuss",6]
[null,12,59,66,{"$f":"SUM($C18:$D18)","v":125},{"$f":"RANK(E18,$E$7:$E$56,0)","v":12},null,null,null,null,null,null,null,null,null,null,"Total",{"$f":"SUM(R8:R17)","v":65}]
[null,13,52,73,{"$f":"SUM($C19:$D19)","v":125},{"$f":"RANK(E19,$E$7:$E$56,0)","v":12}]
[null,14,47,75,{"$f":"SUM($C20:$D20)","v":122},{"$f":"RANK(E20,$E$7:$E$56,0)","v":14}]
[null,15,48,70,{"$f":"SUM($C21:$D21)","v":118},{"$f":"RANK(E21,$E$7:$E$56,0)","v":15}]
[null,16,58,57,{"$f":"SUM($C22:$D22)","v":115},{"$f":"RANK(E22,$E$7:$E$56,0)","v":16}]
[null,17,40,67,{"$f":"SUM($C23:$D23)","v":107},{"$f":"RANK(E23,$E$7:$E$56,0)","v":17}]
[null,18,62,41,{"$f":"SUM($C24:$D24)","v":103},{"$f":"RANK(E24,$E$7:$E$56,0)","v":18}]
[null,19,39,59,{"$f":"SUM($C25:$D25)","v":98},{"$f":"RANK(E25,$E$7:$E$56,0)","v":19}]
[null,20,53,44,{"$f":"SUM($C26:$D26)","v":97},{"$f":"RANK(E26,$E$7:$E$56,0)","v":20}]
[null,21,null,null,{"$f":"SUM($C27:$D27)","v":0},{"$f":"RANK(E27,$E$7:$E$56,0)","v":21}]
[null,22,null,null,{"$f":"SUM($C28:$D28)","v":0},{"$f":"RANK(E28,$E$7:$E$56,0)","v":21}]
[null,23,null,null,{"$f":"SUM($C29:$D29)","v":0},{"$f":"RANK(E29,$E$7:$E$56,0)","v":21}]
[null,24,null,null,{"$f":"SUM($C30:$D30)","v":0},{"$f":"RANK(E30,$E$7:$E$56,0)","v":21}]
[null,25,null,null,{"$f":"SUM($C31:$D31)","v":0},{"$f":"RANK(E31,$E$7:$E$56,0)","v":21}]
[null,26,null,null,{"$f":"SUM($C32:$D32)","v":0},{"$f":"RANK(E32,$E$7:$E$56,0)","v":21}]
[null,27,null,null,{"$f":"SUM($C33:$D33)","v":0},{"$f":"RANK(E33,$E$7:$E$56,0)","v":21}]
[null,28,null,null,{"$f":"SUM($C34:$D34)","v":0},{"$f":"RANK(E34,$E$7:$E$56,0)","v":21}]
[null,29,null,null,{"$f":"SUM($C35:$D35)","v":0},{"$f":"RANK(E35,$E$7:$E$56,0)","v":21}]
[null,30,null,null,{"$f":"SUM($C36:$D36)","v":0},{"$f":"RANK(E36,$E$7:$E$56,0)","v":21}]
[null,31,null,null,{"$f":"SUM($C37:$D37)","v":0},{"$f":"RANK(E37,$E$7:$E$56,0)","v":21}]
[null,32,null,null,{"$f":"SUM($C38:$D38)","v":0},{"$f":"RANK(E38,$E$7:$E$56,0)","v":21}]
[null,33,null,null,{"$f":"SUM($C39:$D39)","v":0},{"$f":"RANK(E39,$E$7:$E$56,0)","v":21}]
[null,34,null,null,{"$f":"SUM($C40:$D40)","v":0},{"$f":"RANK(E40,$E$7:$E$56,0)","v":21}]
[null,35,null,null,{"$f":"SUM($C41:$D41)","v":0},{"$f":"RANK(E41,$E$7:$E$56,0)","v":21}]
[null,36,null,null,{"$f":"SUM($C42:$D42)","v":0},{"$f":"RANK(E42,$E$7:$E$56,0)","v":21}]
[null,37,null,null,{"$f":"SUM($C43:$D43)","v":0},{"$f":"RANK(E43,$E$7:$E$56,0)","v":21}]
[null,38,null,null,{"$f":"SUM($C44:$D44)","v":0},{"$f":"RANK(E44,$E$7:$E$56,0)","v":21}]
[null,39,null,null,{"$f":"SUM($C45:$D45)","v":0},{"$f":"RANK(E45,$E$7:$E$56,0)","v":21}]
[null,40,null,null,{"$f":"SUM($C46:$D46)","v":0},{"$f":"RANK(E46,$E$7:$E$56,0)","v":21}]
[null,41,null,null,{"$f":"SUM($C47:$D47)","v":0},{"$f":"RANK(E47,$E$7:$E$56,0)","v":21}]
[null,42,null,null,{"$f":"SUM($C48:$D48)","v":0},{"$f":"RANK(E48,$E$7:$E$56,0)","v":21}]
[null,43,null,null,{"$f":"SUM($C49:$D49)","v":0},{"$f":"RANK(E49,$E$7:$E$56,0)","v":21}]
[null,44,null,null,{"$f":"SUM($C50:$D50)","v":0},{"$f":"RANK(E50,$E$7:$E$56,0)","v":21}]
[null,45,null,null,{"$f":"SUM($C51:$D51)","v":0},{"$f":"RANK(E51,$E$7:$E$56,0)","v":21}]
[null,46,null,null,{"$f":"SUM($C52:$D52)","v":0},{"$f":"RANK(E52,$E$7:$E$56,0)","v":21}]
[null,47,null,null,{"$f":"SUM($C53:$D53)","v":0},{"$f":"RANK(E53,$E$7:$E$56,0)","v":21}]
[null,48,null,null,{"$f":"SUM($C54:$D54)","v":0},{"$f":"RANK(E54,$E$7:$E$56,0)","v":21}]
[null,49,null,null,{"$f":"SUM($C55:$D55)","v":0},{"$f":"RANK(E55,$E$7:$E$56,0)","v":21}]
[null,50,null,null,{"$f":"SUM($C56:$D56)","v":0},{"$f":"RANK(E56,$E$7:$E$56,0)","v":21}]

{"sheet":"A. Stähli","index":23,"n_rows":56,"n_cols":18,"rows_kept":56,"cut":false,"hidden":false,"merged":[]}
["Name","Stähli André "]
["Gutschein"]
[]
["Waffe",90]
[null,"Sau Stich",null,null,null,null,null,null,null,null,null,null,null,"Glück",null,null,"Auszahlung"]
[null,"Nr. Passe","1. Schuss","2. Schuss","Total","Rang",null,"Besten Passen",null,"Besten Einzel",null,"Total Passen und Einzel"]
[null,1,null,null,{"$f":"SUM($C7:$D7)","v":0},{"$f":"RANK(E7,$E$7:$E$56,0)","v":1},null,{"$f":"LARGE(E7:E56,1)","v":0},null,{"$f":"IF($B$4=90,LARGE(C10:D56,1),IF($B$4=\"St\",LARGE(C11:D56,1),IF($B$4=57,LARGE(C9:D56,1))))","v":{"$error":"#NUM!"}}]
[null,2,null,null,0,1,null,{"$f":"LARGE(E7:E56,2)","v":0},null,{"$f":"IF($B$4=90,LARGE(C10:D56,2),IF($B$4=\"St\",LARGE(C11:D56,2),IF($B$4=57,LARGE(C9:D56,2))))","v":{"$error":"#NUM!"}},null,{"$f":"IF($B$4=57,SUM(H7:H8,J7:J12),IF($B$4=90,SUM(H7:H9,J7:J10),IF($B$4=\"St\",SUM(H7:H10,J7:J8))))","v":{"$error":"#NUM!"}},null,"Ansage",null,null,"1. Schuss"]
[null,3,null,null,0,1,null,{"$f":"LARGE(E7:E56,3)","v":0},null,{"$f":"IF($B$4=90,LARGE($C$10:$D$56,3),IF($B$4=\"St\",LARGE($C$11:$D$56,3),IF($B$4=57,LARGE($C$9:$D$56,3))))","v":{"$error":"#NUM!"}},null,null,null,"Geschossen",null,null,"2. Schuss"]
[null,4,null,null,0,1,null,{"$f":"LARGE(E7:E56,4)","v":0},null,{"$f":"IF($B$4=90,LARGE(C10:D56,4),IF($B$4=\"St\",LARGE(C11:D56,4),IF($B$4=57,LARGE(C9:D56,4))))","v":{"$error":"#NUM!"}},null,null,null,"Differenz",{"$f":"IF(O8>0,IF(O8>O9,O8-O9,O9-O8),\"\")","v":""},null,"3. Schuss"]
[null,5,null,null,0,1,null,null,null,{"$f":"IF($B$4=90,LARGE(C10:D56,5),IF($B$4=\"St\",LARGE(C11:D56,5),IF($B$4=57,LARGE(C9:D56,5))))","v":{"$error":"#NUM!"}},null,null,null,null,null,null,"4. Schuss"]
[null,6,null,null,0,1,null,null,null,{"$f":"IF($B$4=90,LARGE(C10:D56,6),IF($B$4=\"St\",LARGE(C11:D56,6),IF($B$4=57,LARGE(C9:D56,6))))","v":{"$error":"#NUM!"}},null,null,null,null,null,null,"5. Schuss"]
[null,7,null,null,0,1,null,null,null,{"$f":"IF($B$4=90,LARGE(C11:D57,7),IF($B$4=\"St\",LARGE(C12:D57,7),IF($B$4=57,LARGE(C10:D57,7))))","v":{"$error":"#NUM!"}},null,null,null,null,null,null,"6. Schuss"]
[null,8,null,null,0,1,null,null,null,{"$f":"IF($B$4=90,LARGE(C12:D58,8),IF($B$4=\"St\",LARGE(C13:D58,8),IF($B$4=57,LARGE(C11:D58,8))))","v":{"$error":"#NUM!"}},null,null,null,null,null,null,"7. Schuss"]
[null,9,null,null,0,1,null,null,null,{"$f":"IF($B$4=90,LARGE(C13:D59,9),IF($B$4=\"St\",LARGE(C14:D59,9),IF($B$4=57,LARGE(C12:D59,9))))","v":{"$error":"#NUM!"}},null,null,null,null,null,null,"8. Schuss"]
[null,10,null,null,0,1,null,null,null,null,null,null,null,null,null,null,"9. Schuss"]
[null,11,null,null,0,1,null,null,null,null,null,null,null,null,null,null,"10. Schuss"]
[null,12,null,null,0,1,null,null,null,null,null,null,null,null,null,null,"Total",{"$f":"SUM(R8:R17)","v":0}]
[null,13,null,null,0,1]
[null,14,null,null,0,1]
[null,15,null,null,0,1]
[null,16,null,null,0,1]
[null,17,null,null,0,1]
[null,18,null,null,0,1]
[null,19,null,null,0,1]
[null,20,null,null,0,1]
[null,21,null,null,0,1]
[null,22,null,null,0,1]
[null,23,null,null,0,1]
[null,24,null,null,0,1]
[null,25,null,null,0,1]
[null,26,null,null,0,1]
[null,27,null,null,0,1]
[null,28,null,null,0,1]
[null,29,null,null,0,1]
[null,30,null,null,0,1]
[null,31,null,null,0,1]
[null,32,null,null,0,1]
[null,33,null,null,{"$f":"SUM($C39:$D39)","v":0},{"$f":"RANK(E39,$E$7:$E$56,0)","v":1}]
[null,34,null,null,0,1]
[null,35,null,null,0,1]
[null,36,null,null,0,1]
[null,37,null,null,0,1]
[null,38,null,null,0,1]
[null,39,null,null,0,1]
[null,40,null,null,0,1]
[null,41,null,null,0,1]
[null,42,null,null,0,1]
[null,43,null,null,0,1]
[null,44,null,null,0,1]
[null,45,null,null,0,1]
[null,46,null,null,0,1]
[null,47,null,null,0,1]
[null,48,null,null,0,1]
[null,49,null,null,0,1]
[null,50,null,null,0,1]

{"sheet":"A. Kunz","index":24,"n_rows":56,"n_cols":18,"rows_kept":56,"cut":false,"hidden":false,"merged":[]}
["Name","Kunz Alfred"]
["Gutschein","Coop"]
[]
["Waffe",90]
[null,"Sau Stich",null,null,null,null,null,null,null,null,null,null,null,"Glück",null,null,"Auszahlung"]
[null,"Nr. Passe","1. Schuss","2. Schuss","Total","Rang",null,"Besten Passen",null,"Besten Einzel",null,"Total Passen und Einzel"]
[null,1,97,90,{"$f":"SUM($C7:$D7)","v":187},{"$f":"RANK(E7,$E$7:$E$56,0)","v":1},null,{"$f":"LARGE(E7:E56,1)","v":187},null,{"$f":"IF($B$4=90,LARGE(C10:D56,1),IF($B$4=\"St\",LARGE(C11:D56,1),IF($B$4=57,LARGE(C9:D56,1))))","v":94}]
[null,2,81,99,{"$f":"SUM($C8:$D8)","v":180},{"$f":"RANK(E8,$E$7:$E$56,0)","v":2},null,{"$f":"LARGE(E7:E56,2)","v":180},null,{"$f":"IF($B$4=90,LARGE(C10:D56,2),IF($B$4=\"St\",LARGE(C11:D56,2),IF($B$4=57,LARGE(C9:D56,2))))","v":92},null,{"$f":"IF($B$4=57,SUM(H7:H8,J7:J12),IF($B$4=90,SUM(H7:H9,J7:J10),IF($B$4=\"St\",SUM(H7:H10,J7:J8))))","v":915},null,"Ansage",210,null,"1. Schuss",9]
[null,3,99,79,{"$f":"SUM($C9:$D9)","v":178},{"$f":"RANK(E9,$E$7:$E$56,0)","v":3},null,{"$f":"LARGE(E7:E56,3)","v":178},null,{"$f":"IF($B$4=90,LARGE($C$10:$D$56,3),IF($B$4=\"St\",LARGE($C$11:$D$56,3),IF($B$4=57,LARGE($C$9:$D$56,3))))","v":92},null,null,null,"Geschossen",228,null,"2. Schuss",7]
[null,4,92,85,{"$f":"SUM($C10:$D10)","v":177},{"$f":"RANK(E10,$E$7:$E$56,0)","v":4},null,{"$f":"LARGE(E7:E56,4)","v":177},null,{"$f":"IF($B$4=90,LARGE(C10:D56,4),IF($B$4=\"St\",LARGE(C11:D56,4),IF($B$4=57,LARGE(C9:D56,4))))","v":92},null,null,null,"Differenz",{"$f":"IF(O8>0,IF(O8>O9,O8-O9,O9-O8),\"\")","v":18},null,"3. Schuss",9]
[null,5,90,81,{"$f":"SUM($C11:$D11)","v":171},{"$f":"RANK(E11,$E$7:$E$56,0)","v":5},null,null,null,{"$f":"IF($B$4=90,LARGE(C10:D56,5),IF($B$4=\"St\",LARGE(C11:D56,5),IF($B$4=57,LARGE(C9:D56,5))))","v":91},null,null,null,null,null,null,"4. Schuss",8]
[null,6,89,82,{"$f":"SUM($C12:$D12)","v":171},{"$f":"RANK(E12,$E$7:$E$56,0)","v":5},null,null,null,{"$f":"IF($B$4=90,LARGE(C10:D56,6),IF($B$4=\"St\",LARGE(C11:D56,6),IF($B$4=57,LARGE(C9:D56,6))))","v":90},null,null,null,null,null,null,"5. Schuss",9]
[null,7,92,74,{"$f":"SUM($C13:$D13)","v":166},{"$f":"RANK(E13,$E$7:$E$56,0)","v":7},null,null,null,{"$f":"IF($B$4=90,LARGE(C11:D57,7),IF($B$4=\"St\",LARGE(C12:D57,7),IF($B$4=57,LARGE(C10:D57,7))))","v":89},null,null,null,null,null,null,"6. Schuss",7]
[null,8,73,89,{"$f":"SUM($C14:$D14)","v":162},{"$f":"RANK(E14,$E$7:$E$56,0)","v":8},null,null,null,{"$f":"IF($B$4=90,LARGE(C12:D58,8),IF($B$4=\"St\",LARGE(C13:D58,8),IF($B$4=57,LARGE(C11:D58,8))))","v":83},null,null,null,null,null,null,"7. Schuss",6]
[null,9,91,70,{"$f":"SUM($C15:$D15)","v":161},{"$f":"RANK(E15,$E$7:$E$56,0)","v":9},null,null,null,{"$f":"IF($B$4=90,LARGE(C13:D59,9),IF($B$4=\"St\",LARGE(C14:D59,9),IF($B$4=57,LARGE(C12:D59,9))))","v":80},null,null,null,null,null,null,"8. Schuss",6]
[null,10,61,94,{"$f":"SUM($C16:$D16)","v":155},{"$f":"RANK(E16,$E$7:$E$56,0)","v":10},null,null,null,null,null,null,null,null,null,null,"9. Schuss",9]
[null,11,72,81,{"$f":"SUM($C17:$D17)","v":153},{"$f":"RANK(E17,$E$7:$E$56,0)","v":11},null,null,null,null,null,null,null,null,null,null,"10. Schuss",7]
[null,12,80,69,{"$f":"SUM($C18:$D18)","v":149},{"$f":"RANK(E18,$E$7:$E$56,0)","v":12},null,null,null,null,null,null,null,null,null,null,"Total",{"$f":"SUM(R8:R17)","v":77}]
[null,13,83,64,{"$f":"SUM($C19:$D19)","v":147},{"$f":"RANK(E19,$E$7:$E$56,0)","v":13}]
[null,14,75,71,{"$f":"SUM($C20:$D20)","v":146},{"$f":"RANK(E20,$E$7:$E$56,0)","v":14}]
[null,15,67,79,{"$f":"SUM($C21:$D21)","v":146},{"$f":"RANK(E21,$E$7:$E$56,0)","v":14}]
[null,16,73,73,{"$f":"SUM($C22:$D22)","v":146},{"$f":"RANK(E22,$E$7:$E$56,0)","v":14}]
[null,17,83,54,{"$f":"SUM($C23:$D23)","v":137},{"$f":"RANK(E23,$E$7:$E$56,0)","v":17}]
[null,18,59,77,{"$f":"SUM($C24:$D24)","v":136},{"$f":"RANK(E24,$E$7:$E$56,0)","v":18}]
[null,19,79,54,{"$f":"SUM($C25:$D25)","v":133},{"$f":"RANK(E25,$E$7:$E$56,0)","v":19}]
[null,20,76,53,{"$f":"SUM($C26:$D26)","v":129},{"$f":"RANK(E26,$E$7:$E$56,0)","v":20}]
[null,21,73,54,{"$f":"SUM($C27:$D27)","v":127},{"$f":"RANK(E27,$E$7:$E$56,0)","v":21}]
[null,22,67,59,{"$f":"SUM($C28:$D28)","v":126},{"$f":"RANK(E28,$E$7:$E$56,0)","v":22}]
[null,23,79,46,{"$f":"SUM($C29:$D29)","v":125},{"$f":"RANK(E29,$E$7:$E$56,0)","v":23}]
[null,24,92,32,{"$f":"SUM($C30:$D30)","v":124},{"$f":"RANK(E30,$E$7:$E$56,0)","v":24}]
[null,25,77,46,{"$f":"SUM($C31:$D31)","v":123},{"$f":"RANK(E31,$E$7:$E$56,0)","v":25}]
[null,26,72,48,{"$f":"SUM($C32:$D32)","v":120},{"$f":"RANK(E32,$E$7:$E$56,0)","v":26}]
[null,27,71,39,{"$f":"SUM($C33:$D33)","v":110},{"$f":"RANK(E33,$E$7:$E$56,0)","v":27}]
[null,28,49,54,{"$f":"SUM($C34:$D34)","v":103},{"$f":"RANK(E34,$E$7:$E$56,0)","v":28}]
[null,29,27,71,{"$f":"SUM($C35:$D35)","v":98},{"$f":"RANK(E35,$E$7:$E$56,0)","v":29}]
[null,30,63,2,{"$f":"SUM($C36:$D36)","v":65},{"$f":"RANK(E36,$E$7:$E$56,0)","v":30}]
[null,31,null,null,{"$f":"SUM($C37:$D37)","v":0},{"$f":"RANK(E37,$E$7:$E$56,0)","v":31}]
[null,32,null,null,{"$f":"SUM($C38:$D38)","v":0},{"$f":"RANK(E38,$E$7:$E$56,0)","v":31}]
[null,33,null,null,{"$f":"SUM($C39:$D39)","v":0},{"$f":"RANK(E39,$E$7:$E$56,0)","v":31}]
[null,34,null,null,{"$f":"SUM($C40:$D40)","v":0},{"$f":"RANK(E40,$E$7:$E$56,0)","v":31}]
[null,35,null,null,{"$f":"SUM($C41:$D41)","v":0},{"$f":"RANK(E41,$E$7:$E$56,0)","v":31}]
[null,36,null,null,{"$f":"SUM($C42:$D42)","v":0},{"$f":"RANK(E42,$E$7:$E$56,0)","v":31}]
[null,37,null,null,{"$f":"SUM($C43:$D43)","v":0},{"$f":"RANK(E43,$E$7:$E$56,0)","v":31}]
[null,38,null,null,{"$f":"SUM($C44:$D44)","v":0},{"$f":"RANK(E44,$E$7:$E$56,0)","v":31}]
[null,39,null,null,{"$f":"SUM($C45:$D45)","v":0},{"$f":"RANK(E45,$E$7:$E$56,0)","v":31}]
[null,40,null,null,{"$f":"SUM($C46:$D46)","v":0},{"$f":"RANK(E46,$E$7:$E$56,0)","v":31}]
[null,41,null,null,{"$f":"SUM($C47:$D47)","v":0},{"$f":"RANK(E47,$E$7:$E$56,0)","v":31}]
[null,42,null,null,{"$f":"SUM($C48:$D48)","v":0},{"$f":"RANK(E48,$E$7:$E$56,0)","v":31}]
[null,43,null,null,{"$f":"SUM($C49:$D49)","v":0},{"$f":"RANK(E49,$E$7:$E$56,0)","v":31}]
[null,44,null,null,{"$f":"SUM($C50:$D50)","v":0},{"$f":"RANK(E50,$E$7:$E$56,0)","v":31}]
[null,45,null,null,{"$f":"SUM($C51:$D51)","v":0},{"$f":"RANK(E51,$E$7:$E$56,0)","v":31}]
[null,46,null,null,{"$f":"SUM($C52:$D52)","v":0},{"$f":"RANK(E52,$E$7:$E$56,0)","v":31}]
[null,47,null,null,{"$f":"SUM($C53:$D53)","v":0},{"$f":"RANK(E53,$E$7:$E$56,0)","v":31}]
[null,48,null,null,{"$f":"SUM($C54:$D54)","v":0},{"$f":"RANK(E54,$E$7:$E$56,0)","v":31}]
[null,49,null,null,{"$f":"SUM($C55:$D55)","v":0},{"$f":"RANK(E55,$E$7:$E$56,0)","v":31}]
[null,50,null,null,{"$f":"SUM($C56:$D56)","v":0},{"$f":"RANK(E56,$E$7:$E$56,0)","v":31}]

{"sheet":"H. Lüthi","index":25,"n_rows":56,"n_cols":18,"rows_kept":56,"cut":false,"hidden":false,"merged":[]}
["Name","Lüthi Hans "]
[]
[]
["Waffe",90]
[null,"Sau Stich",null,null,null,null,null,null,null,null,null,null,null,"Glück",null,null,"Auszahlung"]
[null,"Nr. Passe","1. Schuss","2. Schuss","Total","Rang",null,"Besten Passen",null,"Besten Einzel",null,"Total Passen und Einzel"]
[null,1,null,null,{"$f":"SUM($C7:$D7)","v":0},{"$f":"RANK(E7,$E$7:$E$56,0)","v":1},null,{"$f":"LARGE(E7:E56,1)","v":0},null,{"$f":"IF($B$4=90,LARGE(C10:D56,1),IF($B$4=\"St\",LARGE(C11:D56,1),IF($B$4=57,LARGE(C9:D56,1))))","v":{"$error":"#NUM!"}}]
[null,2,null,null,0,1,null,{"$f":"LARGE(E7:E56,2)","v":0},null,{"$f":"IF($B$4=90,LARGE(C10:D56,2),IF($B$4=\"St\",LARGE(C11:D56,2),IF($B$4=57,LARGE(C9:D56,2))))","v":{"$error":"#NUM!"}},null,{"$f":"IF($B$4=57,SUM(H7:H8,J7:J12),IF($B$4=90,SUM(H7:H9,J7:J10),IF($B$4=\"St\",SUM(H7:H10,J7:J8))))","v":{"$error":"#NUM!"}},null,"Ansage",null,null,"1. Schuss"]
[null,3,null,null,0,1,null,{"$f":"LARGE(E7:E56,3)","v":0},null,{"$f":"IF($B$4=90,LARGE($C$10:$D$56,3),IF($B$4=\"St\",LARGE($C$11:$D$56,3),IF($B$4=57,LARGE($C$9:$D$56,3))))","v":{"$error":"#NUM!"}},null,null,null,"Geschossen",null,null,"2. Schuss"]
[null,4,null,null,0,1,null,{"$f":"LARGE(E7:E56,4)","v":0},null,{"$f":"IF($B$4=90,LARGE(C10:D56,4),IF($B$4=\"St\",LARGE(C11:D56,4),IF($B$4=57,LARGE(C9:D56,4))))","v":{"$error":"#NUM!"}},null,null,null,"Differenz",{"$f":"IF(O8>0,IF(O8>O9,O8-O9,O9-O8),\"\")","v":""},null,"3. Schuss"]
[null,5,null,null,0,1,null,null,null,{"$f":"IF($B$4=90,LARGE(C10:D56,5),IF($B$4=\"St\",LARGE(C11:D56,5),IF($B$4=57,LARGE(C9:D56,5))))","v":{"$error":"#NUM!"}},null,null,null,null,null,null,"4. Schuss"]
[null,6,null,null,0,1,null,null,null,{"$f":"IF($B$4=90,LARGE(C10:D56,6),IF($B$4=\"St\",LARGE(C11:D56,6),IF($B$4=57,LARGE(C9:D56,6))))","v":{"$error":"#NUM!"}},null,null,null,null,null,null,"5. Schuss"]
[null,7,null,null,0,1,null,null,null,{"$f":"IF($B$4=90,LARGE(C11:D57,7),IF($B$4=\"St\",LARGE(C12:D57,7),IF($B$4=57,LARGE(C10:D57,7))))","v":{"$error":"#NUM!"}},null,null,null,null,null,null,"6. Schuss"]
[null,8,null,null,0,1,null,null,null,{"$f":"IF($B$4=90,LARGE(C12:D58,8),IF($B$4=\"St\",LARGE(C13:D58,8),IF($B$4=57,LARGE(C11:D58,8))))","v":{"$error":"#NUM!"}},null,null,null,null,null,null,"7. Schuss"]
[null,9,null,null,0,1,null,null,null,{"$f":"IF($B$4=90,LARGE(C13:D59,9),IF($B$4=\"St\",LARGE(C14:D59,9),IF($B$4=57,LARGE(C12:D59,9))))","v":{"$error":"#NUM!"}},null,null,null,null,null,null,"8. Schuss"]
[null,10,null,null,0,1,null,null,null,null,null,null,null,null,null,null,"9. Schuss"]
[null,11,null,null,0,1,null,null,null,null,null,null,null,null,null,null,"10. Schuss"]
[null,12,null,null,0,1,null,null,null,null,null,null,null,null,null,null,"Total",{"$f":"SUM(R8:R17)","v":0}]
[null,13,null,null,0,1]
[null,14,null,null,0,1]
[null,15,null,null,0,1]
[null,16,null,null,0,1]
[null,17,null,null,0,1]
[null,18,null,null,0,1]
[null,19,null,null,0,1]
[null,20,null,null,0,1]
[null,21,null,null,0,1]
[null,22,null,null,0,1]
[null,23,null,null,0,1]
[null,24,null,null,0,1]
[null,25,null,null,0,1]
[null,26,null,null,0,1]
[null,27,null,null,0,1]
[null,28,null,null,0,1]
[null,29,null,null,0,1]
[null,30,null,null,0,1]
[null,31,null,null,0,1]
[null,32,null,null,0,1]
[null,33,null,null,{"$f":"SUM($C39:$D39)","v":0},{"$f":"RANK(E39,$E$7:$E$56,0)","v":1}]
[null,34,null,null,0,1]
[null,35,null,null,0,1]
[null,36,null,null,0,1]
[null,37,null,null,0,1]
[null,38,null,null,0,1]
[null,39,null,null,0,1]
[null,40,null,null,0,1]
[null,41,null,null,0,1]
[null,42,null,null,0,1]
[null,43,null,null,0,1]
[null,44,null,null,0,1]
[null,45,null,null,0,1]
[null,46,null,null,0,1]
[null,47,null,null,0,1]
[null,48,null,null,0,1]
[null,49,null,null,0,1]
[null,50,null,null,0,1]

{"sheet":"F. Brügger","index":26,"n_rows":56,"n_cols":18,"rows_kept":56,"cut":false,"hidden":false,"merged":[]}
["Name","Brügger Fred"]
["Gutschein"]
[]
["Waffe",90]
[null,"Sau Stich",null,null,null,null,null,null,null,null,null,null,null,"Glück",null,null,"Auszahlung"]
[null,"Nr. Passe","1. Schuss","2. Schuss","Total","Rang",null,"Besten Passen",null,"Besten Einzel",null,"Total Passen und Einzel"]
[null,1,null,null,{"$f":"SUM($C7:$D7)","v":0},{"$f":"RANK(E7,$E$7:$E$56,0)","v":1},null,{"$f":"LARGE(E7:E56,1)","v":0},null,{"$f":"IF($B$4=90,LARGE(C10:D56,1),IF($B$4=\"St\",LARGE(C11:D56,1),IF($B$4=57,LARGE(C9:D56,1))))","v":{"$error":"#NUM!"}}]
[null,2,null,null,0,1,null,{"$f":"LARGE(E7:E56,2)","v":0},null,{"$f":"IF($B$4=90,LARGE(C10:D56,2),IF($B$4=\"St\",LARGE(C11:D56,2),IF($B$4=57,LARGE(C9:D56,2))))","v":{"$error":"#NUM!"}},null,{"$f":"IF($B$4=57,SUM(H7:H8,J7:J12),IF($B$4=90,SUM(H7:H9,J7:J10),IF($B$4=\"St\",SUM(H7:H10,J7:J8))))","v":{"$error":"#NUM!"}},null,"Ansage",null,null,"1. Schuss"]
[null,3,null,null,0,1,null,{"$f":"LARGE(E7:E56,3)","v":0},null,{"$f":"IF($B$4=90,LARGE($C$10:$D$56,3),IF($B$4=\"St\",LARGE($C$11:$D$56,3),IF($B$4=57,LARGE($C$9:$D$56,3))))","v":{"$error":"#NUM!"}},null,null,null,"Geschossen",null,null,"2. Schuss"]
[null,4,null,null,0,1,null,{"$f":"LARGE(E7:E56,4)","v":0},null,{"$f":"IF($B$4=90,LARGE(C10:D56,4),IF($B$4=\"St\",LARGE(C11:D56,4),IF($B$4=57,LARGE(C9:D56,4))))","v":{"$error":"#NUM!"}},null,null,null,"Differenz",{"$f":"IF(O8>0,IF(O8>O9,O8-O9,O9-O8),\"\")","v":""},null,"3. Schuss"]
[null,5,null,null,0,1,null,null,null,{"$f":"IF($B$4=90,LARGE(C10:D56,5),IF($B$4=\"St\",LARGE(C11:D56,5),IF($B$4=57,LARGE(C9:D56,5))))","v":{"$error":"#NUM!"}},null,null,null,null,null,null,"4. Schuss"]
[null,6,null,null,0,1,null,null,null,{"$f":"IF($B$4=90,LARGE(C10:D56,6),IF($B$4=\"St\",LARGE(C11:D56,6),IF($B$4=57,LARGE(C9:D56,6))))","v":{"$error":"#NUM!"}},null,null,null,null,null,null,"5. Schuss"]
[null,7,null,null,0,1,null,null,null,{"$f":"IF($B$4=90,LARGE(C11:D57,7),IF($B$4=\"St\",LARGE(C12:D57,7),IF($B$4=57,LARGE(C10:D57,7))))","v":{"$error":"#NUM!"}},null,null,null,null,null,null,"6. Schuss"]
[null,8,null,null,0,1,null,null,null,{"$f":"IF($B$4=90,LARGE(C12:D58,8),IF($B$4=\"St\",LARGE(C13:D58,8),IF($B$4=57,LARGE(C11:D58,8))))","v":{"$error":"#NUM!"}},null,null,null,null,null,null,"7. Schuss"]
[null,9,null,null,0,1,null,null,null,{"$f":"IF($B$4=90,LARGE(C13:D59,9),IF($B$4=\"St\",LARGE(C14:D59,9),IF($B$4=57,LARGE(C12:D59,9))))","v":{"$error":"#NUM!"}},null,null,null,null,null,null,"8. Schuss"]
[null,10,null,null,0,1,null,null,null,null,null,null,null,null,null,null,"9. Schuss"]
[null,11,null,null,0,1,null,null,null,null,null,null,null,null,null,null,"10. Schuss"]
[null,12,null,null,0,1,null,null,null,null,null,null,null,null,null,null,"Total",{"$f":"SUM(R8:R17)","v":0}]
[null,13,null,null,0,1]
[null,14,null,null,0,1]
[null,15,null,null,0,1]
[null,16,null,null,0,1]
[null,17,null,null,0,1]
[null,18,null,null,0,1]
[null,19,null,null,0,1]
[null,20,null,null,0,1]
[null,21,null,null,0,1]
[null,22,null,null,0,1]
[null,23,null,null,0,1]
[null,24,null,null,0,1]
[null,25,null,null,0,1]
[null,26,null,null,0,1]
[null,27,null,null,0,1]
[null,28,null,null,0,1]
[null,29,null,null,0,1]
[null,30,null,null,0,1]
[null,31,null,null,0,1]
[null,32,null,null,0,1]
[null,33,null,null,{"$f":"SUM($C39:$D39)","v":0},{"$f":"RANK(E39,$E$7:$E$56,0)","v":1}]
[null,34,null,null,0,1]
[null,35,null,null,0,1]
[null,36,null,null,0,1]
[null,37,null,null,0,1]
[null,38,null,null,0,1]
[null,39,null,null,0,1]
[null,40,null,null,0,1]
[null,41,null,null,0,1]
[null,42,null,null,0,1]
[null,43,null,null,0,1]
[null,44,null,null,0,1]
[null,45,null,null,0,1]
[null,46,null,null,0,1]
[null,47,null,null,0,1]
[null,48,null,null,0,1]
[null,49,null,null,0,1]
[null,50,null,null,0,1]

{"sheet":"R. Krähenbühl","index":27,"n_rows":56,"n_cols":18,"rows_kept":56,"cut":false,"hidden":false,"merged":[]}
["Name","Krähenbühl Rita"]
["Gutschein","Migros"]
[]
["Waffe",57]
[null,"Sau Stich",null,null,null,null,null,null,null,null,null,null,null,"Glück",null,null,"Auszahlung"]
[null,"Nr. Passe","1. Schuss","2. Schuss","Total","Rang",null,"Besten Passen",null,"Besten Einzel",null,"Total Passen und Einzel"]
[null,1,87,94,{"$f":"SUM($C7:$D7)","v":181},{"$f":"RANK(E7,$E$7:$E$56,0)","v":1},null,{"$f":"LARGE(E7:E56,1)","v":181},null,{"$f":"IF($B$4=90,LARGE(C10:D56,1),IF($B$4=\"St\",LARGE(C11:D56,1),IF($B$4=57,LARGE(C9:D56,1))))","v":92}]
[null,2,95,85,{"$f":"SUM($C8:$D8)","v":180},{"$f":"RANK(E8,$E$7:$E$56,0)","v":2},null,{"$f":"LARGE(E7:E56,2)","v":180},null,{"$f":"IF($B$4=90,LARGE(C10:D56,2),IF($B$4=\"St\",LARGE(C11:D56,2),IF($B$4=57,LARGE(C9:D56,2))))","v":91},null,{"$f":"IF($B$4=57,SUM(H7:H8,J7:J12),IF($B$4=90,SUM(H7:H9,J7:J10),IF($B$4=\"St\",SUM(H7:H10,J7:J8))))","v":901},null,"Ansage",null,null,"1. Schuss",7]
[null,3,83,91,{"$f":"SUM($C9:$D9)","v":174},{"$f":"RANK(E9,$E$7:$E$56,0)","v":3},null,{"$f":"LARGE(E7:E56,3)","v":174},null,{"$f":"IF($B$4=90,LARGE($C$10:$D$56,3),IF($B$4=\"St\",LARGE($C$11:$D$56,3),IF($B$4=57,LARGE($C$9:$D$56,3))))","v":90},null,null,null,"Geschossen",null,null,"2. Schuss",9]
[null,4,82,88,{"$f":"SUM($C10:$D10)","v":170},{"$f":"RANK(E10,$E$7:$E$56,0)","v":4},null,{"$f":"LARGE(E7:E56,4)","v":170},null,{"$f":"IF($B$4=90,LARGE(C10:D56,4),IF($B$4=\"St\",LARGE(C11:D56,4),IF($B$4=57,LARGE(C9:D56,4))))","v":90},null,null,null,"Differenz",{"$f":"IF(O8>0,IF(O8>O9,O8-O9,O9-O8),\"\")","v":""},null,"3. Schuss",7]
[null,5,81,89,{"$f":"SUM($C11:$D11)","v":170},{"$f":"RANK(E11,$E$7:$E$56,0)","v":4},null,null,null,{"$f":"IF($B$4=90,LARGE(C10:D56,5),IF($B$4=\"St\",LARGE(C11:D56,5),IF($B$4=57,LARGE(C9:D56,5))))","v":89},null,null,null,null,null,null,"4. Schuss",7]
[null,6,90,79,{"$f":"SUM($C12:$D12)","v":169},{"$f":"RANK(E12,$E$7:$E$56,0)","v":6},null,null,null,{"$f":"IF($B$4=90,LARGE(C10:D56,6),IF($B$4=\"St\",LARGE(C11:D56,6),IF($B$4=57,LARGE(C9:D56,6))))","v":88},null,null,null,null,null,null,"5. Schuss",9]
[null,7,83,84,{"$f":"SUM($C13:$D13)","v":167},{"$f":"RANK(E13,$E$7:$E$56,0)","v":7},null,null,null,{"$f":"IF($B$4=90,LARGE(C11:D57,7),IF($B$4=\"St\",LARGE(C12:D57,7),IF($B$4=57,LARGE(C10:D57,7))))","v":86},null,null,null,null,null,null,"6. Schuss",7]
[null,8,85,72,{"$f":"SUM($C14:$D14)","v":157},{"$f":"RANK(E14,$E$7:$E$56,0)","v":8},null,null,null,{"$f":"IF($B$4=90,LARGE(C12:D58,8),IF($B$4=\"St\",LARGE(C13:D58,8),IF($B$4=57,LARGE(C11:D58,8))))","v":84},null,null,null,null,null,null,"7. Schuss",8]
[null,9,83,72,{"$f":"SUM($C15:$D15)","v":155},{"$f":"RANK(E15,$E$7:$E$56,0)","v":9},null,null,null,{"$f":"IF($B$4=90,LARGE(C13:D59,9),IF($B$4=\"St\",LARGE(C14:D59,9),IF($B$4=57,LARGE(C12:D59,9))))","v":83},null,null,null,null,null,null,"8. Schuss",5]
[null,10,90,63,{"$f":"SUM($C16:$D16)","v":153},{"$f":"RANK(E16,$E$7:$E$56,0)","v":10},null,null,null,null,null,null,null,null,null,null,"9. Schuss",6]
[null,11,76,76,{"$f":"SUM($C17:$D17)","v":152},{"$f":"RANK(E17,$E$7:$E$56,0)","v":11},null,null,null,null,null,null,null,null,null,null,"10. Schuss",9]
[null,12,56,92,{"$f":"SUM($C18:$D18)","v":148},{"$f":"RANK(E18,$E$7:$E$56,0)","v":12},null,null,null,null,null,null,null,null,null,null,"Total",{"$f":"SUM(R8:R17)","v":74}]
[null,13,75,72,{"$f":"SUM($C19:$D19)","v":147},{"$f":"RANK(E19,$E$7:$E$56,0)","v":13}]
[null,14,50,86,{"$f":"SUM($C20:$D20)","v":136},{"$f":"RANK(E20,$E$7:$E$56,0)","v":14}]
[null,15,64,66,{"$f":"SUM($C21:$D21)","v":130},{"$f":"RANK(E21,$E$7:$E$56,0)","v":15}]
[null,16,54,69,{"$f":"SUM($C22:$D22)","v":123},{"$f":"RANK(E22,$E$7:$E$56,0)","v":16}]
[null,17,36,87,{"$f":"SUM($C23:$D23)","v":123},{"$f":"RANK(E23,$E$7:$E$56,0)","v":16}]
[null,18,58,63,{"$f":"SUM($C24:$D24)","v":121},{"$f":"RANK(E24,$E$7:$E$56,0)","v":18}]
[null,19,77,41,{"$f":"SUM($C25:$D25)","v":118},{"$f":"RANK(E25,$E$7:$E$56,0)","v":19}]
[null,20,39,69,{"$f":"SUM($C26:$D26)","v":108},{"$f":"RANK(E26,$E$7:$E$56,0)","v":20}]
[null,21,null,null,{"$f":"SUM($C27:$D27)","v":0},{"$f":"RANK(E27,$E$7:$E$56,0)","v":21}]
[null,22,null,null,{"$f":"SUM($C28:$D28)","v":0},{"$f":"RANK(E28,$E$7:$E$56,0)","v":21}]
[null,23,null,null,{"$f":"SUM($C29:$D29)","v":0},{"$f":"RANK(E29,$E$7:$E$56,0)","v":21}]
[null,24,null,null,{"$f":"SUM($C30:$D30)","v":0},{"$f":"RANK(E30,$E$7:$E$56,0)","v":21}]
[null,25,null,null,{"$f":"SUM($C31:$D31)","v":0},{"$f":"RANK(E31,$E$7:$E$56,0)","v":21}]
[null,26,null,null,{"$f":"SUM($C32:$D32)","v":0},{"$f":"RANK(E32,$E$7:$E$56,0)","v":21}]
[null,27,null,null,{"$f":"SUM($C33:$D33)","v":0},{"$f":"RANK(E33,$E$7:$E$56,0)","v":21}]
[null,28,null,null,{"$f":"SUM($C34:$D34)","v":0},{"$f":"RANK(E34,$E$7:$E$56,0)","v":21}]
[null,29,null,null,{"$f":"SUM($C35:$D35)","v":0},{"$f":"RANK(E35,$E$7:$E$56,0)","v":21}]
[null,30,null,null,{"$f":"SUM($C36:$D36)","v":0},{"$f":"RANK(E36,$E$7:$E$56,0)","v":21}]
[null,31,null,null,{"$f":"SUM($C37:$D37)","v":0},{"$f":"RANK(E37,$E$7:$E$56,0)","v":21}]
[null,32,null,null,{"$f":"SUM($C38:$D38)","v":0},{"$f":"RANK(E38,$E$7:$E$56,0)","v":21}]
[null,33,null,null,{"$f":"SUM($C39:$D39)","v":0},{"$f":"RANK(E39,$E$7:$E$56,0)","v":21}]
[null,34,null,null,{"$f":"SUM($C40:$D40)","v":0},{"$f":"RANK(E40,$E$7:$E$56,0)","v":21}]
[null,35,null,null,{"$f":"SUM($C41:$D41)","v":0},{"$f":"RANK(E41,$E$7:$E$56,0)","v":21}]
[null,36,null,null,{"$f":"SUM($C42:$D42)","v":0},{"$f":"RANK(E42,$E$7:$E$56,0)","v":21}]
[null,37,null,null,{"$f":"SUM($C43:$D43)","v":0},{"$f":"RANK(E43,$E$7:$E$56,0)","v":21}]
[null,38,null,null,{"$f":"SUM($C44:$D44)","v":0},{"$f":"RANK(E44,$E$7:$E$56,0)","v":21}]
[null,39,null,null,{"$f":"SUM($C45:$D45)","v":0},{"$f":"RANK(E45,$E$7:$E$56,0)","v":21}]
[null,40,null,null,{"$f":"SUM($C46:$D46)","v":0},{"$f":"RANK(E46,$E$7:$E$56,0)","v":21}]
[null,41,null,null,{"$f":"SUM($C47:$D47)","v":0},{"$f":"RANK(E47,$E$7:$E$56,0)","v":21}]
[null,42,null,null,{"$f":"SUM($C48:$D48)","v":0},{"$f":"RANK(E48,$E$7:$E$56,0)","v":21}]
[null,43,null,null,{"$f":"SUM($C49:$D49)","v":0},{"$f":"RANK(E49,$E$7:$E$56,0)","v":21}]
[null,44,null,null,{"$f":"SUM($C50:$D50)","v":0},{"$f":"RANK(E50,$E$7:$E$56,0)","v":21}]
[null,45,null,null,{"$f":"SUM($C51:$D51)","v":0},{"$f":"RANK(E51,$E$7:$E$56,0)","v":21}]
[null,46,null,null,{"$f":"SUM($C52:$D52)","v":0},{"$f":"RANK(E52,$E$7:$E$56,0)","v":21}]
[null,47,null,null,{"$f":"SUM($C53:$D53)","v":0},{"$f":"RANK(E53,$E$7:$E$56,0)","v":21}]
[null,48,null,null,{"$f":"SUM($C54:$D54)","v":0},{"$f":"RANK(E54,$E$7:$E$56,0)","v":21}]
[null,49,null,null,{"$f":"SUM($C55:$D55)","v":0},{"$f":"RANK(E55,$E$7:$E$56,0)","v":21}]
[null,50,null,null,{"$f":"SUM($C56:$D56)","v":0},{"$f":"RANK(E56,$E$7:$E$56,0)","v":21}]

{"sheet":"Ch. Liechti","index":28,"n_rows":56,"n_cols":18,"rows_kept":56,"cut":false,"hidden":false,"merged":[]}
["Name","Liechti Charles "]
["Gutschein","Coop"]
[]
["Waffe",90]
[null,"Sau Stich",null,null,null,null,null,null,null,null,null,null,null,"Glück",null,null,"Auszahlung"]
[null,"Nr. Passe","1. Schuss","2. Schuss","Total","Rang",null,"Besten Passen",null,"Besten Einzel",null,"Total Passen und Einzel"]
[null,1,94,99,{"$f":"SUM($C7:$D7)","v":193},{"$f":"RANK(E7,$E$7:$E$56,0)","v":1},null,{"$f":"LARGE(E7:E56,1)","v":193},null,{"$f":"IF($B$4=90,LARGE(C10:D56,1),IF($B$4=\"St\",LARGE(C11:D56,1),IF($B$4=57,LARGE(C9:D56,1))))","v":95}]
[null,2,94,92,{"$f":"SUM($C8:$D8)","v":186},{"$f":"RANK(E8,$E$7:$E$56,0)","v":2},null,{"$f":"LARGE(E7:E56,2)","v":186},null,{"$f":"IF($B$4=90,LARGE(C10:D56,2),IF($B$4=\"St\",LARGE(C11:D56,2),IF($B$4=57,LARGE(C9:D56,2))))","v":95},null,{"$f":"IF($B$4=57,SUM(H7:H8,J7:J12),IF($B$4=90,SUM(H7:H9,J7:J10),IF($B$4=\"St\",SUM(H7:H10,J7:J8))))","v":935},null,"Ansage",250,null,"1. Schuss"]
[null,3,91,90,{"$f":"SUM($C9:$D9)","v":181},{"$f":"RANK(E9,$E$7:$E$56,0)","v":3},null,{"$f":"LARGE(E7:E56,3)","v":181},null,{"$f":"IF($B$4=90,LARGE($C$10:$D$56,3),IF($B$4=\"St\",LARGE($C$11:$D$56,3),IF($B$4=57,LARGE($C$9:$D$56,3))))","v":94},null,null,null,"Geschossen",266,null,"2. Schuss"]
[null,4,85,95,{"$f":"SUM($C10:$D10)","v":180},{"$f":"RANK(E10,$E$7:$E$56,0)","v":4},null,{"$f":"LARGE(E7:E56,4)","v":180},null,{"$f":"IF($B$4=90,LARGE(C10:D56,4),IF($B$4=\"St\",LARGE(C11:D56,4),IF($B$4=57,LARGE(C9:D56,4))))","v":91},null,null,null,"Differenz",{"$f":"IF(O8>0,IF(O8>O9,O8-O9,O9-O8),\"\")","v":16},null,"3. Schuss"]
[null,5,84,95,{"$f":"SUM($C11:$D11)","v":179},{"$f":"RANK(E11,$E$7:$E$56,0)","v":5},null,null,null,{"$f":"IF($B$4=90,LARGE(C10:D56,5),IF($B$4=\"St\",LARGE(C11:D56,5),IF($B$4=57,LARGE(C9:D56,5))))","v":91},null,null,null,null,null,null,"4. Schuss"]
[null,6,84,94,{"$f":"SUM($C12:$D12)","v":178},{"$f":"RANK(E12,$E$7:$E$56,0)","v":6},null,null,null,{"$f":"IF($B$4=90,LARGE(C10:D56,6),IF($B$4=\"St\",LARGE(C11:D56,6),IF($B$4=57,LARGE(C9:D56,6))))","v":90},null,null,null,null,null,null,"5. Schuss"]
[null,7,90,86,{"$f":"SUM($C13:$D13)","v":176},{"$f":"RANK(E13,$E$7:$E$56,0)","v":7},null,null,null,{"$f":"IF($B$4=90,LARGE(C11:D57,7),IF($B$4=\"St\",LARGE(C12:D57,7),IF($B$4=57,LARGE(C10:D57,7))))","v":88},null,null,null,null,null,null,"6. Schuss"]
[null,8,88,84,{"$f":"SUM($C14:$D14)","v":172},{"$f":"RANK(E14,$E$7:$E$56,0)","v":8},null,null,null,{"$f":"IF($B$4=90,LARGE(C12:D58,8),IF($B$4=\"St\",LARGE(C13:D58,8),IF($B$4=57,LARGE(C11:D58,8))))","v":86},null,null,null,null,null,null,"7. Schuss"]
[null,9,81,91,{"$f":"SUM($C15:$D15)","v":172},{"$f":"RANK(E15,$E$7:$E$56,0)","v":8},null,null,null,{"$f":"IF($B$4=90,LARGE(C13:D59,9),IF($B$4=\"St\",LARGE(C14:D59,9),IF($B$4=57,LARGE(C12:D59,9))))","v":85},null,null,null,null,null,null,"8. Schuss"]
[null,10,83,85,{"$f":"SUM($C16:$D16)","v":168},{"$f":"RANK(E16,$E$7:$E$56,0)","v":10},null,null,null,null,null,null,null,null,null,null,"9. Schuss"]
[null,11,89,79,{"$f":"SUM($C17:$D17)","v":168},{"$f":"RANK(E17,$E$7:$E$56,0)","v":10},null,null,null,null,null,null,null,null,null,null,"10. Schuss"]
[null,12,80,87,{"$f":"SUM($C18:$D18)","v":167},{"$f":"RANK(E18,$E$7:$E$56,0)","v":12},null,null,null,null,null,null,null,null,null,null,"Total",{"$f":"SUM(R8:R17)","v":0}]
[null,13,84,75,{"$f":"SUM($C19:$D19)","v":159},{"$f":"RANK(E19,$E$7:$E$56,0)","v":13}]
[null,14,83,76,{"$f":"SUM($C20:$D20)","v":159},{"$f":"RANK(E20,$E$7:$E$56,0)","v":13}]
[null,15,80,76,{"$f":"SUM($C21:$D21)","v":156},{"$f":"RANK(E21,$E$7:$E$56,0)","v":15}]
[null,16,83,72,{"$f":"SUM($C22:$D22)","v":155},{"$f":"RANK(E22,$E$7:$E$56,0)","v":16}]
[null,17,77,77,{"$f":"SUM($C23:$D23)","v":154},{"$f":"RANK(E23,$E$7:$E$56,0)","v":17}]
[null,18,84,64,{"$f":"SUM($C24:$D24)","v":148},{"$f":"RANK(E24,$E$7:$E$56,0)","v":18}]
[null,19,86,61,{"$f":"SUM($C25:$D25)","v":147},{"$f":"RANK(E25,$E$7:$E$56,0)","v":19}]
[null,20,62,69,{"$f":"SUM($C26:$D26)","v":131},{"$f":"RANK(E26,$E$7:$E$56,0)","v":20}]
[null,21,66,63,{"$f":"SUM($C27:$D27)","v":129},{"$f":"RANK(E27,$E$7:$E$56,0)","v":21}]
[null,22,91,37,{"$f":"SUM($C28:$D28)","v":128},{"$f":"RANK(E28,$E$7:$E$56,0)","v":22}]
[null,23,71,42,{"$f":"SUM($C29:$D29)","v":113},{"$f":"RANK(E29,$E$7:$E$56,0)","v":23}]
[null,24,46,54,{"$f":"SUM($C30:$D30)","v":100},{"$f":"RANK(E30,$E$7:$E$56,0)","v":24}]
[null,25,29,58,{"$f":"SUM($C31:$D31)","v":87},{"$f":"RANK(E31,$E$7:$E$56,0)","v":25}]
[null,26,0,72,{"$f":"SUM($C32:$D32)","v":72},{"$f":"RANK(E32,$E$7:$E$56,0)","v":26}]
[null,27,null,null,{"$f":"SUM($C33:$D33)","v":0},{"$f":"RANK(E33,$E$7:$E$56,0)","v":27}]
[null,28,null,null,{"$f":"SUM($C34:$D34)","v":0},{"$f":"RANK(E34,$E$7:$E$56,0)","v":27}]
[null,29,null,null,{"$f":"SUM($C35:$D35)","v":0},{"$f":"RANK(E35,$E$7:$E$56,0)","v":27}]
[null,30,null,null,{"$f":"SUM($C36:$D36)","v":0},{"$f":"RANK(E36,$E$7:$E$56,0)","v":27}]
[null,31,null,null,{"$f":"SUM($C37:$D37)","v":0},{"$f":"RANK(E37,$E$7:$E$56,0)","v":27}]
[null,32,null,null,{"$f":"SUM($C38:$D38)","v":0},{"$f":"RANK(E38,$E$7:$E$56,0)","v":27}]
[null,33,null,null,{"$f":"SUM($C39:$D39)","v":0},{"$f":"RANK(E39,$E$7:$E$56,0)","v":27}]
[null,34,null,null,{"$f":"SUM($C40:$D40)","v":0},{"$f":"RANK(E40,$E$7:$E$56,0)","v":27}]
[null,35,null,null,{"$f":"SUM($C41:$D41)","v":0},{"$f":"RANK(E41,$E$7:$E$56,0)","v":27}]
[null,36,null,null,{"$f":"SUM($C42:$D42)","v":0},{"$f":"RANK(E42,$E$7:$E$56,0)","v":27}]
[null,37,null,null,{"$f":"SUM($C43:$D43)","v":0},{"$f":"RANK(E43,$E$7:$E$56,0)","v":27}]
[null,38,null,null,{"$f":"SUM($C44:$D44)","v":0},{"$f":"RANK(E44,$E$7:$E$56,0)","v":27}]
[null,39,null,null,{"$f":"SUM($C45:$D45)","v":0},{"$f":"RANK(E45,$E$7:$E$56,0)","v":27}]
[null,40,null,null,{"$f":"SUM($C46:$D46)","v":0},{"$f":"RANK(E46,$E$7:$E$56,0)","v":27}]
[null,41,null,null,{"$f":"SUM($C47:$D47)","v":0},{"$f":"RANK(E47,$E$7:$E$56,0)","v":27}]
[null,42,null,null,{"$f":"SUM($C48:$D48)","v":0},{"$f":"RANK(E48,$E$7:$E$56,0)","v":27}]
[null,43,null,null,{"$f":"SUM($C49:$D49)","v":0},{"$f":"RANK(E49,$E$7:$E$56,0)","v":27}]
[null,44,null,null,{"$f":"SUM($C50:$D50)","v":0},{"$f":"RANK(E50,$E$7:$E$56,0)","v":27}]
[null,45,null,null,{"$f":"SUM($C51:$D51)","v":0},{"$f":"RANK(E51,$E$7:$E$56,0)","v":27}]
[null,46,null,null,{"$f":"SUM($C52:$D52)","v":0},{"$f":"RANK(E52,$E$7:$E$56,0)","v":27}]
[null,47,null,null,{"$f":"SUM($C53:$D53)","v":0},{"$f":"RANK(E53,$E$7:$E$56,0)","v":27}]
[null,48,null,null,{"$f":"SUM($C54:$D54)","v":0},{"$f":"RANK(E54,$E$7:$E$56,0)","v":27}]
[null,49,null,null,{"$f":"SUM($C55:$D55)","v":0},{"$f":"RANK(E55,$E$7:$E$56,0)","v":27}]
[null,50,null,null,{"$f":"SUM($C56:$D56)","v":0},{"$f":"RANK(E56,$E$7:$E$56,0)","v":27}]

{"sheet":"G. Steiner","index":29,"n_rows":56,"n_cols":18,"rows_kept":56,"cut":false,"hidden":false,"merged":[]}
["Name","Gladys Steiner"]
["Gutschein"]
[]
["Waffe",90]
[null,"Sau Stich",null,null,null,null,null,null,null,null,null,null,null,"Glück",null,null,"Auszahlung"]
[null,"Nr. Passe","1. Schuss","2. Schuss","Total","Rang",null,"Besten Passen",null,"Besten Einzel",null,"Total Passen und Einzel"]
[null,1,null,null,{"$f":"SUM($C7:$D7)","v":0},{"$f":"RANK(E7,$E$7:$E$56,0)","v":1},null,{"$f":"LARGE(E7:E56,1)","v":0},null,{"$f":"IF($B$4=90,LARGE(C10:D56,1),IF($B$4=\"St\",LARGE(C11:D56,1),IF($B$4=57,LARGE(C9:D56,1))))","v":{"$error":"#NUM!"}}]
[null,2,null,null,0,1,null,{"$f":"LARGE(E7:E56,2)","v":0},null,{"$f":"IF($B$4=90,LARGE(C10:D56,2),IF($B$4=\"St\",LARGE(C11:D56,2),IF($B$4=57,LARGE(C9:D56,2))))","v":{"$error":"#NUM!"}},null,{"$f":"IF($B$4=57,SUM(H7:H8,J7:J12),IF($B$4=90,SUM(H7:H9,J7:J10),IF($B$4=\"St\",SUM(H7:H10,J7:J8))))","v":{"$error":"#NUM!"}},null,"Ansage",null,null,"1. Schuss"]
[null,3,null,null,0,1,null,{"$f":"LARGE(E7:E56,3)","v":0},null,{"$f":"IF($B$4=90,LARGE($C$10:$D$56,3),IF($B$4=\"St\",LARGE($C$11:$D$56,3),IF($B$4=57,LARGE($C$9:$D$56,3))))","v":{"$error":"#NUM!"}},null,null,null,"Geschossen",null,null,"2. Schuss"]
[null,4,null,null,0,1,null,{"$f":"LARGE(E7:E56,4)","v":0},null,{"$f":"IF($B$4=90,LARGE(C10:D56,4),IF($B$4=\"St\",LARGE(C11:D56,4),IF($B$4=57,LARGE(C9:D56,4))))","v":{"$error":"#NUM!"}},null,null,null,"Differenz",{"$f":"IF(O8>0,IF(O8>O9,O8-O9,O9-O8),\"\")","v":""},null,"3. Schuss"]
[null,5,null,null,0,1,null,null,null,{"$f":"IF($B$4=90,LARGE(C10:D56,5),IF($B$4=\"St\",LARGE(C11:D56,5),IF($B$4=57,LARGE(C9:D56,5))))","v":{"$error":"#NUM!"}},null,null,null,null,null,null,"4. Schuss"]
[null,6,null,null,0,1,null,null,null,{"$f":"IF($B$4=90,LARGE(C10:D56,6),IF($B$4=\"St\",LARGE(C11:D56,6),IF($B$4=57,LARGE(C9:D56,6))))","v":{"$error":"#NUM!"}},null,null,null,null,null,null,"5. Schuss"]
[null,7,null,null,0,1,null,null,null,{"$f":"IF($B$4=90,LARGE(C11:D57,7),IF($B$4=\"St\",LARGE(C12:D57,7),IF($B$4=57,LARGE(C10:D57,7))))","v":{"$error":"#NUM!"}},null,null,null,null,null,null,"6. Schuss"]
[null,8,null,null,0,1,null,null,null,{"$f":"IF($B$4=90,LARGE(C12:D58,8),IF($B$4=\"St\",LARGE(C13:D58,8),IF($B$4=57,LARGE(C11:D58,8))))","v":{"$error":"#NUM!"}},null,null,null,null,null,null,"7. Schuss"]
[null,9,null,null,0,1,null,null,null,{"$f":"IF($B$4=90,LARGE(C13:D59,9),IF($B$4=\"St\",LARGE(C14:D59,9),IF($B$4=57,LARGE(C12:D59,9))))","v":{"$error":"#NUM!"}},null,null,null,null,null,null,"8. Schuss"]
[null,10,null,null,0,1,null,null,null,null,null,null,null,null,null,null,"9. Schuss"]
[null,11,null,null,0,1,null,null,null,null,null,null,null,null,null,null,"10. Schuss"]
[null,12,null,null,0,1,null,null,null,null,null,null,null,null,null,null,"Total",{"$f":"SUM(R8:R17)","v":0}]
[null,13,null,null,0,1]
[null,14,null,null,0,1]
[null,15,null,null,0,1]
[null,16,null,null,0,1]
[null,17,null,null,0,1]
[null,18,null,null,0,1]
[null,19,null,null,0,1]
[null,20,null,null,0,1]
[null,21,null,null,0,1]
[null,22,null,null,0,1]
[null,23,null,null,0,1]
[null,24,null,null,0,1]
[null,25,null,null,0,1]
[null,26,null,null,0,1]
[null,27,null,null,0,1]
[null,28,null,null,0,1]
[null,29,null,null,0,1]
[null,30,null,null,0,1]
[null,31,null,null,0,1]
[null,32,null,null,0,1]
[null,33,null,null,{"$f":"SUM($C39:$D39)","v":0},{"$f":"RANK(E39,$E$7:$E$56,0)","v":1}]
[null,34,null,null,0,1]
[null,35,null,null,0,1]
[null,36,null,null,0,1]
[null,37,null,null,0,1]
[null,38,null,null,0,1]
[null,39,null,null,0,1]
[null,40,null,null,0,1]
[null,41,null,null,0,1]
[null,42,null,null,0,1]
[null,43,null,null,0,1]
[null,44,null,null,0,1]
[null,45,null,null,0,1]
[null,46,null,null,0,1]
[null,47,null,null,0,1]
[null,48,null,null,0,1]
[null,49,null,null,0,1]
[null,50,null,null,0,1]

{"sheet":"D. Wyss","index":30,"n_rows":56,"n_cols":18,"rows_kept":56,"cut":false,"hidden":false,"merged":[]}
["Name","Wyss Daniel"]
["Gutschein"]
[]
["Waffe","St"]
[null,"Sau Stich",null,null,null,null,null,null,null,null,null,null,null,"Glück",null,null,"Auszahlung"]
[null,"Nr. Passe","1. Schuss","2. Schuss","Total","Rang",null,"Besten Passen",null,"Besten Einzel",null,"Total Passen und Einzel"]
[null,1,null,null,{"$f":"SUM($C7:$D7)","v":0},{"$f":"RANK(E7,$E$7:$E$56,0)","v":1},null,{"$f":"LARGE(E7:E56,1)","v":0},null,{"$f":"IF($B$4=90,LARGE(C10:D56,1),IF($B$4=\"St\",LARGE(C11:D56,1),IF($B$4=57,LARGE(C9:D56,1))))","v":{"$error":"#NUM!"}}]
[null,2,null,null,0,1,null,{"$f":"LARGE(E7:E56,2)","v":0},null,{"$f":"IF($B$4=90,LARGE(C10:D56,2),IF($B$4=\"St\",LARGE(C11:D56,2),IF($B$4=57,LARGE(C9:D56,2))))","v":{"$error":"#NUM!"}},null,{"$f":"IF($B$4=57,SUM(H7:H8,J7:J12),IF($B$4=90,SUM(H7:H9,J7:J10),IF($B$4=\"St\",SUM(H7:H10,J7:J8))))","v":{"$error":"#NUM!"}},null,"Ansage",null,null,"1. Schuss"]
[null,3,null,null,0,1,null,{"$f":"LARGE(E7:E56,3)","v":0},null,{"$f":"IF($B$4=90,LARGE($C$10:$D$56,3),IF($B$4=\"St\",LARGE($C$11:$D$56,3),IF($B$4=57,LARGE($C$9:$D$56,3))))","v":{"$error":"#NUM!"}},null,null,null,"Geschossen",null,null,"2. Schuss"]
[null,4,null,null,0,1,null,{"$f":"LARGE(E7:E56,4)","v":0},null,{"$f":"IF($B$4=90,LARGE(C10:D56,4),IF($B$4=\"St\",LARGE(C11:D56,4),IF($B$4=57,LARGE(C9:D56,4))))","v":{"$error":"#NUM!"}},null,null,null,"Differenz",{"$f":"IF(O8>0,IF(O8>O9,O8-O9,O9-O8),\"\")","v":""},null,"3. Schuss"]
[null,5,null,null,0,1,null,null,null,{"$f":"IF($B$4=90,LARGE(C10:D56,5),IF($B$4=\"St\",LARGE(C11:D56,5),IF($B$4=57,LARGE(C9:D56,5))))","v":{"$error":"#NUM!"}},null,null,null,null,null,null,"4. Schuss"]
[null,6,null,null,0,1,null,null,null,{"$f":"IF($B$4=90,LARGE(C10:D56,6),IF($B$4=\"St\",LARGE(C11:D56,6),IF($B$4=57,LARGE(C9:D56,6))))","v":{"$error":"#NUM!"}},null,null,null,null,null,null,"5. Schuss"]
[null,7,null,null,0,1,null,null,null,{"$f":"IF($B$4=90,LARGE(C11:D57,7),IF($B$4=\"St\",LARGE(C12:D57,7),IF($B$4=57,LARGE(C10:D57,7))))","v":{"$error":"#NUM!"}},null,null,null,null,null,null,"6. Schuss"]
[null,8,null,null,0,1,null,null,null,{"$f":"IF($B$4=90,LARGE(C12:D58,8),IF($B$4=\"St\",LARGE(C13:D58,8),IF($B$4=57,LARGE(C11:D58,8))))","v":{"$error":"#NUM!"}},null,null,null,null,null,null,"7. Schuss"]
[null,9,null,null,0,1,null,null,null,{"$f":"IF($B$4=90,LARGE(C13:D59,9),IF($B$4=\"St\",LARGE(C14:D59,9),IF($B$4=57,LARGE(C12:D59,9))))","v":{"$error":"#NUM!"}},null,null,null,null,null,null,"8. Schuss"]
[null,10,null,null,0,1,null,null,null,null,null,null,null,null,null,null,"9. Schuss"]
[null,11,null,null,0,1,null,null,null,null,null,null,null,null,null,null,"10. Schuss"]
[null,12,null,null,0,1,null,null,null,null,null,null,null,null,null,null,"Total",{"$f":"SUM(R8:R17)","v":0}]
[null,13,null,null,0,1]
[null,14,null,null,0,1]
[null,15,null,null,0,1]
[null,16,null,null,0,1]
[null,17,null,null,0,1]
[null,18,null,null,0,1]
[null,19,null,null,0,1]
[null,20,null,null,0,1]
[null,21,null,null,0,1]
[null,22,null,null,0,1]
[null,23,null,null,0,1]
[null,24,null,null,0,1]
[null,25,null,null,0,1]
[null,26,null,null,0,1]
[null,27,null,null,0,1]
[null,28,null,null,0,1]
[null,29,null,null,0,1]
[null,30,null,null,0,1]
[null,31,null,null,0,1]
[null,32,null,null,0,1]
[null,33,null,null,{"$f":"SUM($C39:$D39)","v":0},1]
[null,34,null,null,0,1]
[null,35,null,null,0,1]
[null,36,null,null,0,1]
[null,37,null,null,0,1]
[null,38,null,null,0,1]
[null,39,null,null,0,1]
[null,40,null,null,0,1]
[null,41,null,null,0,1]
[null,42,null,null,0,1]
[null,43,null,null,0,1]
[null,44,null,null,0,1]
[null,45,null,null,0,1]
[null,46,null,null,0,1]
[null,47,null,null,0,1]
[null,48,null,null,0,1]
[null,49,null,null,0,1]
[null,50,null,null,0,1]

{"sheet":"B. Gatschet","index":31,"n_rows":56,"n_cols":18,"rows_kept":56,"cut":false,"hidden":false,"merged":[]}
["Name","Gatschet Beat"]
["Gutschein"]
[]
["Waffe","St"]
[null,"Sau Stich",null,null,null,null,null,null,null,null,null,null,null,"Glück",null,null,"Auszahlung"]
[null,"Nr. Passe","1. Schuss","2. Schuss","Total","Rang",null,"Besten Passen",null,"Besten Einzel",null,"Total Passen und Einzel"]
[null,1,null,null,{"$f":"SUM($C7:$D7)","v":0},{"$f":"RANK(E7,$E$7:$E$56,0)","v":1},null,{"$f":"LARGE(E7:E56,1)","v":0},null,{"$f":"IF($B$4=90,LARGE(C10:D56,1),IF($B$4=\"St\",LARGE(C11:D56,1),IF($B$4=57,LARGE(C9:D56,1))))","v":{"$error":"#NUM!"}}]
[null,2,null,null,0,1,null,{"$f":"LARGE(E7:E56,2)","v":0},null,{"$f":"IF($B$4=90,LARGE(C10:D56,2),IF($B$4=\"St\",LARGE(C11:D56,2),IF($B$4=57,LARGE(C9:D56,2))))","v":{"$error":"#NUM!"}},null,{"$f":"IF($B$4=57,SUM(H7:H8,J7:J12),IF($B$4=90,SUM(H7:H9,J7:J10),IF($B$4=\"St\",SUM(H7:H10,J7:J8))))","v":{"$error":"#NUM!"}},null,"Ansage",null,null,"1. Schuss"]
[null,3,null,null,0,1,null,{"$f":"LARGE(E7:E56,3)","v":0},null,{"$f":"IF($B$4=90,LARGE($C$10:$D$56,3),IF($B$4=\"St\",LARGE($C$11:$D$56,3),IF($B$4=57,LARGE($C$9:$D$56,3))))","v":{"$error":"#NUM!"}},null,null,null,"Geschossen",null,null,"2. Schuss"]
[null,4,null,null,0,1,null,{"$f":"LARGE(E7:E56,4)","v":0},null,{"$f":"IF($B$4=90,LARGE(C10:D56,4),IF($B$4=\"St\",LARGE(C11:D56,4),IF($B$4=57,LARGE(C9:D56,4))))","v":{"$error":"#NUM!"}},null,null,null,"Differenz",{"$f":"IF(O8>0,IF(O8>O9,O8-O9,O9-O8),\"\")","v":""},null,"3. Schuss"]
[null,5,null,null,0,1,null,null,null,{"$f":"IF($B$4=90,LARGE(C10:D56,5),IF($B$4=\"St\",LARGE(C11:D56,5),IF($B$4=57,LARGE(C9:D56,5))))","v":{"$error":"#NUM!"}},null,null,null,null,null,null,"4. Schuss"]
[null,6,null,null,0,1,null,null,null,{"$f":"IF($B$4=90,LARGE(C10:D56,6),IF($B$4=\"St\",LARGE(C11:D56,6),IF($B$4=57,LARGE(C9:D56,6))))","v":{"$error":"#NUM!"}},null,null,null,null,null,null,"5. Schuss"]
[null,7,null,null,0,1,null,null,null,{"$f":"IF($B$4=90,LARGE(C11:D57,7),IF($B$4=\"St\",LARGE(C12:D57,7),IF($B$4=57,LARGE(C10:D57,7))))","v":{"$error":"#NUM!"}},null,null,null,null,null,null,"6. Schuss"]
[null,8,null,null,0,1,null,null,null,{"$f":"IF($B$4=90,LARGE(C12:D58,8),IF($B$4=\"St\",LARGE(C13:D58,8),IF($B$4=57,LARGE(C11:D58,8))))","v":{"$error":"#NUM!"}},null,null,null,null,null,null,"7. Schuss"]
[null,9,null,null,0,1,null,null,null,{"$f":"IF($B$4=90,LARGE(C13:D59,9),IF($B$4=\"St\",LARGE(C14:D59,9),IF($B$4=57,LARGE(C12:D59,9))))","v":{"$error":"#NUM!"}},null,null,null,null,null,null,"8. Schuss"]
[null,10,null,null,0,1,null,null,null,null,null,null,null,null,null,null,"9. Schuss"]
[null,11,null,null,0,1,null,null,null,null,null,null,null,null,null,null,"10. Schuss"]
[null,12,null,null,0,1,null,null,null,null,null,null,null,null,null,null,"Total",{"$f":"SUM(R8:R17)","v":0}]
[null,13,null,null,0,1]
[null,14,null,null,0,1]
[null,15,null,null,0,1]
[null,16,null,null,0,1]
[null,17,null,null,0,1]
[null,18,null,null,0,1]
[null,19,null,null,0,1]
[null,20,null,null,0,1]
[null,21,null,null,0,1]
[null,22,null,null,0,1]
[null,23,null,null,0,1]
[null,24,null,null,0,1]
[null,25,null,null,0,1]
[null,26,null,null,0,1]
[null,27,null,null,0,1]
[null,28,null,null,0,1]
[null,29,null,null,0,1]
[null,30,null,null,0,1]
[null,31,null,null,0,1]
[null,32,null,null,0,1]
[null,33,null,null,{"$f":"SUM($C39:$D39)","v":0},{"$f":"RANK(E39,$E$7:$E$56,0)","v":1}]
[null,34,null,null,0,1]
[null,35,null,null,0,1]
[null,36,null,null,0,1]
[null,37,null,null,0,1]
[null,38,null,null,0,1]
[null,39,null,null,0,1]
[null,40,null,null,0,1]
[null,41,null,null,0,1]
[null,42,null,null,0,1]
[null,43,null,null,0,1]
[null,44,null,null,0,1]
[null,45,null,null,0,1]
[null,46,null,null,0,1]
[null,47,null,null,0,1]
[null,48,null,null,0,1]
[null,49,null,null,0,1]
[null,50,null,null,0,1]

{"sheet":"Zusammenstellung Daten","index":32,"n_rows":35,"n_cols":11,"rows_kept":35,"cut":false,"hidden":false,"merged":[[1,2,1,4]]}
[]
[null,null,"Nicht gewertete Einzel"]
["Name","Sau Total","1Einzel","2Einzel","3Einzel","Auszahlung","Kat.","Ansage Glück","Geschossen","Glück","Rang Glück"]
[{"$f":"'P. Abrecht'!$B$1","v":"Abrecht Pascal "},{"$f":"'P. Abrecht'!$L$8","v":930},{"$f":"'P. Abrecht'!$J$11","v":92},{"$f":"'P. Abrecht'!$J$12","v":92},{"$f":"'P. Abrecht'!$J$13","v":91},{"$f":"'P. Abrecht'!$R$18","v":82},{"$f":"'P. Abrecht'!$B$4","v":90},{"$f":"'P. Abrecht'!$O$8","v":260},{"$f":"'P. Abrecht'!$O$9","v":286},{"$f":"'P. Abrecht'!$O$10","v":26},{"$f":"IF($H4>0,_xlfn.RANK.EQ($J4,$J$4:$J$35,1)-1,\"\")","v":11}]
[{"$f":"'T. Abrecht'!$A$2","v":"Abrecht Theodor "},{"$f":"'T. Abrecht'!$L$8","v":925},{"$f":"'T. Abrecht'!$J$11","v":91},{"$f":"'T. Abrecht'!$J$12","v":90},{"$f":"'T. Abrecht'!$J$13","v":84},{"$f":"'T. Abrecht'!$R$18","v":85},{"$f":"'T. Abrecht'!$B$4","v":90},{"$f":"'T. Abrecht'!$O$8","v":256},{"$f":"'T. Abrecht'!$O$9","v":179},{"$f":"'T. Abrecht'!$O$10","v":77},19]
[{"$f":"'A. Kunz'!$B$1","v":"Kunz Alfred"},{"$f":"'A. Kunz'!$L$8","v":915},{"$f":"'A. Kunz'!$J$11","v":91},{"$f":"'A. Kunz'!$J$12","v":90},{"$f":"'A. Kunz'!$J$13","v":89},{"$f":"'A. Kunz'!$R$18","v":77},{"$f":"'A. Kunz'!$B$4","v":90},{"$f":"'A. Kunz'!$O$8","v":210},{"$f":"'A. Kunz'!$O$9","v":228},{"$f":"'A. Kunz'!$O$10","v":18},5]
[{"$f":"'H. Bürgi'!$A$2","v":"Bürgi Heinz"},{"$f":"'H. Bürgi'!$L$8","v":951},{"$f":"'H. Bürgi'!$J$11","v":94},{"$f":"'H. Bürgi'!$J$12","v":94},{"$f":"'H. Bürgi'!$J$13","v":93},{"$f":"'H. Bürgi'!$R$18","v":90},{"$f":"'H. Bürgi'!$B$4","v":90},{"$f":"'H. Bürgi'!$O$8","v":237},{"$f":"'H. Bürgi'!$O$9","v":224},{"$f":"'H. Bürgi'!$O$10","v":13},2]
[{"$f":"'R. Krähenbühl'!$B$1","v":"Krähenbühl Rita"},{"$f":"'R. Krähenbühl'!$L$8","v":901},{"$f":"'R. Krähenbühl'!$J$11","v":89},{"$f":"'R. Krähenbühl'!$J$12","v":88},{"$f":"'R. Krähenbühl'!$J$13","v":86},{"$f":"'R. Krähenbühl'!$R$18","v":74},{"$f":"'R. Krähenbühl'!$B$4","v":57},{"$f":"'R. Krähenbühl'!$O$8","v":0},{"$f":"'R. Krähenbühl'!O9","v":0},{"$f":"'R. Krähenbühl'!$O$10","v":""},""]
[{"$f":"'A. Erb'!$A$2","v":"Erb Alex"},{"$f":"'A. Erb'!$L$8","v":914},{"$f":"'A. Erb'!$J$11","v":88},{"$f":"'A. Erb'!$J$12","v":88},{"$f":"'A. Erb'!$J$13","v":88},{"$f":"'A. Erb'!$R$18","v":90},{"$f":"'A. Erb'!$B$4","v":90},{"$f":"'A. Erb'!$O$8","v":253},{"$f":"'A. Erb'!$O$9","v":280},{"$f":"'A. Erb'!$O$10","v":27},12]
[{"$f":"'C. Erb'!$A$2","v":"Erb Corinne"},{"$f":"'C. Erb'!$L$8","v":{"$error":"#NUM!"}},{"$f":"'C. Erb'!$J$11","v":{"$error":"#NUM!"}},{"$f":"'C. Erb'!$J$12","v":{"$error":"#NUM!"}},{"$f":"'C. Erb'!$J$13","v":{"$error":"#NUM!"}},{"$f":"'C. Erb'!$R$18","v":0},{"$f":"'C. Erb'!$B$4","v":90},{"$f":"'C. Erb'!$O$8","v":0},{"$f":"'C. Erb'!$O$9","v":0},{"$f":"'C. Erb'!$O$10","v":""},""]
[{"$f":"'R. Friedelance'!$A$2","v":"Friedelance Roger "},{"$f":"'R. Friedelance'!$L$8","v":{"$error":"#NUM!"}},{"$f":"'R. Friedelance'!$J$11","v":{"$error":"#NUM!"}},{"$f":"'R. Friedelance'!$J$12","v":{"$error":"#NUM!"}},{"$f":"'R. Friedelance'!$J$13","v":{"$error":"#NUM!"}},{"$f":"'R. Friedelance'!$R$18","v":0},{"$f":"'R. Friedelance'!$B$4","v":90},{"$f":"'R. Friedelance'!$O$8","v":0},{"$f":"'R. Friedelance'!$O$9","v":0},{"$f":"'R. Friedelance'!$O$10","v":""},""]
[{"$f":"'P. Friedli'!$A$2","v":"Friedli Peter"},{"$f":"'P. Friedli'!$L$8","v":980},{"$f":"'P. Friedli'!$J$9","v":97},{"$f":"'P. Friedli'!$J$10","v":96},{"$f":"'P. Friedli'!$J$11","v":96},{"$f":"'P. Friedli'!$R$18","v":82},{"$f":"'P. Friedli'!$B$4","v":"St"},{"$f":"'P. Friedli'!$O$8","v":268},{"$f":"'P. Friedli'!$O$9","v":244},{"$f":"'P. Friedli'!$O$10","v":24},9]
[{"$f":"'G. Steiner'!$B$1","v":"Gladys Steiner"},{"$f":"'G. Steiner'!$L$8","v":{"$error":"#NUM!"}},{"$f":"'G. Steiner'!$J$11","v":{"$error":"#NUM!"}},{"$f":"'G. Steiner'!$J$12","v":{"$error":"#NUM!"}},{"$f":"'G. Steiner'!J13","v":{"$error":"#NUM!"}},{"$f":"'G. Steiner'!$R$18","v":0},{"$f":"'G. Steiner'!$B$4","v":90},{"$f":"'G. Steiner'!$O$8","v":0},{"$f":"'G. Steiner'!$O$9","v":0},{"$f":"'G. Steiner'!$O$10","v":""},""]
[{"$f":"'M. Käppeli'!$A$2","v":"Käppeli Mathias"},{"$f":"'M. Käppeli'!$L$8","v":928},{"$f":"'M. Käppeli'!$J$11","v":91},{"$f":"'M. Käppeli'!$J$12","v":91},{"$f":"'M. Käppeli'!J13","v":91},{"$f":"'M. Käppeli'!$R$18","v":86},{"$f":"'M. Käppeli'!$B$4","v":90},{"$f":"'M. Käppeli'!$O$8","v":230},{"$f":"'M. Käppeli'!$O$9","v":264},{"$f":"'M. Käppeli'!$O$10","v":34},15]
[{"$f":"'M. Huggler'!$B$1","v":"Huggler Marylène "},{"$f":"'M. Huggler'!$L$8","v":949},{"$f":"'M. Huggler'!$J$11","v":94},{"$f":"'M. Huggler'!$J$12","v":94},{"$f":"'M. Huggler'!$J$13","v":91},{"$f":"'M. Huggler'!$R$18","v":86},{"$f":"'M. Huggler'!$B$4","v":90},{"$f":"'M. Huggler'!$O$8","v":243},{"$f":"'M. Huggler'!$O$9","v":227},{"$f":"'M. Huggler'!$O$10","v":16},3]
[{"$f":"'D. Jenni'!$A$2","v":"Jenni Daniel"},{"$f":"'D. Jenni'!$L$8","v":850},{"$f":"'D. Jenni'!$J$13","v":79},{"$f":"'D. Jenni'!$J$14","v":76},{"$f":"'D. Jenni'!$J$15","v":75},{"$f":"'D. Jenni'!$R$18","v":87},{"$f":"'D. Jenni'!$B$4","v":57},{"$f":"'D. Jenni'!$O$8","v":243},{"$f":"'D. Jenni'!$O$9","v":193},{"$f":"'D. Jenni'!$O$10","v":50},17]
[{"$f":"'S. Kocher'!$A$2","v":"Kocher Sascha"},{"$f":"'S. Kocher'!$L$8","v":957},{"$f":"'S. Kocher'!$J$13","v":94},{"$f":"'S. Kocher'!$J$14","v":94},{"$f":"'S. Kocher'!$J$15","v":93},{"$f":"'S. Kocher'!$R$18","v":83},{"$f":"'S. Kocher'!$B$4","v":57},{"$f":"'S. Kocher'!$O$8","v":248},{"$f":"'S. Kocher'!$O$9","v":215},{"$f":"'S. Kocher'!$O$10","v":33},14]
[{"$f":"'Ch. Liechti'!$B$1","v":"Liechti Charles "},{"$f":"'Ch. Liechti'!$L$8","v":935},{"$f":"'Ch. Liechti'!$J$11","v":91},{"$f":"'Ch. Liechti'!$J$12","v":90},{"$f":"'Ch. Liechti'!$J$13","v":88},{"$f":"'Ch. Liechti'!$R$18","v":0},{"$f":"'Ch. Liechti'!$B$4","v":90},{"$f":"'Ch. Liechti'!$O$8","v":250},{"$f":"'Ch. Liechti'!$O$9","v":266},{"$f":"'Ch. Liechti'!$O$10","v":16},3]
[{"$f":"'H. Lüthi'!$B$1","v":"Lüthi Hans "},{"$f":"'H. Lüthi'!$L$8","v":{"$error":"#NUM!"}},{"$f":"'H. Lüthi'!$J$11","v":{"$error":"#NUM!"}},{"$f":"'H. Lüthi'!$J$12","v":{"$error":"#NUM!"}},{"$f":"'H. Lüthi'!$J$13","v":{"$error":"#NUM!"}},{"$f":"'H. Lüthi'!$R$18","v":0},{"$f":"'H. Lüthi'!$B$4","v":90},{"$f":"'H. Lüthi'!$O$8","v":0},{"$f":"'H. Lüthi'!$O$9","v":0},{"$f":"'H. Lüthi'!$O$10","v":""},""]
[{"$f":"'A. Morello'!$A$2","v":"Morello Adrian"},{"$f":"'A. Morello'!$L$8","v":{"$error":"#NUM!"}},{"$f":"'A. Morello'!$J$11","v":{"$error":"#NUM!"}},{"$f":"'A. Morello'!$J$12","v":{"$error":"#NUM!"}},{"$f":"'A. Morello'!$J$13","v":{"$error":"#NUM!"}},{"$f":"'A. Morello'!$R$18","v":0},{"$f":"'A. Morello'!$B$4","v":90},{"$f":"'A. Morello'!$O$8","v":0},{"$f":"'A. Morello'!$O$9","v":0},{"$f":"'A. Morello'!$O$10","v":0},""]
[{"$f":"'S. Morello'!$A$2","v":"Morello Sandro "},{"$f":"'S. Morello'!$L$8","v":963},{"$f":"'S. Morello'!$J$9","v":99},{"$f":"'S. Morello'!$J$10","v":98},{"$f":"'S. Morello'!$J$11","v":96},{"$f":"'S. Morello'!$R$18","v":93},{"$f":"'S. Morello'!$B$4","v":"St"},{"$f":"'S. Morello'!$O$8","v":278},{"$f":"'S. Morello'!$O$9","v":259},{"$f":"'S. Morello'!$O$10","v":19},7]
[{"$f":"'R. Eschmann'!$A$2","v":"Eschmann Roger"},{"$f":"'R. Eschmann'!$L$8","v":964},{"$f":"'R. Eschmann'!$J$13","v":96},{"$f":"'R. Eschmann'!$J$14","v":96},{"$f":"'R. Eschmann'!$J$15","v":95},{"$f":"'R. Eschmann'!$R$18","v":86},{"$f":"'R. Eschmann'!$B$4","v":90},{"$f":"'R. Eschmann'!$O$8","v":236},{"$f":"'R. Eschmann'!$O$9","v":254},{"$f":"'R. Eschmann'!$O$10","v":18},5]
[{"$f":"'R. Liechti'!$A$2","v":"Rodolphe Liechti"},{"$f":"'R. Liechti'!$L$8","v":929},{"$f":"'R. Liechti'!$J$11","v":92},{"$f":"'R. Liechti'!$J$12","v":91},{"$f":"'R. Liechti'!$J$13","v":90},{"$f":"'R. Liechti'!$R$18","v":0},{"$f":"'R. Liechti'!$B$4","v":90},{"$f":"'R. Liechti'!$O$8","v":236},{"$f":"'R. Liechti'!$O$9","v":243},{"$f":"'R. Liechti'!$O$10","v":7},1]
[{"$f":"'E .Rüfli'!$A$2","v":"Rüfli Ernst"},{"$f":"'E .Rüfli'!$L$8","v":940},{"$f":"'E .Rüfli'!$J$11","v":90},{"$f":"'E .Rüfli'!$J$12","v":90},{"$f":"'E .Rüfli'!$J$13","v":90},{"$f":"'E .Rüfli'!$R$18","v":80},{"$f":"'E .Rüfli'!$B$4","v":90},{"$f":"'E .Rüfli'!$O$8","v":230},{"$f":"'E .Rüfli'!$O$9","v":255},{"$f":"'E .Rüfli'!$O$10","v":25},10]
[{"$f":"'M. Rüfli'!$A$2","v":"Rüfli Magdalena "},{"$f":"'M. Rüfli'!$L$8","v":{"$error":"#NUM!"}},{"$f":"'M. Rüfli'!$J$11","v":{"$error":"#NUM!"}},{"$f":"'M. Rüfli'!$J$12","v":{"$error":"#NUM!"}},{"$f":"'M. Rüfli'!$J$13","v":{"$error":"#NUM!"}},{"$f":"'M. Rüfli'!$R$18","v":0},{"$f":"'M. Rüfli'!$B$4","v":90},{"$f":"'M. Rüfli'!$O$8","v":0},{"$f":"'M. Rüfli'!$O$9","v":0},{"$f":"'M. Rüfli'!$O$10","v":""},""]
[{"$f":"'H.J. Schneider'!$A$2","v":"Schneider Hans-Jörg "},{"$f":"'H.J. Schneider'!$L$8","v":{"$error":"#NUM!"}},{"$f":"'H.J. Schneider'!$J$13","v":{"$error":"#NUM!"}},{"$f":"'H.J. Schneider'!$J$14","v":{"$error":"#NUM!"}},{"$f":"'H.J. Schneider'!$J$15","v":{"$error":"#NUM!"}},{"$f":"'H.J. Schneider'!$R$18","v":0},{"$f":"'H.J. Schneider'!$B$4","v":57},{"$f":"'H.J. Schneider'!$O$8","v":0},{"$f":"'H.J. Schneider'!$O$9","v":0},{"$f":"'H.J. Schneider'!$O$10","v":""},""]
[{"$f":"'A. Stähli'!$B$1","v":"Stähli André "},{"$f":"'A. Stähli'!$L$8","v":{"$error":"#NUM!"}},{"$f":"'A. Stähli'!$J$11","v":{"$error":"#NUM!"}},{"$f":"'A. Stähli'!$J$12","v":{"$error":"#NUM!"}},{"$f":"'A. Stähli'!$J$13","v":{"$error":"#NUM!"}},{"$f":"'A. Stähli'!$R$18","v":0},{"$f":"'A. Stähli'!$B$4","v":90},{"$f":"'A. Stähli'!$O$8","v":0},{"$f":"'A. Stähli'!$O$9","v":0},{"$f":"'A. Stähli'!$O$10","v":""},""]
[{"$f":"'H. Stuber'!$A$2","v":"Stuber Hans "},{"$f":"'H. Stuber'!$L$8","v":923},{"$f":"'H. Stuber'!$J$11","v":91},{"$f":"'H. Stuber'!$J$12","v":90},{"$f":"'H. Stuber'!$J$13","v":90},{"$f":"'H. Stuber'!$R$18","v":86},{"$f":"'H. Stuber'!$B$4","v":90},{"$f":"'H. Stuber'!$O$8","v":248},{"$f":"'H. Stuber'!$O$9","v":220},{"$f":"'H. Stuber'!$O$10","v":28},13]
[{"$f":"'O. Tellenbach'!$B$1","v":"Tellenbach Otto "},{"$f":"'O. Tellenbach'!$L$8","v":856},{"$f":"'O. Tellenbach'!J13","v":72},{"$f":"'O. Tellenbach'!J14","v":70},{"$f":"'O. Tellenbach'!J15","v":67},{"$f":"'O. Tellenbach'!$R$18","v":65},{"$f":"'O. Tellenbach'!$B$4","v":57},{"$f":"'O. Tellenbach'!$O$8","v":200},{"$f":"'O. Tellenbach'!$O$9","v":255},{"$f":"'O. Tellenbach'!$O$10","v":55},18]
[{"$f":"'S. Wälti'!$A$2","v":"Wälti Sascha "},{"$f":"'S. Wälti'!$L$8","v":934},{"$f":"'S. Wälti'!$J$11","v":92},{"$f":"'S. Wälti'!$J$12","v":90},{"$f":"'S. Wälti'!$J$13","v":90},{"$f":"'S. Wälti'!$R$18","v":92},{"$f":"'S. Wälti'!$B$4","v":90},{"$f":"'S. Wälti'!$O$8","v":246},{"$f":"'S. Wälti'!$O$9","v":283},{"$f":"'S. Wälti'!$O$10","v":37},16]
[{"$f":"'H. Wanner'!$A$2","v":"Wanner Heinz "},{"$f":"'H. Wanner'!$L$8","v":{"$error":"#NUM!"}},{"$f":"'H. Wanner'!$J$11","v":{"$error":"#NUM!"}},{"$f":"'H. Wanner'!$J$12","v":{"$error":"#NUM!"}},{"$f":"'H. Wanner'!$J$13","v":{"$error":"#NUM!"}},{"$f":"'H. Wanner'!$R$18","v":0},{"$f":"'H. Wanner'!$B$4","v":90},{"$f":"'H. Wanner'!$O$8","v":0},{"$f":"'H. Wanner'!$O$9","v":0},{"$f":"'H. Wanner'!$O$10","v":""},""]
[{"$f":"'D. Wyss'!$B$1","v":"Wyss Daniel"},{"$f":"'D. Wyss'!$L$8","v":{"$error":"#NUM!"}},{"$f":"'D. Wyss'!$J$9","v":{"$error":"#NUM!"}},{"$f":"'D. Wyss'!$J$10","v":{"$error":"#NUM!"}},{"$f":"'D. Wyss'!$J$11","v":{"$error":"#NUM!"}},{"$f":"'D. Wyss'!$R$18","v":0},{"$f":"'D. Wyss'!$B$4","v":"St"},{"$f":"'D. Wyss'!$O$8","v":0},{"$f":"'D. Wyss'!$O$9","v":0},{"$f":"'D. Wyss'!$O$10","v":""},""]
[{"$f":"'J. Zbinden'!$A$2","v":"Zbinden Jakob"},{"$f":"'J. Zbinden'!$L$8","v":916},{"$f":"'J. Zbinden'!$J$9","v":90},{"$f":"'J. Zbinden'!$J$10","v":90},{"$f":"'J. Zbinden'!$J$11","v":89},{"$f":"'J. Zbinden'!$R$18","v":88},{"$f":"'J. Zbinden'!$B$4","v":90},{"$f":"'J. Zbinden'!$O$8","v":256},{"$f":"'J. Zbinden'!$O$9","v":279},{"$f":"'J. Zbinden'!$O$10","v":23},8]
[{"$f":"'F. Brügger'!$B$1","v":"Brügger Fred"},{"$f":"'F. Brügger'!$L$8","v":{"$error":"#NUM!"}},{"$f":"'F. Brügger'!$J$11","v":{"$error":"#NUM!"}},{"$f":"'F. Brügger'!$J$12","v":{"$error":"#NUM!"}},{"$f":"'F. Brügger'!$J$13","v":{"$error":"#NUM!"}},{"$f":"'F. Brügger'!$R$18","v":0},{"$f":"'F. Brügger'!$B$4","v":90},{"$f":"'F. Brügger'!$O$8","v":0},{"$f":"'F. Brügger'!$O$9","v":0},{"$f":"'F. Brügger'!$O$10","v":""},""]
[{"$f":"'B. Gatschet'!B1","v":"Gatschet Beat"},{"$f":"'B. Gatschet'!L8","v":{"$error":"#NUM!"}},{"$f":"'B. Gatschet'!J9","v":{"$error":"#NUM!"}},{"$f":"'B. Gatschet'!J10","v":{"$error":"#NUM!"}},{"$f":"'B. Gatschet'!J11","v":{"$error":"#NUM!"}},{"$f":"'B. Gatschet'!R18","v":0},{"$f":"'B. Gatschet'!B4","v":"St"},{"$f":"'B. Gatschet'!O8","v":0},{"$f":"'B. Gatschet'!O9","v":0},{"$f":"'B. Gatschet'!O10","v":""},{"$f":"IF($H35>0,_xlfn.RANK.EQ($J35,$J$4:$J$35,1)-1,\"\")","v":""}]

{"sheet":"Rangliste Glück","index":33,"n_rows":41,"n_cols":5,"rows_kept":41,"cut":false,"hidden":false,"merged":[]}
["Name","Rang","Ansage Glück","Geschossen","Glück"]
[{"$f":"'R. Liechti'!$A$2","v":"Rodolphe Liechti"},{"$f":"_xlfn.RANK.EQ(E2,$E$2:$E$41,1)-1","v":1},{"$f":"'R. Liechti'!$O$8","v":236},{"$f":"'R. Liechti'!$O$9","v":243},{"$f":"'R. Liechti'!$O$10","v":7}]
[{"$f":"'A. Morello'!$A$2","v":"Morello Adrian"},{"$f":"_xlfn.RANK.EQ(E3,$E$2:$E$41,1)-1","v":0},{"$f":"'A. Morello'!$O$8","v":0},{"$f":"'A. Morello'!$O$9","v":0},{"$f":"'A. Morello'!$O$10","v":0}]
[{"$f":"'H. Bürgi'!$A$2","v":"Bürgi Heinz"},{"$f":"_xlfn.RANK.EQ(E4,$E$2:$E$41,1)-1","v":2},{"$f":"'H. Bürgi'!$O$8","v":237},{"$f":"'H. Bürgi'!$O$9","v":224},{"$f":"'H. Bürgi'!$O$10","v":13}]
[{"$f":"'Ch. Liechti'!$B$1","v":"Liechti Charles "},{"$f":"_xlfn.RANK.EQ(E5,$E$2:$E$41,1)-1","v":3},{"$f":"'Ch. Liechti'!$O$8","v":250},{"$f":"'Ch. Liechti'!$O$9","v":266},{"$f":"'Ch. Liechti'!$O$10","v":16}]
[{"$f":"'M. Huggler'!$B$1","v":"Huggler Marylène "},{"$f":"_xlfn.RANK.EQ(E6,$E$2:$E$41,1)-1","v":3},{"$f":"'M. Huggler'!$O$8","v":243},{"$f":"'M. Huggler'!$O$9","v":227},{"$f":"'M. Huggler'!$O$10","v":16}]
[{"$f":"'B. Gatschet'!B1","v":"Gatschet Beat"},{"$f":"_xlfn.RANK.EQ(E7,$E$2:$E$41,1)-1","v":{"$error":"#VALUE!"}},{"$f":"'B. Gatschet'!O8","v":0},{"$f":"'B. Gatschet'!O9","v":0},{"$f":"'B. Gatschet'!O10","v":""}]
[{"$f":"'C. Erb'!$A$2","v":"Erb Corinne"},{"$f":"_xlfn.RANK.EQ(E8,$E$2:$E$41,1)-1","v":{"$error":"#VALUE!"}},{"$f":"'C. Erb'!$O$8","v":0},{"$f":"'C. Erb'!$O$9","v":0},{"$f":"'C. Erb'!$O$10","v":""}]
[{"$f":"'R. Friedelance'!$A$2","v":"Friedelance Roger "},{"$f":"_xlfn.RANK.EQ(E9,$E$2:$E$41,1)-1","v":{"$error":"#VALUE!"}},{"$f":"'R. Friedelance'!$O$8","v":0},{"$f":"'R. Friedelance'!$O$9","v":0},{"$f":"'R. Friedelance'!$O$10","v":""}]
[{"$f":"'H. Wanner'!$A$2","v":"Wanner Heinz "},{"$f":"_xlfn.RANK.EQ(E10,$E$2:$E$41,1)-1","v":{"$error":"#VALUE!"}},{"$f":"'H. Wanner'!$O$8","v":0},{"$f":"'H. Wanner'!$O$9","v":0},{"$f":"'H. Wanner'!$O$10","v":""}]
[{"$f":"'R. Eschmann'!$A$2","v":"Eschmann Roger"},{"$f":"_xlfn.RANK.EQ(E11,$E$2:$E$41,1)-1","v":5},{"$f":"'R. Eschmann'!$O$8","v":236},{"$f":"'R. Eschmann'!$O$9","v":254},{"$f":"'R. Eschmann'!$O$10","v":18}]
[{"$f":"'A. Kunz'!$B$1","v":"Kunz Alfred"},{"$f":"_xlfn.RANK.EQ(E12,$E$2:$E$41,1)-1","v":5},{"$f":"'A. Kunz'!$O$8","v":210},{"$f":"'A. Kunz'!$O$9","v":228},{"$f":"'A. Kunz'!$O$10","v":18}]
[{"$f":"'D. Wyss'!$B$1","v":"Wyss Daniel"},{"$f":"_xlfn.RANK.EQ(E13,$E$2:$E$41,1)-1","v":{"$error":"#VALUE!"}},{"$f":"'D. Wyss'!$O$8","v":0},{"$f":"'D. Wyss'!$O$9","v":0},{"$f":"'D. Wyss'!$O$10","v":""}]
[{"$f":"'F. Brügger'!$B$1","v":"Brügger Fred"},{"$f":"_xlfn.RANK.EQ(E14,$E$2:$E$41,1)-1","v":{"$error":"#VALUE!"}},{"$f":"'F. Brügger'!$O$8","v":0},{"$f":"'F. Brügger'!$O$9","v":0},{"$f":"'F. Brügger'!$O$10","v":""}]
[{"$f":"'S. Morello'!$A$2","v":"Morello Sandro "},{"$f":"_xlfn.RANK.EQ(E15,$E$2:$E$41,1)-1","v":7},{"$f":"'S. Morello'!$O$8","v":278},{"$f":"'S. Morello'!$O$9","v":259},{"$f":"'S. Morello'!$O$10","v":19}]
[{"$f":"'J. Zbinden'!$A$2","v":"Zbinden Jakob"},{"$f":"_xlfn.RANK.EQ(E16,$E$2:$E$41,1)-1","v":8},{"$f":"'J. Zbinden'!$O$8","v":256},{"$f":"'J. Zbinden'!$O$9","v":279},{"$f":"'J. Zbinden'!$O$10","v":23}]
[{"$f":"'H. Lüthi'!$B$1","v":"Lüthi Hans "},{"$f":"_xlfn.RANK.EQ(E17,$E$2:$E$41,1)-1","v":{"$error":"#VALUE!"}},{"$f":"'H. Lüthi'!$O$8","v":0},{"$f":"'H. Lüthi'!$O$9","v":0},{"$f":"'H. Lüthi'!$O$10","v":""}]
[{"$f":"'A. Stähli'!$B$1","v":"Stähli André "},{"$f":"_xlfn.RANK.EQ(E18,$E$2:$E$41,1)-1","v":{"$error":"#VALUE!"}},{"$f":"'A. Stähli'!$O$8","v":0},{"$f":"'A. Stähli'!$O$9","v":0},{"$f":"'A. Stähli'!$O$10","v":""}]
[{"$f":"'H.J. Schneider'!$A$2","v":"Schneider Hans-Jörg "},{"$f":"_xlfn.RANK.EQ(E19,$E$2:$E$41,1)-1","v":{"$error":"#VALUE!"}},{"$f":"'H.J. Schneider'!$O$8","v":0},{"$f":"'H.J. Schneider'!$O$9","v":0},{"$f":"'H.J. Schneider'!$O$10","v":""}]
[{"$f":"'P. Friedli'!$A$2","v":"Friedli Peter"},{"$f":"_xlfn.RANK.EQ(E20,$E$2:$E$41,1)-1","v":9},{"$f":"'P. Friedli'!$O$8","v":268},{"$f":"'P. Friedli'!$O$9","v":244},{"$f":"'P. Friedli'!$O$10","v":24}]
[{"$f":"'E .Rüfli'!$A$2","v":"Rüfli Ernst"},{"$f":"_xlfn.RANK.EQ(E21,$E$2:$E$41,1)-1","v":10},{"$f":"'E .Rüfli'!$O$8","v":230},{"$f":"'E .Rüfli'!$O$9","v":255},{"$f":"'E .Rüfli'!$O$10","v":25}]
[{"$f":"'P. Abrecht'!$B$1","v":"Abrecht Pascal "},{"$f":"_xlfn.RANK.EQ(E22,$E$2:$E$41,1)-1","v":11},{"$f":"'P. Abrecht'!$O$8","v":260},{"$f":"'P. Abrecht'!$O$9","v":286},{"$f":"'P. Abrecht'!$O$10","v":26}]
[{"$f":"'A. Erb'!$A$2","v":"Erb Alex"},{"$f":"_xlfn.RANK.EQ(E23,$E$2:$E$41,1)-1","v":12},{"$f":"'A. Erb'!$O$8","v":253},{"$f":"'A. Erb'!$O$9","v":280},{"$f":"'A. Erb'!$O$10","v":27}]
[{"$f":"'H. Stuber'!$A$2","v":"Stuber Hans "},{"$f":"_xlfn.RANK.EQ(E24,$E$2:$E$41,1)-1","v":13},{"$f":"'H. Stuber'!$O$8","v":248},{"$f":"'H. Stuber'!$O$9","v":220},{"$f":"'H. Stuber'!$O$10","v":28}]
[{"$f":"'R. Krähenbühl'!$B$1","v":"Krähenbühl Rita"},{"$f":"_xlfn.RANK.EQ(E25,$E$2:$E$41,1)-1","v":{"$error":"#VALUE!"}},{"$f":"'R. Krähenbühl'!$O$8","v":0},{"$f":"'R. Krähenbühl'!O9","v":0},{"$f":"'R. Krähenbühl'!$O$10","v":""}]
[{"$f":"'G. Steiner'!$B$1","v":"Gladys Steiner"},{"$f":"_xlfn.RANK.EQ(E26,$E$2:$E$41,1)-1","v":{"$error":"#VALUE!"}},{"$f":"'G. Steiner'!$O$8","v":0},{"$f":"'G. Steiner'!$O$9","v":0},{"$f":"'G. Steiner'!$O$10","v":""}]
[{"$f":"'S. Kocher'!$A$2","v":"Kocher Sascha"},{"$f":"_xlfn.RANK.EQ(E27,$E$2:$E$41,1)-1","v":14},{"$f":"'S. Kocher'!$O$8","v":248},{"$f":"'S. Kocher'!$O$9","v":215},{"$f":"'S. Kocher'!$O$10","v":33}]
[{"$f":"'M. Käppeli'!$A$2","v":"Käppeli Mathias"},{"$f":"_xlfn.RANK.EQ(E28,$E$2:$E$41,1)-1","v":15},{"$f":"'M. Käppeli'!$O$8","v":230},{"$f":"'M. Käppeli'!$O$9","v":264},{"$f":"'M. Käppeli'!$O$10","v":34}]
[{"$f":"'M. Rüfli'!$A$2","v":"Rüfli Magdalena "},{"$f":"_xlfn.RANK.EQ(E29,$E$2:$E$41,1)-1","v":{"$error":"#VALUE!"}},{"$f":"'M. Rüfli'!$O$8","v":0},{"$f":"'M. Rüfli'!$O$9","v":0},{"$f":"'M. Rüfli'!$O$10","v":""}]
[{"$f":"'S. Wälti'!$A$2","v":"Wälti Sascha "},{"$f":"_xlfn.RANK.EQ(E30,$E$2:$E$41,1)-1","v":16},{"$f":"'S. Wälti'!$O$8","v":246},{"$f":"'S. Wälti'!$O$9","v":283},{"$f":"'S. Wälti'!$O$10","v":37}]
[{"$f":"'D. Jenni'!$A$2","v":"Jenni Daniel"},{"$f":"_xlfn.RANK.EQ(E31,$E$2:$E$41,1)-1","v":17},{"$f":"'D. Jenni'!$O$8","v":243},{"$f":"'D. Jenni'!$O$9","v":193},{"$f":"'D. Jenni'!$O$10","v":50}]
[{"$f":"'O. Tellenbach'!$B$1","v":"Tellenbach Otto "},{"$f":"_xlfn.RANK.EQ(E32,$E$2:$E$41,1)-1","v":18},{"$f":"'O. Tellenbach'!$O$8","v":200},{"$f":"'O. Tellenbach'!$O$9","v":255},{"$f":"'O. Tellenbach'!$O$10","v":55}]
[{"$f":"'T. Abrecht'!$A$2","v":"Abrecht Theodor "},{"$f":"_xlfn.RANK.EQ(E33,$E$2:$E$41,1)-1","v":19},{"$f":"'T. Abrecht'!$O$8","v":256},{"$f":"'T. Abrecht'!$O$9","v":179},{"$f":"'T. Abrecht'!$O$10","v":77}]
[null,{"$f":"_xlfn.RANK.EQ(E34,$E$2:$E$41,1)-1","v":0}]
[null,0]
[null,0]
[null,0]
[null,0]
[null,0]
[null,0]
[null,0]

{"sheet":"Rangliste Auszahlung","index":34,"n_rows":38,"n_cols":7,"rows_kept":38,"cut":false,"hidden":false,"merged":[]}
[]
[null,null,"St / Frei",0.97499999999999998]
[null,null,"90 / 57 03 / Kara",1]
[null,null,57,1.0249999999999999]
[]
["Name","Rang","Auszahlung","Kat.","Korrigiert","Anzahl","10 er"]
[{"$f":"'S. Wälti'!$A$2","v":"Wälti Sascha "},{"$f":"IF(Tabelle6[[#This Row],[Korrigiert]]>0,(_xlfn.RANK.EQ(Tabelle6[[#This Row],[Korrigiert]],$E$7:$E$38,0)),)","v":1},{"$f":"'S. Wälti'!$R$18","v":92},{"$f":"'S. Wälti'!$B$4","v":90},{"$f":"IF(D7=\"ST\",C7*$D$2,IF(D7=90,C7*$D$3,IF(D7=57,C7*$D$4,)))","v":92},3,10]
[{"$f":"'Zusammenstellung Daten'!$A$34","v":"Brügger Fred"},{"$f":"IF(Tabelle6[[#This Row],[Korrigiert]]>0,(_xlfn.RANK.EQ(Tabelle6[[#This Row],[Korrigiert]],$E$7:$E$38,0)),)","v":0},{"$f":"'Zusammenstellung Daten'!$F$34","v":0},{"$f":"'Zusammenstellung Daten'!$G$34","v":90},{"$f":"IF(D8=\"ST\",C8*$D$2,IF(D8=90,C8*$D$3,IF(D8=57,C8*$D$4,)))","v":0},5,10]
[{"$f":"'S. Morello'!$A$2","v":"Morello Sandro "},{"$f":"IF(Tabelle6[[#This Row],[Korrigiert]]>0,(_xlfn.RANK.EQ(Tabelle6[[#This Row],[Korrigiert]],$E$7:$E$38,0)),)","v":2},{"$f":"'S. Morello'!$R$18","v":93},{"$f":"'S. Morello'!$B$4","v":"St"},{"$f":"IF(D9=\"ST\",C9*$D$2,IF(D9=90,C9*$D$3,IF(D9=57,C9*$D$4,)))","v":90.674999999999997},3,10]
[{"$f":"'A. Stähli'!$B$1","v":"Stähli André "},{"$f":"IF(Tabelle6[[#This Row],[Korrigiert]]>0,(_xlfn.RANK.EQ(Tabelle6[[#This Row],[Korrigiert]],$E$7:$E$38,0)),)","v":0},{"$f":"'A. Stähli'!$R$18","v":0},{"$f":"'A. Stähli'!$B$4","v":90},{"$f":"IF(D10=\"ST\",C10*$D$2,IF(D10=90,C10*$D$3,IF(D10=57,C10*$D$4,)))","v":0},4,10]
[{"$f":"'H. Bürgi'!$A$2","v":"Bürgi Heinz"},{"$f":"IF(Tabelle6[[#This Row],[Korrigiert]]>0,(_xlfn.RANK.EQ(Tabelle6[[#This Row],[Korrigiert]],$E$7:$E$38,0)),)","v":3},{"$f":"'H. Bürgi'!$R$18","v":90},{"$f":"'H. Bürgi'!$B$4","v":90},{"$f":"IF(D11=\"ST\",C11*$D$2,IF(D11=90,C11*$D$3,IF(D11=57,C11*$D$4,)))","v":90},2,10]
[{"$f":"'A. Erb'!$A$2","v":"Erb Alex"},{"$f":"IF(Tabelle6[[#This Row],[Korrigiert]]>0,(_xlfn.RANK.EQ(Tabelle6[[#This Row],[Korrigiert]],$E$7:$E$38,0)),)","v":3},{"$f":"'A. Erb'!$R$18","v":90},{"$f":"'A. Erb'!$B$4","v":90},{"$f":"IF(D12=\"ST\",C12*$D$2,IF(D12=90,C12*$D$3,IF(D12=57,C12*$D$4,)))","v":90}]
[{"$f":"'C. Erb'!$A$2","v":"Erb Corinne"},{"$f":"IF(Tabelle6[[#This Row],[Korrigiert]]>0,(_xlfn.RANK.EQ(Tabelle6[[#This Row],[Korrigiert]],$E$7:$E$38,0)),)","v":0},{"$f":"'C. Erb'!$R$18","v":0},{"$f":"'C. Erb'!$B$4","v":90},{"$f":"IF(D13=\"ST\",C13*$D$2,IF(D13=90,C13*$D$3,IF(D13=57,C13*$D$4,)))","v":0}]
[{"$f":"'R. Friedelance'!$A$2","v":"Friedelance Roger "},{"$f":"IF(Tabelle6[[#This Row],[Korrigiert]]>0,(_xlfn.RANK.EQ(Tabelle6[[#This Row],[Korrigiert]],$E$7:$E$38,0)),)","v":0},{"$f":"'R. Friedelance'!$R$18","v":0},{"$f":"'R. Friedelance'!$B$4","v":90},{"$f":"IF(D14=\"ST\",C14*$D$2,IF(D14=90,C14*$D$3,IF(D14=57,C14*$D$4,)))","v":0}]
[{"$f":"'R. Liechti'!$A$2","v":"Rodolphe Liechti"},{"$f":"IF(Tabelle6[[#This Row],[Korrigiert]]>0,(_xlfn.RANK.EQ(Tabelle6[[#This Row],[Korrigiert]],$E$7:$E$38,0)),)","v":0},{"$f":"'R. Liechti'!$R$18","v":0},{"$f":"'R. Liechti'!$B$4","v":90},{"$f":"IF(D15=\"ST\",C15*$D$2,IF(D15=90,C15*$D$3,IF(D15=57,C15*$D$4,)))","v":0},3,10]
[{"$f":"'D. Wyss'!$B$1","v":"Wyss Daniel"},{"$f":"IF(Tabelle6[[#This Row],[Korrigiert]]>0,(_xlfn.RANK.EQ(Tabelle6[[#This Row],[Korrigiert]],$E$7:$E$38,0)),)","v":0},{"$f":"'D. Wyss'!$R$18","v":0},{"$f":"'D. Wyss'!$B$4","v":"St"},{"$f":"IF(D16=\"ST\",C16*$D$2,IF(D16=90,C16*$D$3,IF(D16=57,C16*$D$4,)))","v":0}]
[{"$f":"'D. Jenni'!$A$2","v":"Jenni Daniel"},{"$f":"IF(Tabelle6[[#This Row],[Korrigiert]]>0,(_xlfn.RANK.EQ(Tabelle6[[#This Row],[Korrigiert]],$E$7:$E$38,0)),)","v":5},{"$f":"'D. Jenni'!$R$18","v":87},{"$f":"'D. Jenni'!$B$4","v":57},{"$f":"IF(D17=\"ST\",C17*$D$2,IF(D17=90,C17*$D$3,IF(D17=57,C17*$D$4,)))","v":89.174999999999997},null,10]
[{"$f":"'J. Zbinden'!$A$2","v":"Zbinden Jakob"},{"$f":"IF(Tabelle6[[#This Row],[Korrigiert]]>0,(_xlfn.RANK.EQ(Tabelle6[[#This Row],[Korrigiert]],$E$7:$E$38,0)),)","v":6},{"$f":"'J. Zbinden'!$R$18","v":88},{"$f":"'J. Zbinden'!$B$4","v":90},{"$f":"IF(D18=\"ST\",C18*$D$2,IF(D18=90,C18*$D$3,IF(D18=57,C18*$D$4,)))","v":88},2,10]
[{"$f":"'M. Huggler'!$B$1","v":"Huggler Marylène "},{"$f":"IF(Tabelle6[[#This Row],[Korrigiert]]>0,(_xlfn.RANK.EQ(Tabelle6[[#This Row],[Korrigiert]],$E$7:$E$38,0)),)","v":7},{"$f":"'M. Huggler'!$R$18","v":86},{"$f":"'M. Huggler'!$B$4","v":90},{"$f":"IF(D19=\"ST\",C19*$D$2,IF(D19=90,C19*$D$3,IF(D19=57,C19*$D$4,)))","v":86},4,10]
[{"$f":"'B. Gatschet'!B1","v":"Gatschet Beat"},{"$f":"IF(Tabelle6[[#This Row],[Korrigiert]]>0,(_xlfn.RANK.EQ(Tabelle6[[#This Row],[Korrigiert]],$E$7:$E$38,0)),)","v":0},{"$f":"'B. Gatschet'!R18","v":0},{"$f":"'B. Gatschet'!B4","v":"St"},{"$f":"IF(D20=\"ST\",C20*$D$2,IF(D20=90,C20*$D$3,IF(D20=57,C20*$D$4,)))","v":0},3,10]
[{"$f":"'Ch. Liechti'!$B$1","v":"Liechti Charles "},{"$f":"IF(Tabelle6[[#This Row],[Korrigiert]]>0,(_xlfn.RANK.EQ(Tabelle6[[#This Row],[Korrigiert]],$E$7:$E$38,0)),)","v":0},{"$f":"'Ch. Liechti'!$R$18","v":0},{"$f":"'Ch. Liechti'!$B$4","v":90},{"$f":"IF(D21=\"ST\",C21*$D$2,IF(D21=90,C21*$D$3,IF(D21=57,C21*$D$4,)))","v":0}]
[{"$f":"'H. Lüthi'!$B$1","v":"Lüthi Hans "},{"$f":"IF(Tabelle6[[#This Row],[Korrigiert]]>0,(_xlfn.RANK.EQ(Tabelle6[[#This Row],[Korrigiert]],$E$7:$E$38,0)),)","v":0},{"$f":"'H. Lüthi'!$R$18","v":0},{"$f":"'H. Lüthi'!$B$4","v":90},{"$f":"IF(D22=\"ST\",C22*$D$2,IF(D22=90,C22*$D$3,IF(D22=57,C22*$D$4,)))","v":0}]
[{"$f":"'A. Morello'!$A$2","v":"Morello Adrian"},{"$f":"IF(Tabelle6[[#This Row],[Korrigiert]]>0,(_xlfn.RANK.EQ(Tabelle6[[#This Row],[Korrigiert]],$E$7:$E$38,0)),)","v":0},{"$f":"'A. Morello'!$R$18","v":0},{"$f":"'A. Morello'!$B$4","v":90},{"$f":"IF(D23=\"ST\",C23*$D$2,IF(D23=90,C23*$D$3,IF(D23=57,C23*$D$4,)))","v":0}]
[{"$f":"'H. Stuber'!$A$2","v":"Stuber Hans "},{"$f":"IF(Tabelle6[[#This Row],[Korrigiert]]>0,(_xlfn.RANK.EQ(Tabelle6[[#This Row],[Korrigiert]],$E$7:$E$38,0)),)","v":7},{"$f":"'H. Stuber'!$R$18","v":86},{"$f":"'H. Stuber'!$B$4","v":90},{"$f":"IF(D24=\"ST\",C24*$D$2,IF(D24=90,C24*$D$3,IF(D24=57,C24*$D$4,)))","v":86},3,10]
[{"$f":"'M. Käppeli'!$A$2","v":"Käppeli Mathias"},{"$f":"IF(Tabelle6[[#This Row],[Korrigiert]]>0,(_xlfn.RANK.EQ(Tabelle6[[#This Row],[Korrigiert]],$E$7:$E$38,0)),)","v":7},{"$f":"'M. Käppeli'!$R$18","v":86},{"$f":"'M. Käppeli'!$B$4","v":90},{"$f":"IF(D25=\"ST\",C25*$D$2,IF(D25=90,C25*$D$3,IF(D25=57,C25*$D$4,)))","v":86},null,10]
[{"$f":"'R. Eschmann'!$A$2","v":"Eschmann Roger"},{"$f":"IF(Tabelle6[[#This Row],[Korrigiert]]>0,(_xlfn.RANK.EQ(Tabelle6[[#This Row],[Korrigiert]],$E$7:$E$38,0)),)","v":7},{"$f":"'R. Eschmann'!$R$18","v":86},{"$f":"'R. Eschmann'!$B$4","v":90},{"$f":"IF(D26=\"ST\",C26*$D$2,IF(D26=90,C26*$D$3,IF(D26=57,C26*$D$4,)))","v":86},null,10]
[{"$f":"'S. Kocher'!$A$2","v":"Kocher Sascha"},{"$f":"IF(Tabelle6[[#This Row],[Korrigiert]]>0,(_xlfn.RANK.EQ(Tabelle6[[#This Row],[Korrigiert]],$E$7:$E$38,0)),)","v":11},{"$f":"'S. Kocher'!$R$18","v":83},{"$f":"'S. Kocher'!$B$4","v":57},{"$f":"IF(D27=\"ST\",C27*$D$2,IF(D27=90,C27*$D$3,IF(D27=57,C27*$D$4,)))","v":85.074999999999989},null,10]
[{"$f":"'H.J. Schneider'!$A$2","v":"Schneider Hans-Jörg "},{"$f":"IF(Tabelle6[[#This Row],[Korrigiert]]>0,(_xlfn.RANK.EQ(Tabelle6[[#This Row],[Korrigiert]],$E$7:$E$38,0)),)","v":0},{"$f":"'H.J. Schneider'!$R$18","v":0},{"$f":"'H.J. Schneider'!$B$4","v":57},{"$f":"IF(D28=\"ST\",C28*$D$2,IF(D28=90,C28*$D$3,IF(D28=57,C28*$D$4,)))","v":0}]
[{"$f":"'T. Abrecht'!$A$2","v":"Abrecht Theodor "},{"$f":"IF(Tabelle6[[#This Row],[Korrigiert]]>0,(_xlfn.RANK.EQ(Tabelle6[[#This Row],[Korrigiert]],$E$7:$E$38,0)),)","v":12},{"$f":"'T. Abrecht'!$R$18","v":85},{"$f":"'T. Abrecht'!$B$4","v":90},{"$f":"IF(D29=\"ST\",C29*$D$2,IF(D29=90,C29*$D$3,IF(D29=57,C29*$D$4,)))","v":85},2,10]
[{"$f":"'P. Abrecht'!$B$1","v":"Abrecht Pascal "},{"$f":"IF(Tabelle6[[#This Row],[Korrigiert]]>0,(_xlfn.RANK.EQ(Tabelle6[[#This Row],[Korrigiert]],$E$7:$E$38,0)),)","v":13},{"$f":"'P. Abrecht'!$R$18","v":82},{"$f":"'P. Abrecht'!$B$4","v":90},{"$f":"IF(D30=\"ST\",C30*$D$2,IF(D30=90,C30*$D$3,IF(D30=57,C30*$D$4,)))","v":82}]
[{"$f":"'E .Rüfli'!$A$2","v":"Rüfli Ernst"},{"$f":"IF(Tabelle6[[#This Row],[Korrigiert]]>0,(_xlfn.RANK.EQ(Tabelle6[[#This Row],[Korrigiert]],$E$7:$E$38,0)),)","v":14},{"$f":"'E .Rüfli'!$R$18","v":80},{"$f":"'E .Rüfli'!$B$4","v":90},{"$f":"IF(D31=\"ST\",C31*$D$2,IF(D31=90,C31*$D$3,IF(D31=57,C31*$D$4,)))","v":80},null,10]
[{"$f":"'P. Friedli'!$A$2","v":"Friedli Peter"},{"$f":"IF(Tabelle6[[#This Row],[Korrigiert]]>0,(_xlfn.RANK.EQ(Tabelle6[[#This Row],[Korrigiert]],$E$7:$E$38,0)),)","v":15},{"$f":"'P. Friedli'!$R$18","v":82},{"$f":"'P. Friedli'!$B$4","v":"St"},{"$f":"IF(D32=\"ST\",C32*$D$2,IF(D32=90,C32*$D$3,IF(D32=57,C32*$D$4,)))","v":79.95},null,10]
[{"$f":"'H. Wanner'!$A$2","v":"Wanner Heinz "},{"$f":"IF(Tabelle6[[#This Row],[Korrigiert]]>0,(_xlfn.RANK.EQ(Tabelle6[[#This Row],[Korrigiert]],$E$7:$E$38,0)),)","v":0},{"$f":"'H. Wanner'!$R$18","v":0},{"$f":"'H. Wanner'!$B$4","v":90},{"$f":"IF(D33=\"ST\",C33*$D$2,IF(D33=90,C33*$D$3,IF(D33=57,C33*$D$4,)))","v":0}]
[{"$f":"'A. Kunz'!$B$1","v":"Kunz Alfred"},{"$f":"IF(Tabelle6[[#This Row],[Korrigiert]]>0,(_xlfn.RANK.EQ(Tabelle6[[#This Row],[Korrigiert]],$E$7:$E$38,0)),)","v":16},{"$f":"'A. Kunz'!$R$18","v":77},{"$f":"'A. Kunz'!$B$4","v":90},{"$f":"IF(D34=\"ST\",C34*$D$2,IF(D34=90,C34*$D$3,IF(D34=57,C34*$D$4,)))","v":77},null,10]
[{"$f":"'R. Krähenbühl'!$B$1","v":"Krähenbühl Rita"},{"$f":"IF(Tabelle6[[#This Row],[Korrigiert]]>0,(_xlfn.RANK.EQ(Tabelle6[[#This Row],[Korrigiert]],$E$7:$E$38,0)),)","v":17},{"$f":"'R. Krähenbühl'!$R$18","v":74},{"$f":"'R. Krähenbühl'!$B$4","v":57},{"$f":"IF(D35=\"ST\",C35*$D$2,IF(D35=90,C35*$D$3,IF(D35=57,C35*$D$4,)))","v":75.849999999999994},null,10]
[{"$f":"'M. Rüfli'!$A$2","v":"Rüfli Magdalena "},{"$f":"IF(Tabelle6[[#This Row],[Korrigiert]]>0,(_xlfn.RANK.EQ(Tabelle6[[#This Row],[Korrigiert]],$E$7:$E$38,0)),)","v":0},{"$f":"'M. Rüfli'!$R$18","v":0},{"$f":"'M. Rüfli'!$B$4","v":90},{"$f":"IF(D36=\"ST\",C36*$D$2,IF(D36=90,C36*$D$3,IF(D36=57,C36*$D$4,)))","v":0}]
[{"$f":"'G. Steiner'!$B$1","v":"Gladys Steiner"},{"$f":"IF(Tabelle6[[#This Row],[Korrigiert]]>0,(_xlfn.RANK.EQ(Tabelle6[[#This Row],[Korrigiert]],$E$7:$E$38,0)),)","v":0},{"$f":"'G. Steiner'!$R$18","v":0},{"$f":"'G. Steiner'!$B$4","v":90},{"$f":"IF(D37=\"ST\",C37*$D$2,IF(D37=90,C37*$D$3,IF(D37=57,C37*$D$4,)))","v":0}]
[{"$f":"'O. Tellenbach'!$B$1","v":"Tellenbach Otto "},{"$f":"IF(Tabelle6[[#This Row],[Korrigiert]]>0,(_xlfn.RANK.EQ(Tabelle6[[#This Row],[Korrigiert]],$E$7:$E$38,0)),)","v":18},{"$f":"'O. Tellenbach'!$R$18","v":65},{"$f":"'O. Tellenbach'!$B$4","v":57},{"$f":"IF(D38=\"ST\",C38*$D$2,IF(D38=90,C38*$D$3,IF(D38=57,C38*$D$4,)))","v":66.625}]

{"sheet":"Rangliste Sau","index":35,"n_rows":34,"n_cols":6,"rows_kept":34,"cut":false,"hidden":false,"merged":[]}
[null,null,null,"Beste nicht gerechnete"]
["Name","Rang Sau","Sau Total","1Einzel","2Einzel","3Einzel"]
[{"$f":"'P. Friedli'!$A$2","v":"Friedli Peter"},1,{"$f":"'P. Friedli'!$L$8","v":980},{"$f":"'P. Friedli'!$J$9","v":97},{"$f":"'P. Friedli'!$J$10","v":96},{"$f":"'P. Friedli'!$J$11","v":96}]
[{"$f":"'R. Eschmann'!$A$2","v":"Eschmann Roger"},2,{"$f":"'R. Eschmann'!$L$8","v":964},{"$f":"'R. Eschmann'!$J$13","v":96},{"$f":"'R. Eschmann'!$J$14","v":96},{"$f":"'R. Eschmann'!$J$15","v":95}]
[{"$f":"'S. Morello'!$A$2","v":"Morello Sandro "},3,{"$f":"'S. Morello'!$L$8","v":963},{"$f":"'S. Morello'!$J$9","v":99},{"$f":"'S. Morello'!$J$10","v":98},{"$f":"'S. Morello'!$J$11","v":96}]
[{"$f":"'D. Wyss'!$B$1","v":"Wyss Daniel"},2,{"$f":"'D. Wyss'!L8","v":{"$error":"#NUM!"}},{"$f":"'D. Wyss'!$J$9","v":{"$error":"#NUM!"}},{"$f":"'D. Wyss'!$J$10","v":{"$error":"#NUM!"}},{"$f":"'D. Wyss'!$J$11","v":{"$error":"#NUM!"}}]
[{"$f":"'S. Kocher'!$A$2","v":"Kocher Sascha"},4,{"$f":"'S. Kocher'!$L$8","v":957},{"$f":"'S. Kocher'!$J$13","v":94},{"$f":"'S. Kocher'!$J$14","v":94},{"$f":"'S. Kocher'!$J$15","v":93}]
[{"$f":"'H. Bürgi'!$A$2","v":"Bürgi Heinz"},5,{"$f":"'H. Bürgi'!$L$8","v":951},{"$f":"'H. Bürgi'!$J$11","v":94},{"$f":"'H. Bürgi'!$J$12","v":94},{"$f":"'H. Bürgi'!$J$13","v":93}]
[{"$f":"'C. Erb'!$A$2","v":"Erb Corinne"},null,{"$f":"'C. Erb'!$L$8","v":{"$error":"#NUM!"}},{"$f":"'C. Erb'!$J$11","v":{"$error":"#NUM!"}},{"$f":"'C. Erb'!$J$12","v":{"$error":"#NUM!"}},{"$f":"'C. Erb'!$J$13","v":{"$error":"#NUM!"}}]
[{"$f":"'R. Friedelance'!$A$2","v":"Friedelance Roger "},null,{"$f":"'R. Friedelance'!$L$8","v":{"$error":"#NUM!"}},{"$f":"'R. Friedelance'!$J$11","v":{"$error":"#NUM!"}},{"$f":"'R. Friedelance'!$J$12","v":{"$error":"#NUM!"}},{"$f":"'R. Friedelance'!$J$13","v":{"$error":"#NUM!"}}]
[{"$f":"'M. Huggler'!$B$1","v":"Huggler Marylène "},6,{"$f":"'M. Huggler'!$L$8","v":949},{"$f":"'M. Huggler'!$J$11","v":94},{"$f":"'M. Huggler'!$J$12","v":94},{"$f":"'M. Huggler'!$J$13","v":91}]
[{"$f":"'E .Rüfli'!$A$2","v":"Rüfli Ernst"},7,{"$f":"'E .Rüfli'!$L$8","v":940},{"$f":"'E .Rüfli'!$J$11","v":90},{"$f":"'E .Rüfli'!$J$12","v":90},{"$f":"'E .Rüfli'!$J$13","v":90}]
[{"$f":"'Ch. Liechti'!B1","v":"Liechti Charles "},8,{"$f":"'Ch. Liechti'!L8","v":935},{"$f":"'Ch. Liechti'!$J$11","v":91},{"$f":"'Ch. Liechti'!$J$12","v":90},{"$f":"'Ch. Liechti'!$J$13","v":88}]
[{"$f":"'S. Wälti'!$A$2","v":"Wälti Sascha "},9,{"$f":"'S. Wälti'!$L$8","v":934},{"$f":"'S. Wälti'!$J$11","v":92},{"$f":"'S. Wälti'!$J$12","v":90},{"$f":"'S. Wälti'!$J$13","v":90}]
[{"$f":"'P. Abrecht'!$B$1","v":"Abrecht Pascal "},10,{"$f":"'P. Abrecht'!$L$8","v":930},{"$f":"'P. Abrecht'!$J$11","v":92},{"$f":"'P. Abrecht'!$J$12","v":92},{"$f":"'P. Abrecht'!$J$13","v":91}]
[{"$f":"'Zusammenstellung Daten'!A34","v":"Brügger Fred"},8,{"$f":"'Zusammenstellung Daten'!$B$34","v":{"$error":"#NUM!"}},{"$f":"'Zusammenstellung Daten'!$C$34","v":{"$error":"#NUM!"}},{"$f":"'Zusammenstellung Daten'!$D$34","v":{"$error":"#NUM!"}},{"$f":"'Zusammenstellung Daten'!$E$34","v":{"$error":"#NUM!"}}]
[{"$f":"'R. Liechti'!$A$2","v":"Rodolphe Liechti"},11,{"$f":"'R. Liechti'!$L$8","v":929},{"$f":"'R. Liechti'!$J$11","v":92},{"$f":"'R. Liechti'!$J$12","v":91},{"$f":"'R. Liechti'!$J$13","v":90}]
[{"$f":"'H. Lüthi'!$B$1","v":"Lüthi Hans "},null,{"$f":"'H. Lüthi'!$L$8","v":{"$error":"#NUM!"}},{"$f":"'H. Lüthi'!$J$11","v":{"$error":"#NUM!"}},{"$f":"'H. Lüthi'!$J$12","v":{"$error":"#NUM!"}},{"$f":"'H. Lüthi'!$J$13","v":{"$error":"#NUM!"}}]
[{"$f":"'A. Morello'!$A$2","v":"Morello Adrian"},10,{"$f":"'A. Morello'!$L$8","v":{"$error":"#NUM!"}},{"$f":"'A. Morello'!$J$11","v":{"$error":"#NUM!"}},{"$f":"'A. Morello'!$J$12","v":{"$error":"#NUM!"}},{"$f":"'A. Morello'!$J$13","v":{"$error":"#NUM!"}}]
[{"$f":"'M. Käppeli'!$A$2","v":"Käppeli Mathias"},12,{"$f":"'M. Käppeli'!$L$8","v":928},{"$f":"'M. Käppeli'!$J$11","v":91},{"$f":"'M. Käppeli'!$J$12","v":91},{"$f":"'M. Käppeli'!J11","v":91}]
[{"$f":"'T. Abrecht'!$A$2","v":"Abrecht Theodor "},13,{"$f":"'T. Abrecht'!$L$8","v":925},{"$f":"'T. Abrecht'!$J$11","v":91},{"$f":"'T. Abrecht'!$J$12","v":90},{"$f":"'T. Abrecht'!$J$13","v":84}]
[{"$f":"'B. Gatschet'!B1","v":"Gatschet Beat"},12,{"$f":"'B. Gatschet'!L8","v":{"$error":"#NUM!"}},{"$f":"'B. Gatschet'!J9","v":{"$error":"#NUM!"}},{"$f":"'B. Gatschet'!J10","v":{"$error":"#NUM!"}},{"$f":"'B. Gatschet'!J11","v":{"$error":"#NUM!"}}]
[{"$f":"'H. Stuber'!$A$2","v":"Stuber Hans "},14,{"$f":"'H. Stuber'!$L$8","v":923},{"$f":"'H. Stuber'!$J$11","v":91},{"$f":"'H. Stuber'!$J$12","v":90},{"$f":"'H. Stuber'!$J$13","v":90}]
[{"$f":"'J. Zbinden'!$A$2","v":"Zbinden Jakob"},15,{"$f":"'J. Zbinden'!$L$8","v":916},{"$f":"'J. Zbinden'!$J$9","v":90},{"$f":"'J. Zbinden'!$J$10","v":90},{"$f":"'J. Zbinden'!$J$11","v":89}]
[{"$f":"'H.J. Schneider'!$A$2","v":"Schneider Hans-Jörg "},15,{"$f":"'H.J. Schneider'!$L$8","v":{"$error":"#NUM!"}},{"$f":"'H.J. Schneider'!$J$13","v":{"$error":"#NUM!"}},{"$f":"'H.J. Schneider'!$J$14","v":{"$error":"#NUM!"}},{"$f":"'H.J. Schneider'!$J$15","v":{"$error":"#NUM!"}}]
[{"$f":"'M. Rüfli'!$A$2","v":"Rüfli Magdalena "},16,{"$f":"'M. Rüfli'!$L$8","v":{"$error":"#NUM!"}},{"$f":"'M. Rüfli'!$J$11","v":{"$error":"#NUM!"}},{"$f":"'M. Rüfli'!$J$12","v":{"$error":"#NUM!"}},{"$f":"'M. Rüfli'!$J$13","v":{"$error":"#NUM!"}}]
[{"$f":"'A. Stähli'!$B$1","v":"Stähli André "},15,{"$f":"'A. Stähli'!$L$8","v":{"$error":"#NUM!"}},{"$f":"'A. Stähli'!$J$11","v":{"$error":"#NUM!"}},{"$f":"'A. Stähli'!$J$12","v":{"$error":"#NUM!"}},{"$f":"'A. Stähli'!$J$13","v":{"$error":"#NUM!"}}]
[{"$f":"'H. Wanner'!$A$2","v":"Wanner Heinz "},18,{"$f":"'H. Wanner'!$L$8","v":{"$error":"#NUM!"}},{"$f":"'H. Wanner'!$J$11","v":{"$error":"#NUM!"}},{"$f":"'H. Wanner'!$J$12","v":{"$error":"#NUM!"}},{"$f":"'H. Wanner'!$J$13","v":{"$error":"#NUM!"}}]
[{"$f":"'A. Kunz'!$B$1","v":"Kunz Alfred"},16,{"$f":"'A. Kunz'!$L$8","v":915},{"$f":"'A. Kunz'!$J$11","v":91},{"$f":"'A. Kunz'!$J$12","v":90},{"$f":"'A. Kunz'!$J$13","v":89}]
[{"$f":"'A. Erb'!$A$2","v":"Erb Alex"},17,{"$f":"'A. Erb'!$L$8","v":914},{"$f":"'A. Erb'!$J$11","v":88},{"$f":"'A. Erb'!$J$12","v":88},{"$f":"'A. Erb'!$J$13","v":88}]
[{"$f":"'R. Krähenbühl'!$B$1","v":"Krähenbühl Rita"},18,{"$f":"'R. Krähenbühl'!$L$8","v":901},{"$f":"'R. Krähenbühl'!$J$11","v":89},{"$f":"'R. Krähenbühl'!$J$12","v":88},{"$f":"'R. Krähenbühl'!$J$13","v":86}]
[{"$f":"'O. Tellenbach'!$B$1","v":"Tellenbach Otto "},19,{"$f":"'O. Tellenbach'!$L$8","v":856},{"$f":"'O. Tellenbach'!J11","v":75},{"$f":"'O. Tellenbach'!J12","v":75},{"$f":"'O. Tellenbach'!J13","v":72}]
[{"$f":"'G. Steiner'!$B$1","v":"Gladys Steiner"},23,{"$f":"'G. Steiner'!$L$8","v":{"$error":"#NUM!"}},{"$f":"'G. Steiner'!$J$11","v":{"$error":"#NUM!"}},{"$f":"'G. Steiner'!$J$12","v":{"$error":"#NUM!"}},{"$f":"'G. Steiner'!J11","v":{"$error":"#NUM!"}}]
[{"$f":"'D. Jenni'!$A$2","v":"Jenni Daniel"},20,{"$f":"'D. Jenni'!$L$8","v":850},{"$f":"'D. Jenni'!$J$13","v":79},{"$f":"'D. Jenni'!$J$14","v":76},{"$f":"'D. Jenni'!$J$15","v":75}]

{"sheet":"Gutschein","index":36,"n_rows":35,"n_cols":2,"rows_kept":35,"cut":false,"hidden":false,"merged":[]}
[]
["Gutscheine"]
["Name","Wo"]
[{"$f":"'A. Erb'!A2","v":"Erb Alex"},{"$f":"'A. Erb'!B3","v":"Migros"}]
[{"$f":"'A. Morello'!A2","v":"Morello Adrian"},{"$f":"'A. Morello'!B3","v":0}]
[{"$f":"'D. Jenni'!A2","v":"Jenni Daniel"},{"$f":"'D. Jenni'!B3","v":"Coop"}]
[{"$f":"'E .Rüfli'!A2","v":"Rüfli Ernst"},{"$f":"'E .Rüfli'!B3","v":"Coop"}]
[{"$f":"'H. Stuber'!A2","v":"Stuber Hans "},{"$f":"'H. Stuber'!B3","v":"Coop"}]
[{"$f":"'J. Zbinden'!A2","v":"Zbinden Jakob"},{"$f":"'J. Zbinden'!B3","v":"Coop"}]
[{"$f":"'A. Kunz'!B1","v":"Kunz Alfred"},{"$f":"'A. Kunz'!B2","v":"Coop"}]
[{"$f":"'P. Friedli'!A2","v":"Friedli Peter"},{"$f":"'P. Friedli'!B3","v":"Denner"}]
[{"$f":"'H. Bürgi'!A2","v":"Bürgi Heinz"},{"$f":"'H. Bürgi'!B3","v":"Migros"}]
[{"$f":"'M. Rüfli'!A2","v":"Rüfli Magdalena "},{"$f":"'M. Rüfli'!B3","v":0}]
[{"$f":"'H.J. Schneider'!A2","v":"Schneider Hans-Jörg "},{"$f":"'H.J. Schneider'!B3","v":0}]
[{"$f":"'R. Eschmann'!A2","v":"Eschmann Roger"},{"$f":"'R. Eschmann'!B3","v":"Migros"}]
[{"$f":"'A. Stähli'!B1","v":"Stähli André "},{"$f":"'A. Stähli'!B2","v":0}]
[{"$f":"'F. Brügger'!B1","v":"Brügger Fred"},{"$f":"'F. Brügger'!B2","v":0}]
[{"$f":"'S. Kocher'!A2","v":"Kocher Sascha"},{"$f":"'S. Kocher'!B3","v":"Migros"}]
[{"$f":"'C. Erb'!A2","v":"Erb Corinne"},{"$f":"'C. Erb'!B3","v":0}]
[{"$f":"'T. Abrecht'!A2","v":"Abrecht Theodor "},{"$f":"'T. Abrecht'!B3","v":"Migros"}]
[{"$f":"'H. Wanner'!A2","v":"Wanner Heinz "},{"$f":"'H. Wanner'!B3","v":0}]
[{"$f":"'S. Wälti'!A2","v":"Wälti Sascha "},{"$f":"'S. Wälti'!B3","v":"Migros"}]
[{"$f":"'R. Friedelance'!A2","v":"Friedelance Roger "},{"$f":"'R. Friedelance'!B3","v":0}]
[{"$f":"'S. Morello'!A2","v":"Morello Sandro "},{"$f":"'S. Morello'!B3","v":"Migros"}]
[{"$f":"'P. Abrecht'!B1","v":"Abrecht Pascal "},{"$f":"'P. Abrecht'!B2","v":"Coop"}]
[{"$f":"'O. Tellenbach'!B1","v":"Tellenbach Otto "},{"$f":"'O. Tellenbach'!B2","v":"Coop"}]
[{"$f":"'M. Käppeli'!A2","v":"Käppeli Mathias"},{"$f":"'M. Käppeli'!B3","v":"Denner"}]
[{"$f":"'R. Liechti'!A2","v":"Rodolphe Liechti"},{"$f":"'R. Liechti'!B3","v":"Migros"}]
[{"$f":"'H. Lüthi'!B1","v":"Lüthi Hans "},{"$f":"'H. Lüthi'!C2","v":0}]
[{"$f":"'M. Huggler'!B1","v":"Huggler Marylène "},{"$f":"'M. Huggler'!B2","v":"Coop"}]
[{"$f":"'R. Krähenbühl'!B1","v":"Krähenbühl Rita"},{"$f":"'R. Krähenbühl'!B2","v":"Migros"}]
[{"$f":"'Ch. Liechti'!B1","v":"Liechti Charles "},{"$f":"'Ch. Liechti'!B2","v":"Coop"}]
[{"$f":"'G. Steiner'!B1","v":"Gladys Steiner"},{"$f":"'G. Steiner'!B2","v":0}]
[{"$f":"'D. Wyss'!B1","v":"Wyss Daniel"},{"$f":"'D. Wyss'!B2","v":0}]
[{"$f":"'B. Gatschet'!B1","v":"Gatschet Beat"},{"$f":"'B. Gatschet'!B2","v":0}]